{"text_format":"1","workbook":"xlsx","n_sheets":37,"sheets":["WSTĘP","INSTRUKCJA","REJESTRACJA","LISTA","WYNIKI","K","1","2","3","4","5","6","7","8","9","10","11","12","13","14","15","16","17","18","19","20","21","22","23","24","25","26","27","28","29","30","31"],"not_rendered":{"charts":0,"images":2,"macros":1,"external_links":0,"defined_names":0,"comments":0,"pivot_tables":0},"unopened":[],"bounds":{"document_bytes":16777216,"sheet_cells":100000,"rows_first":2000,"rows_last":500,"rows_between":2000,"halvings":0,"cell_chars":16384,"cell_head_chars":4096},"cells_cut":0,"cells_raw":0,"read":"whole","date_system":"1900"}

{"sheet":"WSTĘP","index":0,"n_rows":18,"n_cols":11,"rows_kept":18,"cut":false,"hidden":false,"merged":[[16,10,16,19],[17,10,17,19],[3,6,3,18],[4,6,5,18],[9,6,9,18],[10,6,10,18],[11,6,11,18],[15,10,15,19]]}
[]
[]
[]
[null,null,null,null,null,null,"SPORTOWY KLUB MODELARSKI "]
[null,null,null,null,null,null,"w Bobrownikach"]
[]
[]
[]
[]
[null,null,null,null,null,null,"PROGRAM OCENY ZAWODNIKÓW"]
[null,null,null,null,null,null,"STARTUJĄCYCH W ZAWODACH MAKIET "]
[null,null,null,null,null,null,"KLASY F4H-P"]
[]
[]
[]
[null,null,null,null,null,null,null,null,null,null,"Opracowany przez Stanisława SZCZĘŚNIAKA"]
[null,null,null,null,null,null,null,null,null,null,"na podstawie programu Kolegi Sławomira SOSNOWSKIEGO"]
[null,null,null,null,null,null,null,null,null,null,"z Płockiej Grupy Modelarskiej RC"]

{"sheet":"INSTRUKCJA","index":1,"n_rows":17,"n_cols":3,"rows_kept":17,"cut":false,"hidden":false,"merged":[]}
[]
["INSTRUKCJA PROGRAMU SĘDZIOWSKIEGO"]
[]
[null,"1.","Pracę w programie rozpocznij w arkuszu \"REJESTRACJA\" wpisując w odpowiednie kolumny Nazwisko i Imię Zawodnika oraz nazwę modelu samolotu którym startuje w zawodach,"]
[null,"2.","Po wylosowaniu przez zawodników numerów startowych wpisz je przed Nazwiskiem Zawodnika w kolumnie                        \"Nr. startowy\", w arkuszu \"REJESTRACJA\","]
[null,"3.","Uwaga!   Wykaz zawodników możesz uzupełnić w każdej chwili o \"spóźnialskich\" wpisując w kolejnych wierszach arkuszu \"REJESTRACJA\" ich Nazwisko i Imię, nazwę modelu i nr startowy,"]
[null,"4.","Przed rozpoczęciem zawodów przejdź do listy zawodników, klikając na  przycisk \"LISTA\" lub na listwie arkuszy (listwa na dole strony) arkusz o nazwie \"LISTA\". "]
[null,"5.","Otworzy się lista zawodników, lecz nie w kolejności numerów startowych. "]
[null,"6.","Aby uporządkować listę według numerów startowych kliknij przycisk \"SORTUJ\". Lista zawodników uporządkowana zostanie według kolejności startów (numerów startowych). W przypadku konieczności powrotu do listy nieuporządkowanej kliknij przycisk \"WRÓĆ\""]
[null,"7.","Aby przejść do karty oceny danego zawodnika kliknij w arkuszu \"LISTA\" na jego numer startowy. Otworzy się \"Karta oceny Zawodnika\", z wypełnionym automatycznie jego Nazwiskiem i Imieniem, nazwą modelu i numerem startowym."]
[null,"8.","W \"Karcie Oceny Zawodnika\" wpisujesz w odpowiednie pola tylko punktację sędziowską za ocenę statyczną, ewentualnie zaznaczasz wpisując \"X\" w komórkce G13, że model według sędziów \"wykonany został od podstaw\" oraz  oceny z poszczególnych lotów. Wyniki obliczane są automatycznie i wyświetlane w odpowiednich polach,"]
[null,"9.","Po wpisaniu ocen sędziowskich w \"Karcie oceny Zawodnika\" powróć do listy zawodników klikając przycisk \"LISTA\" lub wybierając na listwie arkuszy arkusz \"LISTA\","]
[null,"10.","Powtarzając czynności opisane w punktach 7 - 9 wpisz oceny sędziowskie z oceny statycznej i lotów wszystkich zawodników."]
[null,"11.","Po wpisaniu  ocen sędziowskich ostatniego zawodnika tak po zakończeniu oceny statycznej, czy danej kolejki lotów kliknij przycisk \"WYNIKI\" lub wybierz na listwie arkuszy, arkusz \"WYNIKI\", w którym automatycznie otrzymasz wyniki po poszczególych etapach zawodów oraz końcowe po zakończeniu zawodów,"]
[]
[null,"UWAGA! ","Staraj się \"poruszać pomiędzy arkuszami wykorzystując przyciski umieszczone po prawej stronie tablic, lub listwę arkuszy na dole strony. "]
[null,null,"Najwygodniejszą formą przechodzenia z \"LISTY STARTOWEJ\" na \"Kartę oceny Zawodnika\" jest kliknięcie jego numeru startowego."]

{"sheet":"REJESTRACJA","index":2,"n_rows":40,"n_cols":10,"rows_kept":40,"cut":false,"hidden":false,"merged":[[24,9,25,9],[7,9,11,9],[0,0,0,3],[2,6,4,6],[0,4,1,4],[2,0,4,0],[2,2,4,2],[2,3,4,3],[2,4,4,4]]}
["Rejestracja Zawodników F4H-P Bobrowniki"]
[]
["Lp.",null,"Nr start.","NAZWISKO i Imię ","model",null,"Tu jest prawda czy fałsz"]
[]
[]
[]
[1,null,"2.","3.",4]
["1.",null,null,null,null,null,{"$f":"ISBLANK(D8)","v":true},{"$f":"IF(G8=FALSE,C8,33)","v":33}]
["2.",null,null,null,null,null,true,{"$f":"IF(G9=FALSE,C9,33)","v":33}]
["3.",null,null,null,null,null,true,33]
["4.",null,null,null,null,null,true,33]
["5.",null,null,null,null,null,true,33]
["6.",null,null,null,null,null,true,33]
["7.",null,null,null,null,null,true,33]
["8.",null,null,null,null,null,true,33]
["9.",null,null,null,null,null,true,33]
["10.",null,null,null,null,null,true,33]
["11.",null,null,null,null,null,true,33]
["12.",null,null,null,null,null,true,33]
["13.",null,null,null,null,null,true,33]
["14.",null,null,null,null,null,true,33]
["15.",null,null,null,null,null,true,33]
["16.",null,null,null,null,null,true,33]
["17.",null,null,null,null,null,true,33]
["18.",null,null,null,null,null,true,33,null,"LISTA"]
["19.",null,null,null,null,null,true,33]
["20.",null,null,null,null,null,true,33]
["21.",null,null,null,null,null,true,33]
["22.",null,null,null,null,null,true,33]
["23.",null,null,null,null,null,true,33]
["24.",null,null,null,null,null,true,33]
["25.",null,null,null,null,null,true,33]
["26.",null,null,null,null,null,true,33]
["27.",null,null,null,null,null,true,33]
["28.",null,null,null,null,null,true,33]
["29.",null,null,null,null,null,true,33]
["30.",null,null,null,null,null,true,33]
[]
[]
[null,null,{"$f":"IF(G40=TRUE,33,0)","v":0}]

{"sheet":"LISTA","index":3,"n_rows":39,"n_cols":16,"rows_kept":39,"cut":false,"hidden":false,"merged":[[0,5,0,12],[2,0,4,0],[3,6,4,6],[3,7,3,10],[2,11,4,11],[2,12,4,12],[27,15,28,15],[2,4,4,4],[2,6,2,10],[2,5,4,5],[2,3,4,3],[23,15,24,15]]}
["Lista startowa F4H-P",null,null,null,null,"UWAGA:  W tym arkuszu operujemy jedynie przyciskami po prawej stronie arkusz. Przyciski \"SORTUJ\" i \"WRÓĆ\" sortują dane,          a przyciski \"WYNIKI\" i \"REJESTR\" przenoszą do arkuszy o tych nazwach.                                                                                                          Kliknięcie na \"Nr startowy\" przenosi na \"Kartę oceny zawodnika\" posiadającego ten numer."]
[]
["Lp.",null,null,"Nr start.","NAZWISKO i Imię ","model","Ocena",null,null,null,null,"Wynik końcowy","Miejsce"]
[null,null,null,null,null,null,"Statyczna","Loty"]
[null,null,null,null,null,null,null,"I lot","II lot","III lot","Ogólna"]
[]
[1,null,2,3,4,5,6,7,8,9,10,11,12]
["1.",null,1,{"$f":"'1'!$R$7","v":33},{"$f":"'1'!$L$1","v":0},{"$f":"'1'!$L$2","v":0},{"$f":"IF(N8=FALSE,'1'!$K$12,0)","v":0},{"$f":"IF(N8=FALSE,'1'!$K$30,0)","v":0},{"$f":"IF(N8=FALSE,'1'!$O$30,0)","v":0},{"$f":"IF(N8=FALSE,'1'!$S$30,0)","v":0},{"$f":"ROUND(((H8+I8+J8)-MIN(H8,I8,J8))/2,2)","v":0},{"$f":"IF(K8>0,G8+K8,0)","v":0},{"$f":"IF(L8>0,RANK($L8,$L$8:$L$38),0)","v":0},{"$f":"OR(ISNUMBER(E8),ISBLANK(E8))","v":true}]
["2.",null,2,{"$f":"'2'!$R$7","v":33},{"$f":"'2'!$L$1","v":0},{"$f":"'2'!$L$2","v":0},{"$f":"IF(N9=FALSE,'2'!$K$12,0)","v":0},{"$f":"IF(N9=FALSE,'2'!$K$30,0)","v":0},{"$f":"IF(N9=FALSE,'2'!$O$30,0)","v":0},{"$f":"IF(N9=FALSE,'2'!$S$30,0)","v":0},0,0,0,true]
["3.",null,3,{"$f":"'3'!$R$7","v":33},{"$f":"'3'!$L$1","v":0},{"$f":"'3'!$L$2","v":0},{"$f":"IF(N10=FALSE,'3'!$K$12,0)","v":0},{"$f":"IF(N10=FALSE,'3'!$K$30,0)","v":0},{"$f":"IF(N10=FALSE,'3'!$O$30,0)","v":0},{"$f":"IF(N10=FALSE,'3'!$S$30,0)","v":0},0,0,0,true]
["4.",null,4,{"$f":"'4'!$R$7","v":33},{"$f":"'4'!$L$1","v":0},{"$f":"'4'!$L$2","v":0},{"$f":"IF(N11=FALSE,'4'!$K$12,0)","v":0},{"$f":"IF(N11=FALSE,'4'!$K$30,0)","v":0},{"$f":"IF(N11=FALSE,'4'!$O$30,0)","v":0},{"$f":"IF(N11=FALSE,'4'!$S$30,0)","v":0},0,0,0,true]
["5.",null,5,{"$f":"'5'!$R$7","v":33},{"$f":"'5'!$L$1","v":0},{"$f":"'5'!$L$2","v":0},{"$f":"IF(N12=FALSE,'5'!$K$12,0)","v":0},{"$f":"IF(N12=FALSE,'5'!$K$30,0)","v":0},{"$f":"IF(N12=FALSE,'5'!$O$30,0)","v":0},{"$f":"IF(N12=FALSE,'5'!$S$30,0)","v":0},0,0,0,true,null,"SORTUJ"]
["6.",null,6,{"$f":"'6'!$R$7","v":33},{"$f":"'6'!$L$1","v":0},{"$f":"'6'!$L$2","v":0},{"$f":"IF(N13=FALSE,'6'!$K$12,0)","v":0},{"$f":"IF(N13=FALSE,'6'!$K$30,0)","v":0},{"$f":"IF(N13=FALSE,'6'!$O$30,0)","v":0},{"$f":"IF(N13=FALSE,'6'!$S$30,0)","v":0},0,0,0,true]
["7.",null,7,{"$f":"'7'!$R$7","v":33},{"$f":"'7'!$L$1","v":0},{"$f":"'7'!$L$2","v":0},{"$f":"IF(N14=FALSE,'7'!$K$12,0)","v":0},{"$f":"IF(N14=FALSE,'7'!$K$30,0)","v":0},{"$f":"IF(N14=FALSE,'7'!$O$30,0)","v":0},{"$f":"IF(N14=FALSE,'7'!$S$30,0)","v":0},0,0,0,true]
["8.",null,8,{"$f":"'8'!$R$7","v":33},{"$f":"'8'!$L$1","v":0},{"$f":"'8'!$L$2","v":0},{"$f":"IF(N15=FALSE,'8'!$K$12,0)","v":0},{"$f":"IF(N15=FALSE,'8'!$K$30,0)","v":0},{"$f":"IF(N15=FALSE,'8'!$O$30,0)","v":0},{"$f":"IF(N15=FALSE,'8'!$S$30,0)","v":0},0,0,0,true]
["9.",null,9,{"$f":"'9'!$R$7","v":33},{"$f":"'9'!$L$1","v":0},{"$f":"'9'!$L$2","v":0},{"$f":"IF(N16=FALSE,'9'!$K$12,0)","v":0},{"$f":"IF(N16=FALSE,'9'!$K$30,0)","v":0},{"$f":"IF(N16=FALSE,'9'!$O$30,0)","v":0},{"$f":"IF(N16=FALSE,'9'!$S$30,0)","v":0},0,0,0,true]
["10.",null,10,{"$f":"'10'!$R$7","v":33},{"$f":"'10'!$L$1","v":0},{"$f":"'10'!$L$2","v":0},{"$f":"IF(N17=FALSE,'9'!$K$12,0)","v":0},{"$f":"IF(N17=FALSE,'10'!$K$30,0)","v":0},{"$f":"IF(N17=FALSE,'10'!$O$30,0)","v":0},{"$f":"IF(N17=FALSE,'10'!$S$30,0)","v":0},0,0,0,true]
["11.",null,11,{"$f":"'11'!$R$7","v":33},{"$f":"'11'!$L$1","v":0},{"$f":"'11'!$L$2","v":0},{"$f":"IF(N18=FALSE,'9'!$K$12,0)","v":0},{"$f":"IF(N18=FALSE,'11'!$K$30,0)","v":0},{"$f":"IF(N18=FALSE,'11'!$O$30,0)","v":0},{"$f":"IF(N18=FALSE,'11'!$S$30,0)","v":0},0,0,0,true]
["12.",null,12,{"$f":"'12'!$R$7","v":33},null,{"$f":"'12'!$L$2","v":0},{"$f":"IF(N19=FALSE,'9'!$K$12,0)","v":0},{"$f":"IF(N19=FALSE,'12'!$K$30,0)","v":0},{"$f":"IF(N19=FALSE,'12'!$O$30,0)","v":0},{"$f":"IF(N19=FALSE,'12'!$S$30,0)","v":0},0,0,0,true]
["13.",null,13,{"$f":"'13'!$R$7","v":33},{"$f":"'13'!$L$1","v":0},{"$f":"'13'!$L$2","v":0},{"$f":"IF(N20=FALSE,'9'!$K$12,0)","v":0},{"$f":"IF(N20=FALSE,'13'!$K$30,0)","v":0},{"$f":"IF(N20=FALSE,'13'!$O$30,0)","v":0},{"$f":"IF(N20=FALSE,'13'!$S$30,0)","v":0},0,0,0,true]
["14.",null,14,{"$f":"'14'!$R$7","v":33},{"$f":"'14'!$L$1","v":0},{"$f":"'14'!$L$2","v":0},{"$f":"IF(N21=FALSE,'9'!$K$12,0)","v":0},{"$f":"IF(N21=FALSE,'14'!$K$30,0)","v":0},{"$f":"IF(N21=FALSE,'14'!$O$30,0)","v":0},{"$f":"IF(N21=FALSE,'14'!$S$30,0)","v":0},0,0,0,true]
["15.",null,15,{"$f":"'15'!$R$7","v":33},{"$f":"'15'!$L$1","v":0},{"$f":"'15'!$L$2","v":0},{"$f":"IF(N22=FALSE,'15'!$K$12,0)","v":0},{"$f":"IF(N22=FALSE,'15'!$K$30,0)","v":0},{"$f":"IF(N22=FALSE,'15'!$O$30,0)","v":0},{"$f":"IF(N22=FALSE,'15'!$S$30,0)","v":0},0,0,0,true]
["16.",null,16,{"$f":"'16'!$R$7","v":33},{"$f":"'16'!$L$1","v":0},{"$f":"'16'!$L$2","v":0},{"$f":"IF(N23=FALSE,'16'!$K$12,0)","v":0},{"$f":"IF(N23=FALSE,'16'!$K$30,0)","v":0},{"$f":"IF(N23=FALSE,'16'!$O$30,0)","v":0},{"$f":"IF(N23=FALSE,'16'!$S$30,0)","v":0},0,0,0,true]
["17.",null,17,{"$f":"'17'!$R$7","v":33},{"$f":"'17'!$L$1","v":0},{"$f":"'17'!$L$2","v":0},{"$f":"IF(N24=FALSE,'17'!$K$12,0)","v":0},{"$f":"IF(N24=FALSE,'17'!$K$30,0)","v":0},{"$f":"IF(N24=FALSE,'17'!$O$30,0)","v":0},{"$f":"IF(N24=FALSE,'17'!$S$30,0)","v":0},0,0,0,true,null,"WYNIKI"]
["18.",null,18,{"$f":"'18'!$R$7","v":33},{"$f":"'18'!$L$1","v":0},{"$f":"'18'!$L$2","v":0},{"$f":"IF(N25=FALSE,'18'!$K$12,0)","v":0},{"$f":"IF(N25=FALSE,'18'!$K$30,0)","v":0},{"$f":"IF(N25=FALSE,'18'!$O$30,0)","v":0},{"$f":"IF(N25=FALSE,'18'!$S$30,0)","v":0},0,0,0,true]
["19.",null,19,{"$f":"'19'!$R$7","v":33},{"$f":"'19'!$L$1","v":0},{"$f":"'19'!$L$2","v":0},{"$f":"IF(N26=FALSE,'19'!$K$12,0)","v":0},{"$f":"IF(N26=FALSE,'19'!$K$30,0)","v":0},{"$f":"IF(N26=FALSE,'19'!$O$30,0)","v":0},{"$f":"IF(N26=FALSE,'19'!$S$30,0)","v":0},0,0,0,true]
["20.",null,20,{"$f":"'20'!$R$7","v":33},{"$f":"'20'!$L$1","v":0},{"$f":"'20'!$L$2","v":0},{"$f":"IF(N27=FALSE,'20'!$K$12,0)","v":0},{"$f":"IF(N27=FALSE,'20'!$K$30,0)","v":0},{"$f":"IF(N27=FALSE,'20'!$O$30,0)","v":0},{"$f":"IF(N27=FALSE,'20'!$S$30,0)","v":0},{"$f":"ROUND(((H27+I27+J27)-MIN(H27,I27,J27))/2,2)+0","v":0},{"$f":"IF(K27>0,G27+K27,0)+0","v":0},0,true]
["21.",null,21,{"$f":"'21'!$R$7","v":33},{"$f":"'21'!$L$1","v":0},{"$f":"'21'!$L$2","v":0},{"$f":"IF(N28=FALSE,'21'!$K$12,0)","v":0},{"$f":"IF(N28=FALSE,'21'!$K$30,0)","v":0},{"$f":"IF(N28=FALSE,'21'!$O$30,0)","v":0},{"$f":"IF(N28=FALSE,'21'!$S$30,0)","v":0},{"$f":"ROUND(((H28+I28+J28)-MIN(H28,I28,J28))/2,2)","v":0},{"$f":"IF(K28>0,G28+K28,0)","v":0},0,true,null,"REJESTR."]
["22.",null,22,{"$f":"'22'!$R$7","v":33},{"$f":"'22'!$L$1","v":0},{"$f":"'22'!$L$2","v":0},{"$f":"IF(N29=FALSE,'22'!$K$12,0)","v":0},{"$f":"IF(N29=FALSE,'22'!$K$30,0)","v":0},{"$f":"IF(N29=FALSE,'22'!$O$30,0)","v":0},{"$f":"IF(N29=FALSE,'22'!$S$30,0)","v":0},0,0,0,true]
["23.",null,23,{"$f":"'23'!$R$7","v":33},{"$f":"'23'!$L$1","v":0},{"$f":"'23'!$L$2","v":0},{"$f":"IF(N30=FALSE,'23'!$K$12,0)","v":0},{"$f":"IF(N30=FALSE,'23'!$K$30,0)","v":0},{"$f":"IF(N30=FALSE,'23'!$O$30,0)","v":0},{"$f":"IF(N30=FALSE,'23'!$S$30,0)","v":0},0,0,0,true]
["24.",null,24,{"$f":"'24'!$R$7","v":33},{"$f":"'24'!$L$1","v":0},{"$f":"'24'!$L$2","v":0},{"$f":"IF(N31=FALSE,'24'!$K$12,0)","v":0},{"$f":"IF(N31=FALSE,'24'!$K$30,0)","v":0},{"$f":"IF(N31=FALSE,'4'!$O$30,0)","v":0},{"$f":"IF(N31=FALSE,'24'!$S$30,0)","v":0},0,0,0,true]
["25.",null,25,{"$f":"'25'!$R$7","v":33},{"$f":"'25'!$L$1","v":0},{"$f":"'25'!$L$2","v":0},{"$f":"IF(N32=FALSE,'25'!$K$12,0)","v":0},{"$f":"IF(N32=FALSE,'25'!$K$30,0)","v":0},{"$f":"IF(N32=FALSE,'25'!$O$30,0)","v":0},{"$f":"IF(N32=FALSE,'25'!$S$30,0)","v":0},0,0,0,true]
["26.",null,26,{"$f":"'26'!$R$7","v":33},{"$f":"'26'!$L$1","v":0},{"$f":"'26'!$L$2","v":0},{"$f":"IF(N33=FALSE,'26'!$K$12,0)","v":0},{"$f":"IF(N33=FALSE,'26'!$K$30,0)","v":0},{"$f":"IF(N33=FALSE,'26'!$O$30,0)","v":0},{"$f":"IF(N33=FALSE,'26'!$S$30,0)","v":0},0,0,0,true]
["27.",null,27,{"$f":"'27'!$R$7","v":33},{"$f":"'27'!$L$1","v":0},{"$f":"'27'!$L$2","v":0},{"$f":"IF(N34=FALSE,'27'!$K$12,0)","v":0},{"$f":"IF(N34=FALSE,'27'!$K$30,0)","v":0},{"$f":"IF(N34=FALSE,'27'!$O$30,0)","v":0},{"$f":"IF(N34=FALSE,'27'!$S$30,0)","v":0},0,0,0,true]
["28.",null,28,{"$f":"'28'!$R$7","v":33},{"$f":"'28'!$L$1","v":0},{"$f":"'28'!$L$2","v":0},{"$f":"IF(N35=FALSE,'28'!$K$12,0)","v":0},{"$f":"IF(N35=FALSE,'28'!$K$30,0)","v":0},{"$f":"IF(N35=FALSE,'28'!$O$30,0)","v":0},{"$f":"IF(N35=FALSE,'28'!$S$30,0)","v":0},0,0,0,true]
["29.",null,29,{"$f":"'29'!$R$7","v":33},{"$f":"'29'!$L$1","v":0},{"$f":"'29'!$L$2","v":0},{"$f":"IF(N36=FALSE,'29'!$K$12,0)","v":0},{"$f":"IF(N36=FALSE,'29'!$K$30,0)","v":0},{"$f":"IF(N36=FALSE,'29'!$O$30,0)","v":0},{"$f":"IF(N36=FALSE,'29'!$S$30,0)","v":0},0,0,0,true]
["30.",null,30,{"$f":"'30'!$R$7","v":33},{"$f":"'30'!$L$1","v":0},{"$f":"'30'!$L$2","v":0},{"$f":"IF(N37=FALSE,'30'!$K$12,0)","v":0},{"$f":"IF(N37=FALSE,'30'!$K$30,0)","v":0},{"$f":"IF(N37=FALSE,'30'!$O$30,0)","v":0},{"$f":"IF(N37=FALSE,'30'!$S$30,0)","v":0},0,0,0,true]
[]
[null,null,null,null,null,null,null,null,null,null,null,null,{"$f":"MAX(M8:M38)+1","v":1}]

{"sheet":"WYNIKI","index":4,"n_rows":40,"n_cols":16,"rows_kept":40,"cut":false,"hidden":false,"merged":[[20,15,21,15],[24,15,25,15],[4,6,5,6],[4,7,4,10],[3,6,3,10],[0,6,2,12],[0,0,0,5],[3,3,5,3],[3,4,5,4],[3,5,5,5],[3,0,5,2],[3,11,5,11],[3,12,5,12]]}
["UZYSKANE WYNIKI I ZAJĘTE MIEJSCE ",null,null,null,null,null,"UWAGA:       W tym arkuszu operujemy jedynie przyciskami po prawej stronie arkusza. Przyciski ,\"SORTUJ\" I \"WRÓĆ\" sortują dane, a \"LISTA\" i \"REJESTR\" przenoszą do arkuszy o tych nazwach"]
[]
[]
["Lp.",null,null,"Nr start.","NAZWISKO i Imię ","model","Ocena",null,null,null,null,"Wynik końcowy","Miejsce"]
[null,null,null,null,null,null,"Statyczna","Loty"]
[null,null,null,null,null,null,null,"I lot","II lot","III lot","Ogólna"]
[]
[1,null,2,3,4,5,6,7,8,9,10,11,12,13]
["1.",null,1,{"$f":"LISTA!D8","v":33},{"$f":"LISTA!E8","v":0},{"$f":"LISTA!F8","v":0},{"$f":"LISTA!G8","v":0},{"$f":"LISTA!H8","v":0},{"$f":"LISTA!I8","v":0},{"$f":"LISTA!J8","v":0},{"$f":"ROUND(((H9+I9+J9)-MIN(H9,I9,J9))/2,2)","v":0},{"$f":"IF(K9>0,G9+K9,0)","v":0},{"$f":"IF(L9>0,RANK($L9,$L$9:$L$39),0)","v":0},{"$f":"IF(M9>0,M9,33)","v":33}]
["2.",null,2,{"$f":"LISTA!D9","v":33},{"$f":"LISTA!E9","v":0},{"$f":"LISTA!F9","v":0},{"$f":"LISTA!G9","v":0},{"$f":"LISTA!H9","v":0},{"$f":"LISTA!I9","v":0},{"$f":"LISTA!J9","v":0},0,0,0,33]
["3.",null,3,{"$f":"LISTA!D10","v":33},{"$f":"LISTA!E10","v":0},{"$f":"LISTA!F10","v":0},{"$f":"LISTA!G10","v":0},{"$f":"LISTA!H10","v":0},{"$f":"LISTA!I10","v":0},{"$f":"LISTA!J10","v":0},0,0,0,33,null,"SORTUJ"]
["4.",null,4,{"$f":"LISTA!D11","v":33},{"$f":"LISTA!E11","v":0},{"$f":"LISTA!F11","v":0},{"$f":"LISTA!G11","v":0},{"$f":"LISTA!H11","v":0},{"$f":"LISTA!I11","v":0},{"$f":"LISTA!J11","v":0},0,0,0,33]
["5.",null,5,{"$f":"LISTA!D12","v":33},{"$f":"LISTA!E12","v":0},{"$f":"LISTA!F12","v":0},{"$f":"LISTA!G12","v":0},{"$f":"LISTA!H12","v":0},{"$f":"LISTA!I12","v":0},{"$f":"LISTA!J12","v":0},0,0,0,33]
["6.",null,6,{"$f":"LISTA!D13","v":33},{"$f":"LISTA!E13","v":0},{"$f":"LISTA!F13","v":0},{"$f":"LISTA!G13","v":0},{"$f":"LISTA!H13","v":0},{"$f":"LISTA!I13","v":0},{"$f":"LISTA!J13","v":0},0,0,0,33]
["7.",null,7,{"$f":"LISTA!D14","v":33},{"$f":"LISTA!E14","v":0},{"$f":"LISTA!F14","v":0},{"$f":"LISTA!G14","v":0},{"$f":"LISTA!H14","v":0},{"$f":"LISTA!I14","v":0},{"$f":"LISTA!J14","v":0},0,0,0,33]
["8.",null,8,{"$f":"LISTA!D15","v":33},{"$f":"LISTA!E15","v":0},{"$f":"LISTA!F15","v":0},{"$f":"LISTA!G15","v":0},{"$f":"LISTA!H15","v":0},{"$f":"LISTA!I15","v":0},{"$f":"LISTA!J15","v":0},0,0,0,33]
["9.",null,9,{"$f":"LISTA!D16","v":33},{"$f":"LISTA!E16","v":0},{"$f":"LISTA!F16","v":0},{"$f":"LISTA!G16","v":0},{"$f":"LISTA!H16","v":0},{"$f":"LISTA!I16","v":0},{"$f":"LISTA!J16","v":0},0,0,0,33]
["10.",null,10,{"$f":"LISTA!D17","v":33},{"$f":"LISTA!E17","v":0},{"$f":"LISTA!F17","v":0},{"$f":"LISTA!G17","v":0},{"$f":"LISTA!H17","v":0},{"$f":"LISTA!I17","v":0},{"$f":"LISTA!J17","v":0},0,0,0,33]
["11.",null,11,{"$f":"LISTA!D18","v":33},{"$f":"LISTA!E18","v":0},{"$f":"LISTA!F18","v":0},{"$f":"LISTA!G18","v":0},{"$f":"LISTA!H18","v":0},{"$f":"LISTA!I18","v":0},{"$f":"LISTA!J18","v":0},0,0,0,33]
["12.",null,12,{"$f":"LISTA!D19","v":33},{"$f":"LISTA!E19","v":0},{"$f":"LISTA!F19","v":0},{"$f":"LISTA!G19","v":0},{"$f":"LISTA!H19","v":0},{"$f":"LISTA!I19","v":0},{"$f":"LISTA!J19","v":0},0,0,0,33]
["13.",null,13,{"$f":"LISTA!D20","v":33},{"$f":"LISTA!E20","v":0},{"$f":"LISTA!F20","v":0},{"$f":"LISTA!G20","v":0},{"$f":"LISTA!H20","v":0},{"$f":"LISTA!I20","v":0},{"$f":"LISTA!J20","v":0},0,0,0,33,null,"LISTA"]
["14.",null,14,{"$f":"LISTA!D21","v":33},{"$f":"LISTA!E21","v":0},{"$f":"LISTA!F21","v":0},{"$f":"LISTA!G21","v":0},{"$f":"LISTA!H21","v":0},{"$f":"LISTA!I21","v":0},{"$f":"LISTA!J21","v":0},0,0,0,33]
["15.",null,15,{"$f":"LISTA!D22","v":33},{"$f":"LISTA!E22","v":0},{"$f":"LISTA!F22","v":0},{"$f":"LISTA!G22","v":0},{"$f":"LISTA!H22","v":0},{"$f":"LISTA!I22","v":0},{"$f":"LISTA!J22","v":0},0,0,0,33]
["16.",null,16,{"$f":"LISTA!D23","v":33},{"$f":"LISTA!E23","v":0},{"$f":"LISTA!F23","v":0},{"$f":"LISTA!G23","v":0},{"$f":"LISTA!H23","v":0},{"$f":"LISTA!I23","v":0},{"$f":"LISTA!J23","v":0},0,0,0,33]
["17.",null,17,{"$f":"LISTA!D24","v":33},{"$f":"LISTA!E24","v":0},{"$f":"LISTA!F24","v":0},{"$f":"LISTA!G24","v":0},{"$f":"LISTA!H24","v":0},{"$f":"LISTA!I24","v":0},{"$f":"LISTA!J24","v":0},0,0,0,33,null,"REJESTR."]
["18.",null,18,{"$f":"LISTA!D25","v":33},{"$f":"LISTA!E25","v":0},{"$f":"LISTA!F25","v":0},{"$f":"LISTA!G25","v":0},{"$f":"LISTA!H25","v":0},{"$f":"LISTA!I25","v":0},{"$f":"LISTA!J25","v":0},0,0,0,33]
["19.",null,19,{"$f":"LISTA!D26","v":33},{"$f":"LISTA!E26","v":0},{"$f":"LISTA!F26","v":0},{"$f":"LISTA!G26","v":0},{"$f":"LISTA!H26","v":0},{"$f":"LISTA!I26","v":0},{"$f":"LISTA!J26","v":0},0,0,0,33]
["20.",null,20,{"$f":"LISTA!D27","v":33},{"$f":"LISTA!E27","v":0},{"$f":"LISTA!F27","v":0},{"$f":"LISTA!G27","v":0},{"$f":"LISTA!H27","v":0},{"$f":"LISTA!I27","v":0},{"$f":"LISTA!J27","v":0},{"$f":"ROUND(((H28+I28+J28)-MIN(H28,I28,J28))/2,2)+0","v":0},{"$f":"IF(K28>0,G28+K28,0)+0","v":0},0,33]
["21.",null,21,{"$f":"LISTA!D28","v":33},{"$f":"LISTA!E28","v":0},{"$f":"LISTA!F28","v":0},{"$f":"LISTA!G28","v":0},{"$f":"LISTA!H28","v":0},{"$f":"LISTA!I28","v":0},{"$f":"LISTA!J28","v":0},{"$f":"ROUND(((H29+I29+J29)-MIN(H29,I29,J29))/2,2)","v":0},{"$f":"IF(K29>0,G29+K29,0)","v":0},0,33]
["22.",null,22,{"$f":"LISTA!D29","v":33},{"$f":"LISTA!E29","v":0},{"$f":"LISTA!F29","v":0},{"$f":"LISTA!G29","v":0},{"$f":"LISTA!H29","v":0},{"$f":"LISTA!I29","v":0},{"$f":"LISTA!J29","v":0},0,0,0,33]
["23.",null,23,{"$f":"LISTA!D30","v":33},{"$f":"LISTA!E30","v":0},{"$f":"LISTA!F30","v":0},{"$f":"LISTA!G30","v":0},{"$f":"LISTA!H30","v":0},{"$f":"LISTA!I30","v":0},{"$f":"LISTA!J30","v":0},0,0,0,33]
["24.",null,24,{"$f":"LISTA!D31","v":33},{"$f":"LISTA!E31","v":0},{"$f":"LISTA!F31","v":0},{"$f":"LISTA!G31","v":0},{"$f":"LISTA!H31","v":0},{"$f":"LISTA!I31","v":0},{"$f":"LISTA!J31","v":0},0,0,0,33]
["25.",null,25,{"$f":"LISTA!D32","v":33},{"$f":"LISTA!E32","v":0},{"$f":"LISTA!F32","v":0},{"$f":"LISTA!G32","v":0},{"$f":"LISTA!H32","v":0},{"$f":"LISTA!I32","v":0},{"$f":"LISTA!J32","v":0},0,0,0,33]
["26.",null,26,{"$f":"LISTA!D33","v":33},{"$f":"LISTA!E33","v":0},{"$f":"LISTA!F33","v":0},{"$f":"LISTA!G33","v":0},{"$f":"LISTA!H33","v":0},{"$f":"LISTA!I33","v":0},{"$f":"LISTA!J33","v":0},0,0,0,33]
["27.",null,27,{"$f":"LISTA!D34","v":33},{"$f":"LISTA!E34","v":0},{"$f":"LISTA!F34","v":0},{"$f":"LISTA!G34","v":0},{"$f":"LISTA!H34","v":0},{"$f":"LISTA!I34","v":0},{"$f":"LISTA!J34","v":0},0,0,0,33]
["28.",null,28,{"$f":"LISTA!D35","v":33},{"$f":"LISTA!E35","v":0},{"$f":"LISTA!F35","v":0},{"$f":"LISTA!G35","v":0},{"$f":"LISTA!H35","v":0},{"$f":"LISTA!I35","v":0},{"$f":"LISTA!J35","v":0},0,0,0,33]
["29.",null,29,{"$f":"LISTA!D36","v":33},{"$f":"LISTA!E36","v":0},{"$f":"LISTA!F36","v":0},{"$f":"LISTA!G36","v":0},{"$f":"LISTA!H36","v":0},{"$f":"LISTA!I36","v":0},{"$f":"LISTA!J36","v":0},0,0,0,33]
["30.",null,30,{"$f":"LISTA!D37","v":33},{"$f":"LISTA!E37","v":0},{"$f":"LISTA!F37","v":0},{"$f":"LISTA!G37","v":0},{"$f":"LISTA!H37","v":0},{"$f":"LISTA!I37","v":0},{"$f":"LISTA!J37","v":0},0,0,0,33]
[]
[null,null,null,null,null,null,null,null,null,null,null,null,{"$f":"MAX(M9:M39)+1","v":1}]

{"sheet":"K","index":5,"n_rows":34,"n_cols":5,"rows_kept":34,"cut":false,"hidden":false,"merged":[[19,8,19,9],[20,6,20,9],[14,0,15,3],[14,4,15,4],[18,4,19,4],[16,0,16,4],[17,0,17,4],[32,1,32,3],[33,1,33,3],[13,0,13,4],[26,1,26,3],[27,1,27,3],[28,1,28,3],[29,1,29,3],[30,0,30,4],[31,1,31,3],[20,1,20,3],[21,1,21,3],[22,1,22,3],[23,1,23,3],[24,1,24,3],[18,0,19,0],[18,1,19,3],[11,1,11,3],[12,1,12,3],[6,1,6,3],[25,1,25,3],[7,1,7,3],[8,1,8,3],[9,1,9,3],[10,1,10,3],[0,0,0,4],[1,0,3,4],[4,0,5,0],[4,1,5,3],[4,4,5,4]]}
["WSPÓŁCZYNNIKI \"K\"       (tu możesz zmienić ich wartości)"]
["OCENA STATYCZNA"]
[]
[]
["Lp.","Element oceniany",null,null,"K"]
[]
["1.","Dokladność odwzorowania w skali:"]
["1.1.","Widik z boku",null,null,4]
["1.2.","Widok z góry",null,null,4]
["1.3.","Widok z przodu/tyłu",null,null,4]
["2.","Kolorystyka",null,null,7]
["3.","Oznakowanie",null,null,4]
["4.","Szczegóły",null,null,2]
[]
["BONUS ZA MODEL WYKONANY OD PODSTAW",null,null,null,0.2]
[]
["OCENA LOTÓW"]
["PROGRAM LOTU"]
["Lp.","Manewr/figura",null,null,"K"]
[]
["1.","Start",null,null,11]
["2.","Pokaz dowolny",null,null,7]
["3.","Pokaz dowolny",null,null,7]
["4.","Pokaz dowolny",null,null,7]
["5.","Pokaz dowolny",null,null,7]
["6.","Pokaz dowolny",null,null,7]
["7.","Pokaz dowolny",null,null,7]
["8.","Pokaz dowolny",null,null,7]
["9.","Pokaz dowolny",null,null,7]
["10.","Podejscie do lądowania i lądowanie",null,null,11]
["REALIZM LOTU"]
["1.","Prezentacja lotu",null,null,4]
["2.","Prędkość lotu modelu",null,null,9]
["3.","Płynność lotu",null,null,9]

{"sheet":"1","index":6,"n_rows":30,"n_cols":21,"rows_kept":30,"cut":false,"hidden":false,"merged":[[28,3,28,5],[19,3,19,5],[20,3,20,5],[21,3,21,5],[29,0,29,6],[22,3,22,5],[23,3,23,5],[13,0,28,0],[0,11,0,18],[13,1,24,1],[25,1,28,1],[29,15,29,17],[13,18,14,18],[25,11,25,13],[25,15,25,17],[15,3,15,5],[16,3,16,5],[17,3,17,5],[18,3,18,5],[29,7,29,9],[29,11,29,13],[24,3,24,5],[13,2,14,2],[13,3,14,5],[1,8,1,10],[1,11,1,18],[2,10,3,10],[2,11,11,13],[2,14,3,16],[2,17,3,18],[4,14,5,16],[4,17,5,18],[6,14,7,16],[6,17,11,18],[8,14,11,16],[0,0,1,6],[0,7,1,7],[0,8,0,10],[4,3,4,5],[6,3,6,5],[2,0,11,1],[2,2,3,2],[5,3,5,5],[2,6,3,6],[2,7,2,9],[11,7,11,9],[7,3,7,5],[8,3,8,5],[9,3,9,5],[10,3,10,5],[2,3,3,5],[12,0,12,5],[11,2,11,5],[19,20,20,20],[23,20,24,20],[27,20,28,20],[13,7,13,9],[13,10,14,10],[25,2,25,5],[25,7,25,9],[12,14,12,17],[13,11,13,13],[13,14,14,14],[13,15,13,17],[13,6,14,6],[26,3,26,5],[27,3,27,5]]}
["Karta oceny Zawodnika",null,null,null,null,null,null,{"$f":"REJESTRACJA!H8","v":33},"Nazwisko i Imię Zawodnika;",null,null,{"$f":"REJESTRACJA!D8","v":0}]
[null,null,null,null,null,null,null,null,"Model:",null,null,{"$f":"REJESTRACJA!E8","v":0}]
["OCENA STATYCZNA",null,"Lp.","Element oceniany",null,null,"K","OCENA ",null,null,"WYNIK",null,null,null,"WYNIK KOŃCOWY:",null,null,{"$f":"IF(S13>0,S13+K12,0)","v":0}]
[null,null,null,null,null,null,null,"Sędzia I","Sędzia II","Sędzia III"]
[null,null,"1.","Dokladność odwzorowania w skali:",null,null,null,null,null,null,null,null,null,null,"MIEJSCE:",null,null,{"$f":"IF($R$3>0,VLOOKUP($R$3,LISTA!$L$8:$M$37,2,FALSE),0)","v":0}]
[null,null,"1.1.","Widik z boku",null,null,{"$f":"K!$E$8","v":4},null,null,null,{"$f":"SUM(H6:J6)*G6","v":0}]
[null,null,"1.2.","Widok z góry",null,null,{"$f":"K!$E$9","v":4},null,null,null,{"$f":"SUM(H7:J7)*G7","v":0},null,null,null,"nr startowy w:",null,null,{"$f":"REJESTRACJA!H8","v":33}]
[null,null,"1.3.","Widok z przodu/tyłu",null,null,{"$f":"K!$E$10","v":4},null,null,null,0]
[null,null,"2.","Kolorystyka",null,null,{"$f":"K!$E$11","v":7},null,null,null,0,null,null,null,"F4H-P"]
[null,null,"3.","Oznakowanie",null,null,{"$f":"K!$E$12","v":4},null,null,null,0]
[null,null,"4.","Szczegóły",null,null,{"$f":"K!$E$13","v":2},null,null,null,{"$f":"SUM(H11:J11)*G11","v":0}]
[null,null,"BONUS:",null,null,null,{"$f":"IF(G13=\"x\",K!$E$15,0)","v":0},"OCENA KOŃCOWA:",null,null,{"$f":"IF(AND(K6>0,K7>0,K8>0),ROUND((SUM(K6:K11)*(1+G12)),2),0)","v":0}]
["MODEL WYKONANY OD PODSTAW:",null,null,null,null,null,null,null,null,null,null,null,null,null,"OCENA KOŃCOWA ZA LOTY:",null,null,null,{"$f":"ROUND(((K30+O30+S30)-MIN(K30,O30,S30))/2,2)","v":0}]
["OCENA LOTÓW","PROGRAM LOTU","Lp.","Manewr/figura",null,null,"K","OCENA I LOTU",null,null,"WYNIK","OCENA II LOTU",null,null,"WYNIK","OCENA III LOTU",null,null,"WYNIK"]
[null,null,null,null,null,null,null,"Sędzia I","Sędzia II","Sędzia III",null,"Sędzia I","Sędzia II","Sędzia III",null,"Sędzia I","Sędzia II","Sędzia III"]
[null,null,"1.","Start",null,null,{"$f":"K!$E$21","v":11},null,null,null,{"$f":"SUM(H16:J16)*$G16","v":0},null,null,null,{"$f":"SUM(L16:N16)*$G16","v":0},null,null,null,{"$f":"SUM(P16:R16)*$G16","v":0}]
[null,null,"2.","Pokaz dowolny",null,null,{"$f":"K!$E$22","v":7},null,null,null,{"$f":"SUM(H17:J17)*$G17","v":0},null,null,null,{"$f":"SUM(L17:N17)*$G17","v":0},null,null,null,{"$f":"SUM(P17:R17)*$G17","v":0}]
[null,null,"3.","Pokaz dowolny",null,null,{"$f":"K!$E$23","v":7},null,null,null,0,null,null,null,0,null,null,null,0]
[null,null,"4.","Pokaz dowolny",null,null,{"$f":"K!$E$24","v":7},null,null,null,0,null,null,null,0,null,null,null,0]
[null,null,"5.","Pokaz dowolny",null,null,{"$f":"K!$E$25","v":7},null,null,null,0,null,null,null,0,null,null,null,0,null,"WYNIKI"]
[null,null,"6.","Pokaz dowolny",null,null,{"$f":"K!$E$26","v":7},null,null,null,0,null,null,null,0,null,null,null,0]
[null,null,"7.","Pokaz dowolny",null,null,{"$f":"K!$E$27","v":7},null,null,null,0,null,null,null,0,null,null,null,0]
[null,null,"8.","Pokaz dowolny",null,null,{"$f":"K!$E$28","v":7},null,null,null,0,null,null,null,0,null,null,null,0]
[null,null,"9.","Pokaz dowolny",null,null,{"$f":"K!$E$29","v":7},null,null,null,0,null,null,null,0,null,null,null,0,null,"LISTA"]
[null,null,"10.","Podejscie do lądowania i lądowanie",null,null,{"$f":"K!$E$30","v":11},null,null,null,{"$f":"SUM(H25:J25)*G25","v":0},null,null,null,0,null,null,null,{"$f":"SUM(P25:R25)*G25","v":0}]
[null,"REALIZM LOTU"]
[null,null,"1.","Prezentacja lotu",null,null,{"$f":"K!$E$32","v":4},null,null,null,{"$f":"SUM(H27:J27)*$G27","v":0},null,null,null,{"$f":"SUM(L27:N27)*$G27","v":0},null,null,null,{"$f":"SUM(P27:R27)*$G27","v":0}]
[null,null,"2.","Prędkość lotu modelu",null,null,{"$f":"K!$E$33","v":9},null,null,null,{"$f":"SUM(H28:J28)*$G28","v":0},null,null,null,{"$f":"SUM(L28:N28)*$G28","v":0},null,null,null,{"$f":"SUM(P28:R28)*$G28","v":0},null,"REJESTR."]
[null,null,"3.","Płynność lotu",null,null,{"$f":"K!$E$34","v":9},null,null,null,{"$f":"SUM(H29:J29)*$G29","v":0},null,null,null,{"$f":"SUM(L29:N29)*$G29","v":0},null,null,null,{"$f":"SUM(P29:R29)*$G29","v":0}]
[null,null,null,null,null,null,null,"OCENA KOŃCOWA LOTU I:",null,null,{"$f":"SUM(K16:K25)+SUM(K27:K29)","v":0},"OCENA KOŃCOWA LOTU II:",null,null,{"$f":"SUM(O16:O25)+SUM(O27:O29)","v":0},"OCENA KOŃCOWA LOTU III:",null,null,{"$f":"SUM(S16:S25)+SUM(S27:S29)","v":0}]

{"sheet":"2","index":7,"n_rows":30,"n_cols":21,"rows_kept":30,"cut":false,"hidden":false,"merged":[[29,7,29,9],[29,11,29,13],[29,15,29,17],[13,7,13,9],[13,10,14,10],[13,11,13,13],[13,14,14,14],[29,0,29,6],[13,1,24,1],[13,0,28,0],[25,1,28,1],[15,3,15,5],[16,3,16,5],[17,3,17,5],[13,6,14,6],[28,3,28,5],[18,3,18,5],[19,3,19,5],[20,3,20,5],[21,3,21,5],[22,3,22,5],[23,3,23,5],[25,2,25,5],[24,3,24,5],[26,3,26,5],[27,3,27,5],[0,7,1,7],[13,15,13,17],[25,7,25,9],[25,11,25,13],[25,15,25,17],[0,8,0,10],[1,8,1,10],[12,14,12,17],[2,14,3,16],[2,17,3,18],[4,14,5,16],[4,17,5,18],[2,11,11,13],[2,10,3,10],[2,2,3,2],[7,3,7,5],[8,3,8,5],[13,18,14,18],[11,7,11,9],[9,3,9,5],[10,3,10,5],[13,2,14,2],[13,3,14,5],[12,0,12,5],[11,2,11,5],[19,20,20,20],[23,20,24,20],[27,20,28,20],[0,0,1,6],[6,14,7,16],[6,17,11,18],[8,14,11,16],[0,11,0,18],[1,11,1,18],[4,3,4,5],[5,3,5,5],[6,3,6,5],[2,0,11,1],[2,7,2,9],[2,6,3,6],[2,3,3,5]]}
["Karta oceny Zawodnika",null,null,null,null,null,null,{"$f":"REJESTRACJA!H9","v":33},"Nazwisko i Imię Zawodnika;",null,null,{"$f":"REJESTRACJA!D9","v":0}]
[null,null,null,null,null,null,null,null,"Model:",null,null,{"$f":"REJESTRACJA!E9","v":0}]
["OCENA STATYCZNA",null,"Lp.","Element oceniany",null,null,"K","OCENA ",null,null,"WYNIK",null,null,null,"WYNIK KOŃCOWY:",null,null,{"$f":"IF(S13>0,S13+K12,0)","v":0}]
[null,null,null,null,null,null,null,"Sędzia I","Sędzia II","Sędzia III"]
[null,null,"1.","Dokladność odwzorowania w skali:",null,null,null,null,null,null,null,null,null,null,"MIEJSCE:",null,null,{"$f":"IF($R$3>0,VLOOKUP($R$3,LISTA!$L$8:$M$37,2,FALSE),0)","v":0}]
[null,null,"1.1.","Widik z boku",null,null,{"$f":"K!$E$8","v":4},null,null,null,{"$f":"SUM(H6:J6)*G6","v":0}]
[null,null,"1.2.","Widok z góry",null,null,{"$f":"K!$E$9","v":4},null,null,null,{"$f":"SUM(H7:J7)*G7","v":0},null,null,null,"nr startowy w:",null,null,{"$f":"REJESTRACJA!H9","v":33}]
[null,null,"1.3.","Widok z przodu/tyłu",null,null,{"$f":"K!$E$10","v":4},null,null,null,0]
[null,null,"2.","Kolorystyka",null,null,{"$f":"K!$E$11","v":7},null,null,null,0,null,null,null,"F4H-P"]
[null,null,"3.","Oznakowanie",null,null,{"$f":"K!$E$12","v":4},null,null,null,0]
[null,null,"4.","Szczegóły",null,null,{"$f":"K!$E$13","v":2},null,null,null,{"$f":"SUM(H11:J11)*G11","v":0}]
[null,null,"BONUS:",null,null,null,{"$f":"IF(G13=\"x\",K!$E$15,0)","v":0},"OCENA KOŃCOWA:",null,null,{"$f":"IF(AND(K6>0,K7>0,K8>0),ROUND((SUM(K6:K11)*(1+G12)),2),0)","v":0}]
["MODEL WYKONANY OD PODSTAW:",null,null,null,null,null,null,null,null,null,null,null,null,null,"OCENA KOŃCOWA ZA LOTY:",null,null,null,{"$f":"ROUND(((K30+O30+S30)-MIN(K30,O30,S30))/2,2)","v":0}]
["OCENA LOTÓW","PROGRAM LOTU","Lp.","Manewr/figura",null,null,"K","OCENA I LOTU",null,null,"WYNIK","OCENA II LOTU",null,null,"WYNIK","OCENA III LOTU",null,null,"WYNIK"]
[null,null,null,null,null,null,null,"Sędzia I","Sędzia II","Sędzia III",null,"Sędzia I","Sędzia II","Sędzia III",null,"Sędzia I","Sędzia II","Sędzia III"]
[null,null,"1.","Start",null,null,{"$f":"K!$E$21","v":11},null,null,null,{"$f":"SUM(H16:J16)*$G16","v":0},null,null,null,{"$f":"SUM(L16:N16)*$G16","v":0},null,null,null,{"$f":"SUM(P16:R16)*$G16","v":0}]
[null,null,"2.","Pokaz dowolny",null,null,{"$f":"K!$E$22","v":7},null,null,null,{"$f":"SUM(H17:J17)*$G17","v":0},null,null,null,{"$f":"SUM(L17:N17)*$G17","v":0},null,null,null,{"$f":"SUM(P17:R17)*$G17","v":0}]
[null,null,"3.","Pokaz dowolny",null,null,{"$f":"K!$E$23","v":7},null,null,null,0,null,null,null,0,null,null,null,0]
[null,null,"4.","Pokaz dowolny",null,null,{"$f":"K!$E$24","v":7},null,null,null,0,null,null,null,0,null,null,null,0]
[null,null,"5.","Pokaz dowolny",null,null,{"$f":"K!$E$25","v":7},null,null,null,0,null,null,null,0,null,null,null,0,null,"WYNIKI"]
[null,null,"6.","Pokaz dowolny",null,null,{"$f":"K!$E$26","v":7},null,null,null,0,null,null,null,0,null,null,null,0]
[null,null,"7.","Pokaz dowolny",null,null,{"$f":"K!$E$27","v":7},null,null,null,0,null,null,null,0,null,null,null,0]
[null,null,"8.","Pokaz dowolny",null,null,{"$f":"K!$E$28","v":7},null,null,null,0,null,null,null,0,null,null,null,0]
[null,null,"9.","Pokaz dowolny",null,null,{"$f":"K!$E$29","v":7},null,null,null,0,null,null,null,0,null,null,null,0,null,"LISTA"]
[null,null,"10.","Podejscie do lądowania i lądowanie",null,null,{"$f":"K!$E$30","v":11},null,null,null,{"$f":"SUM(H25:J25)*G25","v":0},null,null,null,0,null,null,null,{"$f":"SUM(P25:R25)*G25","v":0}]
[null,"REALIZM LOTU"]
[null,null,"1.","Prezentacja lotu",null,null,{"$f":"K!$E$32","v":4},null,null,null,{"$f":"SUM(H27:J27)*$G27","v":0},null,null,null,{"$f":"SUM(L27:N27)*$G27","v":0},null,null,null,{"$f":"SUM(P27:R27)*$G27","v":0}]
[null,null,"2.","Prędkość lotu modelu",null,null,{"$f":"K!$E$33","v":9},null,null,null,{"$f":"SUM(H28:J28)*$G28","v":0},null,null,null,{"$f":"SUM(L28:N28)*$G28","v":0},null,null,null,{"$f":"SUM(P28:R28)*$G28","v":0},null,"REJESTR."]
[null,null,"3.","Płynność lotu",null,null,{"$f":"K!$E$34","v":9},null,null,null,{"$f":"SUM(H29:J29)*$G29","v":0},null,null,null,{"$f":"SUM(L29:N29)*$G29","v":0},null,null,null,{"$f":"SUM(P29:R29)*$G29","v":0}]
[null,null,null,null,null,null,null,"OCENA KOŃCOWA LOTU I:",null,null,{"$f":"SUM(K16:K25)+SUM(K27:K29)","v":0},"OCENA KOŃCOWA LOTU II:",null,null,{"$f":"SUM(O16:O25)+SUM(O27:O29)","v":0},"OCENA KOŃCOWA LOTU III:",null,null,{"$f":"SUM(S16:S25)+SUM(S27:S29)","v":0}]

{"sheet":"3","index":8,"n_rows":30,"n_cols":21,"rows_kept":30,"cut":false,"hidden":false,"merged":[[29,7,29,9],[29,11,29,13],[29,15,29,17],[25,11,25,13],[25,15,25,17],[25,7,25,9],[29,0,29,6],[13,1,24,1],[13,0,28,0],[25,1,28,1],[27,3,27,5],[28,3,28,5],[20,3,20,5],[21,3,21,5],[22,3,22,5],[23,3,23,5],[24,3,24,5],[26,3,26,5],[19,3,19,5],[25,2,25,5],[13,2,14,2],[13,18,14,18],[15,3,15,5],[16,3,16,5],[17,3,17,5],[18,3,18,5],[13,10,14,10],[13,11,13,13],[13,14,14,14],[13,15,13,17],[13,3,14,5],[13,6,14,6],[13,7,13,9],[4,14,5,16],[12,0,12,5],[12,14,12,17],[8,14,11,16],[9,3,9,5],[10,3,10,5],[11,7,11,9],[2,11,11,13],[2,14,3,16],[6,3,6,5],[6,14,7,16],[11,2,11,5],[0,0,1,6],[0,7,1,7],[0,8,0,10],[0,11,0,18],[1,8,1,10],[1,11,1,18],[19,20,20,20],[23,20,24,20],[27,20,28,20],[6,17,11,18],[2,0,11,1],[2,2,3,2],[2,3,3,5],[2,6,3,6],[2,7,2,9],[2,10,3,10],[7,3,7,5],[8,3,8,5],[2,17,3,18],[4,3,4,5],[4,17,5,18],[5,3,5,5]]}
["Karta oceny Zawodnika",null,null,null,null,null,null,{"$f":"REJESTRACJA!H10","v":33},"Nazwisko i Imię Zawodnika;",null,null,{"$f":"REJESTRACJA!D10","v":0}]
[null,null,null,null,null,null,null,null,"Model:",null,null,{"$f":"REJESTRACJA!E10","v":0}]
["OCENA STATYCZNA",null,"Lp.","Element oceniany",null,null,"K","OCENA ",null,null,"WYNIK",null,null,null,"WYNIK KOŃCOWY:",null,null,{"$f":"IF(S13>0,S13+K12,0)","v":0}]
[null,null,null,null,null,null,null,"Sędzia I","Sędzia II","Sędzia III"]
[null,null,"1.","Dokladność odwzorowania w skali:",null,null,null,null,null,null,null,null,null,null,"MIEJSCE:",null,null,{"$f":"IF($R$3>0,VLOOKUP($R$3,LISTA!$L$8:$M$37,2,FALSE),0)","v":0}]
[null,null,"1.1.","Widik z boku",null,null,{"$f":"K!$E$8","v":4},null,null,null,{"$f":"SUM(H6:J6)*G6","v":0}]
[null,null,"1.2.","Widok z góry",null,null,{"$f":"K!$E$9","v":4},null,null,null,{"$f":"SUM(H7:J7)*G7","v":0},null,null,null,"nr startowy w:",null,null,{"$f":"REJESTRACJA!H10","v":33}]
[null,null,"1.3.","Widok z przodu/tyłu",null,null,{"$f":"K!$E$10","v":4},null,null,null,0]
[null,null,"2.","Kolorystyka",null,null,{"$f":"K!$E$11","v":7},null,null,null,0,null,null,null,"F4H-P"]
[null,null,"3.","Oznakowanie",null,null,{"$f":"K!$E$12","v":4},null,null,null,0]
[null,null,"4.","Szczegóły",null,null,{"$f":"K!$E$13","v":2},null,null,null,{"$f":"SUM(H11:J11)*G11","v":0}]
[null,null,"BONUS:",null,null,null,{"$f":"IF(G13=\"x\",K!$E$15,0)","v":0},"OCENA KOŃCOWA:",null,null,{"$f":"IF(AND(K6>0,K7>0,K8>0),ROUND((SUM(K6:K11)*(1+G12)),2),0)","v":0}]
["MODEL WYKONANY OD PODSTAW:",null,null,null,null,null,null,null,null,null,null,null,null,null,"OCENA KOŃCOWA ZA LOTY:",null,null,null,{"$f":"ROUND(((K30+O30+S30)-MIN(K30,O30,S30))/2,2)","v":0}]
["OCENA LOTÓW","PROGRAM LOTU","Lp.","Manewr/figura",null,null,"K","OCENA I LOTU",null,null,"WYNIK","OCENA II LOTU",null,null,"WYNIK","OCENA III LOTU",null,null,"WYNIK"]
[null,null,null,null,null,null,null,"Sędzia I","Sędzia II","Sędzia III",null,"Sędzia I","Sędzia II","Sędzia III",null,"Sędzia I","Sędzia II","Sędzia III"]
[null,null,"1.","Start",null,null,{"$f":"K!$E$21","v":11},null,null,null,{"$f":"SUM(H16:J16)*$G16","v":0},null,null,null,{"$f":"SUM(L16:N16)*$G16","v":0},null,null,null,{"$f":"SUM(P16:R16)*$G16","v":0}]
[null,null,"2.","Pokaz dowolny",null,null,{"$f":"K!$E$22","v":7},null,null,null,{"$f":"SUM(H17:J17)*$G17","v":0},null,null,null,{"$f":"SUM(L17:N17)*$G17","v":0},null,null,null,{"$f":"SUM(P17:R17)*$G17","v":0}]
[null,null,"3.","Pokaz dowolny",null,null,{"$f":"K!$E$23","v":7},null,null,null,0,null,null,null,0,null,null,null,0]
[null,null,"4.","Pokaz dowolny",null,null,{"$f":"K!$E$24","v":7},null,null,null,0,null,null,null,0,null,null,null,0]
[null,null,"5.","Pokaz dowolny",null,null,{"$f":"K!$E$25","v":7},null,null,null,0,null,null,null,0,null,null,null,0,null,"WYNIKI"]
[null,null,"6.","Pokaz dowolny",null,null,{"$f":"K!$E$26","v":7},null,null,null,0,null,null,null,0,null,null,null,0]
[null,null,"7.","Pokaz dowolny",null,null,{"$f":"K!$E$27","v":7},null,null,null,0,null,null,null,0,null,null,null,0]
[null,null,"8.","Pokaz dowolny",null,null,{"$f":"K!$E$28","v":7},null,null,null,0,null,null,null,0,null,null,null,0]
[null,null,"9.","Pokaz dowolny",null,null,{"$f":"K!$E$29","v":7},null,null,null,0,null,null,null,0,null,null,null,0,null,"LISTA"]
[null,null,"10.","Podejscie do lądowania i lądowanie",null,null,{"$f":"K!$E$30","v":11},null,null,null,{"$f":"SUM(H25:J25)*G25","v":0},null,null,null,0,null,null,null,{"$f":"SUM(P25:R25)*G25","v":0}]
[null,"REALIZM LOTU"]
[null,null,"1.","Prezentacja lotu",null,null,{"$f":"K!$E$32","v":4},null,null,null,{"$f":"SUM(H27:J27)*$G27","v":0},null,null,null,{"$f":"SUM(L27:N27)*$G27","v":0},null,null,null,{"$f":"SUM(P27:R27)*$G27","v":0}]
[null,null,"2.","Prędkość lotu modelu",null,null,{"$f":"K!$E$33","v":9},null,null,null,{"$f":"SUM(H28:J28)*$G28","v":0},null,null,null,{"$f":"SUM(L28:N28)*$G28","v":0},null,null,null,{"$f":"SUM(P28:R28)*$G28","v":0},null,"REJESTR."]
[null,null,"3.","Płynność lotu",null,null,{"$f":"K!$E$34","v":9},null,null,null,{"$f":"SUM(H29:J29)*$G29","v":0},null,null,null,{"$f":"SUM(L29:N29)*$G29","v":0},null,null,null,{"$f":"SUM(P29:R29)*$G29","v":0}]
[null,null,null,null,null,null,null,"OCENA KOŃCOWA LOTU I:",null,null,{"$f":"SUM(K16:K25)+SUM(K27:K29)","v":0},"OCENA KOŃCOWA LOTU II:",null,null,{"$f":"SUM(O16:O25)+SUM(O27:O29)","v":0},"OCENA KOŃCOWA LOTU III:",null,null,{"$f":"SUM(S16:S25)+SUM(S27:S29)","v":0}]

{"sheet":"4","index":9,"n_rows":30,"n_cols":21,"rows_kept":30,"cut":false,"hidden":false,"merged":[[29,7,29,9],[29,11,29,13],[29,15,29,17],[25,11,25,13],[25,15,25,17],[25,7,25,9],[29,0,29,6],[13,1,24,1],[13,0,28,0],[25,1,28,1],[27,3,27,5],[28,3,28,5],[20,3,20,5],[21,3,21,5],[22,3,22,5],[23,3,23,5],[24,3,24,5],[26,3,26,5],[19,3,19,5],[25,2,25,5],[13,2,14,2],[13,18,14,18],[15,3,15,5],[16,3,16,5],[17,3,17,5],[18,3,18,5],[13,10,14,10],[13,11,13,13],[13,14,14,14],[13,15,13,17],[13,3,14,5],[13,6,14,6],[13,7,13,9],[4,14,5,16],[12,0,12,5],[12,14,12,17],[8,14,11,16],[9,3,9,5],[10,3,10,5],[11,7,11,9],[2,11,11,13],[2,14,3,16],[6,3,6,5],[6,14,7,16],[11,2,11,5],[0,0,1,6],[0,7,1,7],[0,8,0,10],[0,11,0,18],[1,8,1,10],[1,11,1,18],[19,20,20,20],[23,20,24,20],[27,20,28,20],[6,17,11,18],[2,0,11,1],[2,2,3,2],[2,3,3,5],[2,6,3,6],[2,7,2,9],[2,10,3,10],[7,3,7,5],[8,3,8,5],[2,17,3,18],[4,3,4,5],[4,17,5,18],[5,3,5,5]]}
["Karta oceny Zawodnika",null,null,null,null,null,null,{"$f":"REJESTRACJA!H11","v":33},"Nazwisko i Imię Zawodnika;",null,null,{"$f":"REJESTRACJA!D11","v":0}]
[null,null,null,null,null,null,null,null,"Model:",null,null,{"$f":"REJESTRACJA!E11","v":0}]
["OCENA STATYCZNA",null,"Lp.","Element oceniany",null,null,"K","OCENA ",null,null,"WYNIK",null,null,null,"WYNIK KOŃCOWY:",null,null,{"$f":"IF(S13>0,S13+K12,0)","v":0}]
[null,null,null,null,null,null,null,"Sędzia I","Sędzia II","Sędzia III"]
[null,null,"1.","Dokladność odwzorowania w skali:",null,null,null,null,null,null,null,null,null,null,"MIEJSCE:",null,null,{"$f":"IF($R$3>0,VLOOKUP($R$3,LISTA!$L$8:$M$37,2,FALSE),0)","v":0}]
[null,null,"1.1.","Widik z boku",null,null,{"$f":"K!$E$8","v":4},null,null,null,{"$f":"SUM(H6:J6)*G6","v":0}]
[null,null,"1.2.","Widok z góry",null,null,{"$f":"K!$E$9","v":4},null,null,null,{"$f":"SUM(H7:J7)*G7","v":0},null,null,null,"nr startowy w:",null,null,{"$f":"REJESTRACJA!H11","v":33}]
[null,null,"1.3.","Widok z przodu/tyłu",null,null,{"$f":"K!$E$10","v":4},null,null,null,0]
[null,null,"2.","Kolorystyka",null,null,{"$f":"K!$E$11","v":7},null,null,null,0,null,null,null,"F4H-P"]
[null,null,"3.","Oznakowanie",null,null,{"$f":"K!$E$12","v":4},null,null,null,0]
[null,null,"4.","Szczegóły",null,null,{"$f":"K!$E$13","v":2},null,null,null,{"$f":"SUM(H11:J11)*G11","v":0}]
[null,null,"BONUS:",null,null,null,{"$f":"IF(G13=\"x\",K!$E$15,0)","v":0},"OCENA KOŃCOWA:",null,null,{"$f":"IF(AND(K6>0,K7>0,K8>0),ROUND((SUM(K6:K11)*(1+G12)),2),0)","v":0}]
["MODEL WYKONANY OD PODSTAW:",null,null,null,null,null,null,null,null,null,null,null,null,null,"OCENA KOŃCOWA ZA LOTY:",null,null,null,{"$f":"ROUND(((K30+O30+S30)-MIN(K30,O30,S30))/2,2)","v":0}]
["OCENA LOTÓW","PROGRAM LOTU","Lp.","Manewr/figura",null,null,"K","OCENA I LOTU",null,null,"WYNIK","OCENA II LOTU",null,null,"WYNIK","OCENA III LOTU",null,null,"WYNIK"]
[null,null,null,null,null,null,null,"Sędzia I","Sędzia II","Sędzia III",null,"Sędzia I","Sędzia II","Sędzia III",null,"Sędzia I","Sędzia II","Sędzia III"]
[null,null,"1.","Start",null,null,{"$f":"K!$E$21","v":11},null,null,null,{"$f":"SUM(H16:J16)*$G16","v":0},null,null,null,{"$f":"SUM(L16:N16)*$G16","v":0},null,null,null,{"$f":"SUM(P16:R16)*$G16","v":0}]
[null,null,"2.","Pokaz dowolny",null,null,{"$f":"K!$E$22","v":7},null,null,null,{"$f":"SUM(H17:J17)*$G17","v":0},null,null,null,{"$f":"SUM(L17:N17)*$G17","v":0},null,null,null,{"$f":"SUM(P17:R17)*$G17","v":0}]
[null,null,"3.","Pokaz dowolny",null,null,{"$f":"K!$E$23","v":7},null,null,null,0,null,null,null,0,null,null,null,0]
[null,null,"4.","Pokaz dowolny",null,null,{"$f":"K!$E$24","v":7},null,null,null,0,null,null,null,0,null,null,null,0]
[null,null,"5.","Pokaz dowolny",null,null,{"$f":"K!$E$25","v":7},null,null,null,0,null,null,null,0,null,null,null,0,null,"WYNIKI"]
[null,null,"6.","Pokaz dowolny",null,null,{"$f":"K!$E$26","v":7},null,null,null,0,null,null,null,0,null,null,null,0]
[null,null,"7.","Pokaz dowolny",null,null,{"$f":"K!$E$27","v":7},null,null,null,0,null,null,null,0,null,null,null,0]
[null,null,"8.","Pokaz dowolny",null,null,{"$f":"K!$E$28","v":7},null,null,null,0,null,null,null,0,null,null,null,0]
[null,null,"9.","Pokaz dowolny",null,null,{"$f":"K!$E$29","v":7},null,null,null,0,null,null,null,0,null,null,null,0,null,"LISTA"]
[null,null,"10.","Podejscie do lądowania i lądowanie",null,null,{"$f":"K!$E$30","v":11},null,null,null,{"$f":"SUM(H25:J25)*G25","v":0},null,null,null,0,null,null,null,{"$f":"SUM(P25:R25)*G25","v":0}]
[null,"REALIZM LOTU"]
[null,null,"1.","Prezentacja lotu",null,null,{"$f":"K!$E$32","v":4},null,null,null,{"$f":"SUM(H27:J27)*$G27","v":0},null,null,null,{"$f":"SUM(L27:N27)*$G27","v":0},null,null,null,{"$f":"SUM(P27:R27)*$G27","v":0}]
[null,null,"2.","Prędkość lotu modelu",null,null,{"$f":"K!$E$33","v":9},null,null,null,{"$f":"SUM(H28:J28)*$G28","v":0},null,null,null,{"$f":"SUM(L28:N28)*$G28","v":0},null,null,null,{"$f":"SUM(P28:R28)*$G28","v":0},null,"REJESTR."]
[null,null,"3.","Płynność lotu",null,null,{"$f":"K!$E$34","v":9},null,null,null,{"$f":"SUM(H29:J29)*$G29","v":0},null,null,null,{"$f":"SUM(L29:N29)*$G29","v":0},null,null,null,{"$f":"SUM(P29:R29)*$G29","v":0}]
[null,null,null,null,null,null,null,"OCENA KOŃCOWA LOTU I:",null,null,{"$f":"SUM(K16:K25)+SUM(K27:K29)","v":0},"OCENA KOŃCOWA LOTU II:",null,null,{"$f":"SUM(O16:O25)+SUM(O27:O29)","v":0},"OCENA KOŃCOWA LOTU III:",null,null,{"$f":"SUM(S16:S25)+SUM(S27:S29)","v":0}]

{"sheet":"5","index":10,"n_rows":30,"n_cols":21,"rows_kept":30,"cut":false,"hidden":false,"merged":[[29,7,29,9],[29,11,29,13],[29,15,29,17],[25,11,25,13],[25,15,25,17],[25,7,25,9],[29,0,29,6],[13,1,24,1],[13,0,28,0],[25,1,28,1],[27,3,27,5],[28,3,28,5],[20,3,20,5],[21,3,21,5],[22,3,22,5],[23,3,23,5],[24,3,24,5],[26,3,26,5],[19,3,19,5],[25,2,25,5],[13,2,14,2],[13,18,14,18],[15,3,15,5],[16,3,16,5],[17,3,17,5],[18,3,18,5],[13,10,14,10],[13,11,13,13],[13,14,14,14],[13,15,13,17],[13,3,14,5],[13,6,14,6],[13,7,13,9],[4,14,5,16],[12,0,12,5],[12,14,12,17],[8,14,11,16],[9,3,9,5],[10,3,10,5],[11,7,11,9],[2,11,11,13],[2,14,3,16],[6,3,6,5],[6,14,7,16],[11,2,11,5],[0,0,1,6],[0,7,1,7],[0,8,0,10],[0,11,0,18],[1,8,1,10],[1,11,1,18],[19,20,20,20],[23,20,24,20],[27,20,28,20],[6,17,11,18],[2,0,11,1],[2,2,3,2],[2,3,3,5],[2,6,3,6],[2,7,2,9],[2,10,3,10],[7,3,7,5],[8,3,8,5],[2,17,3,18],[4,3,4,5],[4,17,5,18],[5,3,5,5]]}
["Karta oceny Zawodnika",null,null,null,null,null,null,{"$f":"REJESTRACJA!H12","v":33},"Nazwisko i Imię Zawodnika;",null,null,{"$f":"REJESTRACJA!D12","v":0}]
[null,null,null,null,null,null,null,null,"Model:",null,null,{"$f":"REJESTRACJA!E12","v":0}]
["OCENA STATYCZNA",null,"Lp.","Element oceniany",null,null,"K","OCENA ",null,null,"WYNIK",null,null,null,"WYNIK KOŃCOWY:",null,null,{"$f":"IF(S13>0,S13+K12,0)","v":0}]
[null,null,null,null,null,null,null,"Sędzia I","Sędzia II","Sędzia III"]
[null,null,"1.","Dokladność odwzorowania w skali:",null,null,null,null,null,null,null,null,null,null,"MIEJSCE:",null,null,{"$f":"IF($R$3>0,VLOOKUP($R$3,LISTA!$L$8:$M$37,2,FALSE),0)","v":0}]
[null,null,"1.1.","Widik z boku",null,null,{"$f":"K!$E$8","v":4},null,null,null,{"$f":"SUM(H6:J6)*G6","v":0}]
[null,null,"1.2.","Widok z góry",null,null,{"$f":"K!$E$9","v":4},null,null,null,{"$f":"SUM(H7:J7)*G7","v":0},null,null,null,"nr startowy w:",null,null,{"$f":"REJESTRACJA!H12","v":33}]
[null,null,"1.3.","Widok z przodu/tyłu",null,null,{"$f":"K!$E$10","v":4},null,null,null,0]
[null,null,"2.","Kolorystyka",null,null,{"$f":"K!$E$11","v":7},null,null,null,0,null,null,null,"F4H-P"]
[null,null,"3.","Oznakowanie",null,null,{"$f":"K!$E$12","v":4},null,null,null,0]
[null,null,"4.","Szczegóły",null,null,{"$f":"K!$E$13","v":2},null,null,null,{"$f":"SUM(H11:J11)*G11","v":0}]
[null,null,"BONUS:",null,null,null,{"$f":"IF(G13=\"x\",K!$E$15,0)","v":0},"OCENA KOŃCOWA:",null,null,{"$f":"IF(AND(K6>0,K7>0,K8>0),ROUND((SUM(K6:K11)*(1+G12)),2),0)","v":0}]
["MODEL WYKONANY OD PODSTAW:",null,null,null,null,null,null,null,null,null,null,null,null,null,"OCENA KOŃCOWA ZA LOTY:",null,null,null,{"$f":"ROUND(((K30+O30+S30)-MIN(K30,O30,S30))/2,2)","v":0}]
["OCENA LOTÓW","PROGRAM LOTU","Lp.","Manewr/figura",null,null,"K","OCENA I LOTU",null,null,"WYNIK","OCENA II LOTU",null,null,"WYNIK","OCENA III LOTU",null,null,"WYNIK"]
[null,null,null,null,null,null,null,"Sędzia I","Sędzia II","Sędzia III",null,"Sędzia I","Sędzia II","Sędzia III",null,"Sędzia I","Sędzia II","Sędzia III"]
[null,null,"1.","Start",null,null,{"$f":"K!$E$21","v":11},null,null,null,{"$f":"SUM(H16:J16)*$G16","v":0},null,null,null,{"$f":"SUM(L16:N16)*$G16","v":0},null,null,null,{"$f":"SUM(P16:R16)*$G16","v":0}]
[null,null,"2.","Pokaz dowolny",null,null,{"$f":"K!$E$22","v":7},null,null,null,{"$f":"SUM(H17:J17)*$G17","v":0},null,null,null,{"$f":"SUM(L17:N17)*$G17","v":0},null,null,null,{"$f":"SUM(P17:R17)*$G17","v":0}]
[null,null,"3.","Pokaz dowolny",null,null,{"$f":"K!$E$23","v":7},null,null,null,0,null,null,null,0,null,null,null,0]
[null,null,"4.","Pokaz dowolny",null,null,{"$f":"K!$E$24","v":7},null,null,null,0,null,null,null,0,null,null,null,0]
[null,null,"5.","Pokaz dowolny",null,null,{"$f":"K!$E$25","v":7},null,null,null,0,null,null,null,0,null,null,null,0,null,"WYNIKI"]
[null,null,"6.","Pokaz dowolny",null,null,null,null,null,null,0,null,null,null,0,null,null,null,0]
[null,null,"7.","Pokaz dowolny",null,null,{"$f":"K!$E$27","v":7},null,null,null,0,null,null,null,0,null,null,null,0]
[null,null,"8.","Pokaz dowolny",null,null,{"$f":"K!$E$28","v":7},null,null,null,0,null,null,null,0,null,null,null,0]
[null,null,"9.","Pokaz dowolny",null,null,{"$f":"K!$E$29","v":7},null,null,null,0,null,null,null,0,null,null,null,0,null,"LISTA"]
[null,null,"10.","Podejscie do lądowania i lądowanie",null,null,{"$f":"K!$E$30","v":11},null,null,null,{"$f":"SUM(H25:J25)*G25","v":0},null,null,null,0,null,null,null,{"$f":"SUM(P25:R25)*G25","v":0}]
[null,"REALIZM LOTU"]
[null,null,"1.","Prezentacja lotu",null,null,{"$f":"K!$E$32","v":4},null,null,null,{"$f":"SUM(H27:J27)*$G27","v":0},null,null,null,{"$f":"SUM(L27:N27)*$G27","v":0},null,null,null,{"$f":"SUM(P27:R27)*$G27","v":0}]
[null,null,"2.","Prędkość lotu modelu",null,null,{"$f":"K!$E$33","v":9},null,null,null,{"$f":"SUM(H28:J28)*$G28","v":0},null,null,null,{"$f":"SUM(L28:N28)*$G28","v":0},null,null,null,{"$f":"SUM(P28:R28)*$G28","v":0},null,"REJESTR."]
[null,null,"3.","Płynność lotu",null,null,{"$f":"K!$E$34","v":9},null,null,null,{"$f":"SUM(H29:J29)*$G29","v":0},null,null,null,{"$f":"SUM(L29:N29)*$G29","v":0},null,null,null,{"$f":"SUM(P29:R29)*$G29","v":0}]
[null,null,null,null,null,null,null,"OCENA KOŃCOWA LOTU I:",null,null,{"$f":"SUM(K16:K25)+SUM(K27:K29)","v":0},"OCENA KOŃCOWA LOTU II:",null,null,{"$f":"SUM(O16:O25)+SUM(O27:O29)","v":0},"OCENA KOŃCOWA LOTU III:",null,null,{"$f":"SUM(S16:S25)+SUM(S27:S29)","v":0}]

{"sheet":"6","index":11,"n_rows":30,"n_cols":21,"rows_kept":30,"cut":false,"hidden":false,"merged":[[29,11,29,13],[29,15,29,17],[25,11,25,13],[25,15,25,17],[28,3,28,5],[29,0,29,6],[25,2,25,5],[25,7,25,9],[13,1,24,1],[13,0,28,0],[25,1,28,1],[27,3,27,5],[29,7,29,9],[20,3,20,5],[21,3,21,5],[22,3,22,5],[23,3,23,5],[24,3,24,5],[26,3,26,5],[19,3,19,5],[13,2,14,2],[13,18,14,18],[15,3,15,5],[16,3,16,5],[17,3,17,5],[18,3,18,5],[13,10,14,10],[13,11,13,13],[13,14,14,14],[13,15,13,17],[13,3,14,5],[13,6,14,6],[13,7,13,9],[4,14,5,16],[12,0,12,5],[12,14,12,17],[8,14,11,16],[9,3,9,5],[10,3,10,5],[11,7,11,9],[2,11,11,13],[2,14,3,16],[6,3,6,5],[6,14,7,16],[11,2,11,5],[0,0,1,6],[0,7,1,7],[0,8,0,10],[0,11,0,18],[1,8,1,10],[1,11,1,18],[19,20,20,20],[23,20,24,20],[27,20,28,20],[6,17,11,18],[2,0,11,1],[2,2,3,2],[2,3,3,5],[2,6,3,6],[2,7,2,9],[2,10,3,10],[7,3,7,5],[8,3,8,5],[2,17,3,18],[4,3,4,5],[4,17,5,18],[5,3,5,5]]}
["Karta oceny Zawodnika",null,null,null,null,null,null,{"$f":"REJESTRACJA!H13","v":33},"Nazwisko i Imię Zawodnika;",null,null,{"$f":"REJESTRACJA!D13","v":0}]
[null,null,null,null,null,null,null,null,"Model:",null,null,{"$f":"REJESTRACJA!E13","v":0}]
["OCENA STATYCZNA",null,"Lp.","Element oceniany",null,null,"K","OCENA ",null,null,"WYNIK",null,null,null,"WYNIK KOŃCOWY:",null,null,{"$f":"IF(S13>0,S13+K12,0)","v":0}]
[null,null,null,null,null,null,null,"Sędzia I","Sędzia II","Sędzia III"]
[null,null,"1.","Dokladność odwzorowania w skali:",null,null,null,null,null,null,null,null,null,null,"MIEJSCE:",null,null,{"$f":"IF($R$3>0,VLOOKUP($R$3,LISTA!$L$8:$M$37,2,FALSE),0)","v":0}]
[null,null,"1.1.","Widik z boku",null,null,{"$f":"K!$E$8","v":4},null,null,null,{"$f":"SUM(H6:J6)*G6","v":0}]
[null,null,"1.2.","Widok z góry",null,null,{"$f":"K!$E$9","v":4},null,null,null,{"$f":"SUM(H7:J7)*G7","v":0},null,null,null,"nr startowy w:",null,null,{"$f":"REJESTRACJA!H13","v":33}]
[null,null,"1.3.","Widok z przodu/tyłu",null,null,{"$f":"K!$E$10","v":4},null,null,null,0]
[null,null,"2.","Kolorystyka",null,null,{"$f":"K!$E$11","v":7},null,null,null,0,null,null,null,"F4H-P"]
[null,null,"3.","Oznakowanie",null,null,{"$f":"K!$E$12","v":4},null,null,null,0]
[null,null,"4.","Szczegóły",null,null,{"$f":"K!$E$13","v":2},null,null,null,{"$f":"SUM(H11:J11)*G11","v":0}]
[null,null,"BONUS:",null,null,null,{"$f":"IF(G13=\"x\",K!$E$15,0)","v":0},"OCENA KOŃCOWA:",null,null,{"$f":"IF(AND(K6>0,K7>0,K8>0),ROUND((SUM(K6:K11)*(1+G12)),2),0)","v":0}]
["MODEL WYKONANY OD PODSTAW:",null,null,null,null,null,null,null,null,null,null,null,null,null,"OCENA KOŃCOWA ZA LOTY:",null,null,null,{"$f":"ROUND(((K30+O30+S30)-MIN(K30,O30,S30))/2,2)","v":0}]
["OCENA LOTÓW","PROGRAM LOTU","Lp.","Manewr/figura",null,null,"K","OCENA I LOTU",null,null,"WYNIK","OCENA II LOTU",null,null,"WYNIK","OCENA III LOTU",null,null,"WYNIK"]
[null,null,null,null,null,null,null,"Sędzia I","Sędzia II","Sędzia III",null,"Sędzia I","Sędzia II","Sędzia III",null,"Sędzia I","Sędzia II","Sędzia III"]
[null,null,"1.","Start",null,null,{"$f":"K!$E$21","v":11},null,null,null,{"$f":"SUM(H16:J16)*$G16","v":0},null,null,null,{"$f":"SUM(L16:N16)*$G16","v":0},null,null,null,{"$f":"SUM(P16:R16)*$G16","v":0}]
[null,null,"2.","Pokaz dowolny",null,null,{"$f":"K!$E$22","v":7},null,null,null,{"$f":"SUM(H17:J17)*$G17","v":0},null,null,null,{"$f":"SUM(L17:N17)*$G17","v":0},null,null,null,{"$f":"SUM(P17:R17)*$G17","v":0}]
[null,null,"3.","Pokaz dowolny",null,null,{"$f":"K!$E$23","v":7},null,null,null,0,null,null,null,0,null,null,null,0]
[null,null,"4.","Pokaz dowolny",null,null,{"$f":"K!$E$24","v":7},null,null,null,0,null,null,null,0,null,null,null,0]
[null,null,"5.","Pokaz dowolny",null,null,{"$f":"K!$E$25","v":7},null,null,null,0,null,null,null,0,null,null,null,0,null,"WYNIKI"]
[null,null,"6.","Pokaz dowolny",null,null,{"$f":"K!$E$26","v":7},null,null,null,0,null,null,null,0,null,null,null,0]
[null,null,"7.","Pokaz dowolny",null,null,{"$f":"K!$E$27","v":7},null,null,null,0,null,null,null,0,null,null,null,0]
[null,null,"8.","Pokaz dowolny",null,null,{"$f":"K!$E$28","v":7},null,null,null,0,null,null,null,0,null,null,null,0]
[null,null,"9.","Pokaz dowolny",null,null,{"$f":"K!$E$29","v":7},null,null,null,0,null,null,null,0,null,null,null,0,null,"LISTA"]
[null,null,"10.","Podejscie do lądowania i lądowanie",null,null,{"$f":"K!$E$30","v":11},null,null,null,{"$f":"SUM(H25:J25)*G25","v":0},null,null,null,0,null,null,null,{"$f":"SUM(P25:R25)*G25","v":0}]
[null,"REALIZM LOTU"]
[null,null,"1.","Prezentacja lotu",null,null,{"$f":"K!$E$32","v":4},null,null,null,{"$f":"SUM(H27:J27)*$G27","v":0},null,null,null,{"$f":"SUM(L27:N27)*$G27","v":0},null,null,null,{"$f":"SUM(P27:R27)*$G27","v":0}]
[null,null,"2.","Prędkość lotu modelu",null,null,{"$f":"K!$E$33","v":9},null,null,null,{"$f":"SUM(H28:J28)*$G28","v":0},null,null,null,{"$f":"SUM(L28:N28)*$G28","v":0},null,null,null,{"$f":"SUM(P28:R28)*$G28","v":0},null,"REJESTR."]
[null,null,"3.","Płynność lotu",null,null,{"$f":"K!$E$34","v":9},null,null,null,{"$f":"SUM(H29:J29)*$G29","v":0},null,null,null,{"$f":"SUM(L29:N29)*$G29","v":0},null,null,null,{"$f":"SUM(P29:R29)*$G29","v":0}]
[null,null,null,null,null,null,null,"OCENA KOŃCOWA LOTU I:",null,null,{"$f":"SUM(K16:K25)+SUM(K27:K29)","v":0},"OCENA KOŃCOWA LOTU II:",null,null,{"$f":"SUM(O16:O25)+SUM(O27:O29)","v":0},"OCENA KOŃCOWA LOTU III:",null,null,{"$f":"SUM(S16:S25)+SUM(S27:S29)","v":0}]

{"sheet":"7","index":12,"n_rows":30,"n_cols":21,"rows_kept":30,"cut":false,"hidden":false,"merged":[[29,11,29,13],[29,15,29,17],[25,11,25,13],[25,15,25,17],[28,3,28,5],[29,0,29,6],[25,7,25,9],[25,2,25,5],[13,1,24,1],[13,0,28,0],[25,1,28,1],[27,3,27,5],[29,7,29,9],[20,3,20,5],[21,3,21,5],[22,3,22,5],[23,3,23,5],[24,3,24,5],[26,3,26,5],[19,3,19,5],[13,2,14,2],[13,18,14,18],[15,3,15,5],[16,3,16,5],[17,3,17,5],[18,3,18,5],[13,10,14,10],[13,11,13,13],[13,14,14,14],[13,15,13,17],[13,3,14,5],[13,6,14,6],[13,7,13,9],[4,14,5,16],[12,0,12,5],[12,14,12,17],[8,14,11,16],[9,3,9,5],[10,3,10,5],[11,7,11,9],[2,11,11,13],[2,14,3,16],[6,3,6,5],[6,14,7,16],[11,2,11,5],[0,0,1,6],[0,7,1,7],[0,8,0,10],[0,11,0,18],[1,8,1,10],[1,11,1,18],[19,20,20,20],[23,20,24,20],[27,20,28,20],[6,17,11,18],[2,0,11,1],[2,2,3,2],[2,3,3,5],[2,6,3,6],[2,7,2,9],[2,10,3,10],[7,3,7,5],[8,3,8,5],[2,17,3,18],[4,3,4,5],[4,17,5,18],[5,3,5,5]]}
["Karta oceny Zawodnika",null,null,null,null,null,null,{"$f":"REJESTRACJA!H14","v":33},"Nazwisko i Imię Zawodnika;",null,null,{"$f":"REJESTRACJA!D14","v":0}]
[null,null,null,null,null,null,null,null,"Model:",null,null,{"$f":"REJESTRACJA!E14","v":0}]
["OCENA STATYCZNA",null,"Lp.","Element oceniany",null,null,"K","OCENA ",null,null,"WYNIK",null,null,null,"WYNIK KOŃCOWY:",null,null,{"$f":"IF(S13>0,S13+K12,0)","v":0}]
[null,null,null,null,null,null,null,"Sędzia I","Sędzia II","Sędzia III"]
[null,null,"1.","Dokladność odwzorowania w skali:",null,null,null,null,null,null,null,null,null,null,"MIEJSCE:",null,null,{"$f":"IF($R$3>0,VLOOKUP($R$3,LISTA!$L$8:$M$37,2,FALSE),0)","v":0}]
[null,null,"1.1.","Widik z boku",null,null,{"$f":"K!$E$8","v":4},null,null,null,{"$f":"SUM(H6:J6)*G6","v":0}]
[null,null,"1.2.","Widok z góry",null,null,{"$f":"K!$E$9","v":4},null,null,null,{"$f":"SUM(H7:J7)*G7","v":0},null,null,null,"nr startowy w:",null,null,{"$f":"REJESTRACJA!H14","v":33}]
[null,null,"1.3.","Widok z przodu/tyłu",null,null,{"$f":"K!$E$10","v":4},null,null,null,0]
[null,null,"2.","Kolorystyka",null,null,{"$f":"K!$E$11","v":7},null,null,null,0,null,null,null,"F4H-P"]
[null,null,"3.","Oznakowanie",null,null,{"$f":"K!$E$12","v":4},null,null,null,0]
[null,null,"4.","Szczegóły",null,null,{"$f":"K!$E$13","v":2},null,null,null,{"$f":"SUM(H11:J11)*G11","v":0}]
[null,null,"BONUS:",null,null,null,{"$f":"IF(G13=\"x\",K!$E$15,0)","v":0},"OCENA KOŃCOWA:",null,null,{"$f":"IF(AND(K6>0,K7>0,K8>0),ROUND((SUM(K6:K11)*(1+G12)),2),0)","v":0}]
["MODEL WYKONANY OD PODSTAW:",null,null,null,null,null,null,null,null,null,null,null,null,null,"OCENA KOŃCOWA ZA LOTY:",null,null,null,{"$f":"ROUND(((K30+O30+S30)-MIN(K30,O30,S30))/2,2)","v":0}]
["OCENA LOTÓW","PROGRAM LOTU","Lp.","Manewr/figura",null,null,"K","OCENA I LOTU",null,null,"WYNIK","OCENA II LOTU",null,null,"WYNIK","OCENA III LOTU",null,null,"WYNIK"]
[null,null,null,null,null,null,null,"Sędzia I","Sędzia II","Sędzia III",null,"Sędzia I","Sędzia II","Sędzia III",null,"Sędzia I","Sędzia II","Sędzia III"]
[null,null,"1.","Start",null,null,{"$f":"K!$E$21","v":11},null,null,null,{"$f":"SUM(H16:J16)*$G16","v":0},null,null,null,{"$f":"SUM(L16:N16)*$G16","v":0},null,null,null,{"$f":"SUM(P16:R16)*$G16","v":0}]
[null,null,"2.","Pokaz dowolny",null,null,{"$f":"K!$E$22","v":7},null,null,null,{"$f":"SUM(H17:J17)*$G17","v":0},null,null,null,{"$f":"SUM(L17:N17)*$G17","v":0},null,null,null,{"$f":"SUM(P17:R17)*$G17","v":0}]
[null,null,"3.","Pokaz dowolny",null,null,{"$f":"K!$E$23","v":7},null,null,null,0,null,null,null,0,null,null,null,0]
[null,null,"4.","Pokaz dowolny",null,null,{"$f":"K!$E$24","v":7},null,null,null,0,null,null,null,0,null,null,null,0]
[null,null,"5.","Pokaz dowolny",null,null,{"$f":"K!$E$25","v":7},null,null,null,0,null,null,null,0,null,null,null,0,null,"WYNIKI"]
[null,null,"6.","Pokaz dowolny",null,null,{"$f":"K!$E$26","v":7},null,null,null,0,null,null,null,0,null,null,null,0]
[null,null,"7.","Pokaz dowolny",null,null,{"$f":"K!$E$27","v":7},null,null,null,0,null,null,null,0,null,null,null,0]
[null,null,"8.","Pokaz dowolny",null,null,{"$f":"K!$E$28","v":7},null,null,null,0,null,null,null,0,null,null,null,0]
[null,null,"9.","Pokaz dowolny",null,null,{"$f":"K!$E$29","v":7},null,null,null,0,null,null,null,0,null,null,null,0,null,"LISTA"]
[null,null,"10.","Podejscie do lądowania i lądowanie",null,null,{"$f":"K!$E$30","v":11},null,null,null,{"$f":"SUM(H25:J25)*G25","v":0},null,null,null,0,null,null,null,{"$f":"SUM(P25:R25)*G25","v":0}]
[null,"REALIZM LOTU"]
[null,null,"1.","Prezentacja lotu",null,null,{"$f":"K!$E$32","v":4},null,null,null,{"$f":"SUM(H27:J27)*$G27","v":0},null,null,null,{"$f":"SUM(L27:N27)*$G27","v":0},null,null,null,{"$f":"SUM(P27:R27)*$G27","v":0}]
[null,null,"2.","Prędkość lotu modelu",null,null,{"$f":"K!$E$33","v":9},null,null,null,{"$f":"SUM(H28:J28)*$G28","v":0},null,null,null,{"$f":"SUM(L28:N28)*$G28","v":0},null,null,null,{"$f":"SUM(P28:R28)*$G28","v":0},null,"REJESTR."]
[null,null,"3.","Płynność lotu",null,null,{"$f":"K!$E$34","v":9},null,null,null,{"$f":"SUM(H29:J29)*$G29","v":0},null,null,null,{"$f":"SUM(L29:N29)*$G29","v":0},null,null,null,{"$f":"SUM(P29:R29)*$G29","v":0}]
[null,null,null,null,null,null,null,"OCENA KOŃCOWA LOTU I:",null,null,{"$f":"SUM(K16:K25)+SUM(K27:K29)","v":0},"OCENA KOŃCOWA LOTU II:",null,null,{"$f":"SUM(O16:O25)+SUM(O27:O29)","v":0},"OCENA KOŃCOWA LOTU III:",null,null,{"$f":"SUM(S16:S25)+SUM(S27:S29)","v":0}]

{"sheet":"8","index":13,"n_rows":30,"n_cols":21,"rows_kept":30,"cut":false,"hidden":false,"merged":[[29,11,29,13],[29,15,29,17],[25,11,25,13],[25,15,25,17],[28,3,28,5],[29,0,29,6],[25,7,25,9],[25,2,25,5],[13,1,24,1],[13,0,28,0],[25,1,28,1],[27,3,27,5],[29,7,29,9],[20,3,20,5],[21,3,21,5],[22,3,22,5],[23,3,23,5],[24,3,24,5],[26,3,26,5],[19,3,19,5],[13,2,14,2],[13,18,14,18],[15,3,15,5],[16,3,16,5],[17,3,17,5],[18,3,18,5],[13,10,14,10],[13,11,13,13],[13,14,14,14],[13,15,13,17],[13,3,14,5],[13,6,14,6],[13,7,13,9],[4,14,5,16],[12,0,12,5],[12,14,12,17],[8,14,11,16],[9,3,9,5],[10,3,10,5],[11,7,11,9],[2,11,11,13],[2,14,3,16],[6,3,6,5],[6,14,7,16],[11,2,11,5],[0,0,1,6],[0,7,1,7],[0,8,0,10],[0,11,0,18],[1,8,1,10],[1,11,1,18],[19,20,20,20],[23,20,24,20],[27,20,28,20],[6,17,11,18],[2,0,11,1],[2,2,3,2],[2,3,3,5],[2,6,3,6],[2,7,2,9],[2,10,3,10],[7,3,7,5],[8,3,8,5],[2,17,3,18],[4,3,4,5],[4,17,5,18],[5,3,5,5]]}
["Karta oceny Zawodnika",null,null,null,null,null,null,{"$f":"REJESTRACJA!H15","v":33},"Nazwisko i Imię Zawodnika;",null,null,{"$f":"REJESTRACJA!D15","v":0}]
[null,null,null,null,null,null,null,null,"Model:",null,null,{"$f":"REJESTRACJA!E15","v":0}]
["OCENA STATYCZNA",null,"Lp.","Element oceniany",null,null,"K","OCENA ",null,null,"WYNIK",null,null,null,"WYNIK KOŃCOWY:",null,null,{"$f":"IF(S13>0,S13+K12,0)","v":0}]
[null,null,null,null,null,null,null,"Sędzia I","Sędzia II","Sędzia III"]
[null,null,"1.","Dokladność odwzorowania w skali:",null,null,null,null,null,null,null,null,null,null,"MIEJSCE:",null,null,{"$f":"IF($R$3>0,VLOOKUP($R$3,LISTA!$L$8:$M$37,2,FALSE),0)","v":0}]
[null,null,"1.1.","Widik z boku",null,null,{"$f":"K!$E$8","v":4},null,null,null,{"$f":"SUM(H6:J6)*G6","v":0}]
[null,null,"1.2.","Widok z góry",null,null,{"$f":"K!$E$9","v":4},null,null,null,{"$f":"SUM(H7:J7)*G7","v":0},null,null,null,"nr startowy w:",null,null,{"$f":"REJESTRACJA!H15","v":33}]
[null,null,"1.3.","Widok z przodu/tyłu",null,null,{"$f":"K!$E$10","v":4},null,null,null,0]
[null,null,"2.","Kolorystyka",null,null,{"$f":"K!$E$11","v":7},null,null,null,0,null,null,null,"F4H-P"]
[null,null,"3.","Oznakowanie",null,null,{"$f":"K!$E$12","v":4},null,null,null,0]
[null,null,"4.","Szczegóły",null,null,{"$f":"K!$E$13","v":2},null,null,null,{"$f":"SUM(H11:J11)*G11","v":0}]
[null,null,"BONUS:",null,null,null,{"$f":"IF(G13=\"x\",K!$E$15,0)","v":0},"OCENA KOŃCOWA:",null,null,{"$f":"IF(AND(K6>0,K7>0,K8>0),ROUND((SUM(K6:K11)*(1+G12)),2),0)","v":0}]
["MODEL WYKONANY OD PODSTAW:",null,null,null,null,null,null,null,null,null,null,null,null,null,"OCENA KOŃCOWA ZA LOTY:",null,null,null,{"$f":"ROUND(((K30+O30+S30)-MIN(K30,O30,S30))/2,2)","v":0}]
["OCENA LOTÓW","PROGRAM LOTU","Lp.","Manewr/figura",null,null,"K","OCENA I LOTU",null,null,"WYNIK","OCENA II LOTU",null,null,"WYNIK","OCENA III LOTU",null,null,"WYNIK"]
[null,null,null,null,null,null,null,"Sędzia I","Sędzia II","Sędzia III",null,"Sędzia I","Sędzia II","Sędzia III",null,"Sędzia I","Sędzia II","Sędzia III"]
[null,null,"1.","Start",null,null,{"$f":"K!$E$21","v":11},null,null,null,{"$f":"SUM(H16:J16)*$G16","v":0},null,null,null,{"$f":"SUM(L16:N16)*$G16","v":0},null,null,null,{"$f":"SUM(P16:R16)*$G16","v":0}]
[null,null,"2.","Pokaz dowolny",null,null,{"$f":"K!$E$22","v":7},null,null,null,{"$f":"SUM(H17:J17)*$G17","v":0},null,null,null,{"$f":"SUM(L17:N17)*$G17","v":0},null,null,null,{"$f":"SUM(P17:R17)*$G17","v":0}]
[null,null,"3.","Pokaz dowolny",null,null,{"$f":"K!$E$23","v":7},null,null,null,0,null,null,null,0,null,null,null,0]
[null,null,"4.","Pokaz dowolny",null,null,{"$f":"K!$E$24","v":7},null,null,null,0,null,null,null,0,null,null,null,0]
[null,null,"5.","Pokaz dowolny",null,null,{"$f":"K!$E$25","v":7},null,null,null,0,null,null,null,0,null,null,null,0,null,"WYNIKI"]
[null,null,"6.","Pokaz dowolny",null,null,{"$f":"K!$E$26","v":7},null,null,null,0,null,null,null,0,null,null,null,0]
[null,null,"7.","Pokaz dowolny",null,null,{"$f":"K!$E$27","v":7},null,null,null,0,null,null,null,0,null,null,null,0]
[null,null,"8.","Pokaz dowolny",null,null,{"$f":"K!$E$28","v":7},null,null,null,0,null,null,null,0,null,null,null,0]
[null,null,"9.","Pokaz dowolny",null,null,{"$f":"K!$E$29","v":7},null,null,null,0,null,null,null,0,null,null,null,0,null,"LISTA"]
[null,null,"10.","Podejscie do lądowania i lądowanie",null,null,{"$f":"K!$E$30","v":11},null,null,null,{"$f":"SUM(H25:J25)*G25","v":0},null,null,null,0,null,null,null,{"$f":"SUM(P25:R25)*G25","v":0}]
[null,"REALIZM LOTU"]
[null,null,"1.","Prezentacja lotu",null,null,{"$f":"K!$E$32","v":4},null,null,null,{"$f":"SUM(H27:J27)*$G27","v":0},null,null,null,{"$f":"SUM(L27:N27)*$G27","v":0},null,null,null,{"$f":"SUM(P27:R27)*$G27","v":0}]
[null,null,"2.","Prędkość lotu modelu",null,null,{"$f":"K!$E$33","v":9},null,null,null,{"$f":"SUM(H28:J28)*$G28","v":0},null,null,null,{"$f":"SUM(L28:N28)*$G28","v":0},null,null,null,{"$f":"SUM(P28:R28)*$G28","v":0},null,"REJESTR."]
[null,null,"3.","Płynność lotu",null,null,{"$f":"K!$E$34","v":9},null,null,null,{"$f":"SUM(H29:J29)*$G29","v":0},null,null,null,{"$f":"SUM(L29:N29)*$G29","v":0},null,null,null,{"$f":"SUM(P29:R29)*$G29","v":0}]
[null,null,null,null,null,null,null,"OCENA KOŃCOWA LOTU I:",null,null,{"$f":"SUM(K16:K25)+SUM(K27:K29)","v":0},"OCENA KOŃCOWA LOTU II:",null,null,{"$f":"SUM(O16:O25)+SUM(O27:O29)","v":0},"OCENA KOŃCOWA LOTU III:",null,null,{"$f":"SUM(S16:S25)+SUM(S27:S29)","v":0}]

{"sheet":"9","index":14,"n_rows":30,"n_cols":21,"rows_kept":30,"cut":false,"hidden":false,"merged":[[29,11,29,13],[29,15,29,17],[25,11,25,13],[25,15,25,17],[28,3,28,5],[29,0,29,6],[25,7,25,9],[25,2,25,5],[13,1,24,1],[13,0,28,0],[25,1,28,1],[27,3,27,5],[29,7,29,9],[20,3,20,5],[21,3,21,5],[22,3,22,5],[23,3,23,5],[24,3,24,5],[26,3,26,5],[19,3,19,5],[13,2,14,2],[13,18,14,18],[15,3,15,5],[16,3,16,5],[17,3,17,5],[18,3,18,5],[13,10,14,10],[13,11,13,13],[13,14,14,14],[13,15,13,17],[13,3,14,5],[13,6,14,6],[13,7,13,9],[4,14,5,16],[12,0,12,5],[12,14,12,17],[8,14,11,16],[9,3,9,5],[10,3,10,5],[11,7,11,9],[2,11,11,13],[2,14,3,16],[6,3,6,5],[6,14,7,16],[11,2,11,5],[0,0,1,6],[0,7,1,7],[0,8,0,10],[0,11,0,18],[1,8,1,10],[1,11,1,18],[19,20,20,20],[23,20,24,20],[27,20,28,20],[6,17,11,18],[2,0,11,1],[2,2,3,2],[2,3,3,5],[2,6,3,6],[2,7,2,9],[2,10,3,10],[7,3,7,5],[8,3,8,5],[2,17,3,18],[4,3,4,5],[4,17,5,18],[5,3,5,5]]}
["Karta oceny Zawodnika",null,null,null,null,null,null,{"$f":"REJESTRACJA!H16","v":33},"Nazwisko i Imię Zawodnika;",null,null,{"$f":"REJESTRACJA!D16","v":0}]
[null,null,null,null,null,null,null,null,"Model:",null,null,{"$f":"REJESTRACJA!E16","v":0}]
["OCENA STATYCZNA",null,"Lp.","Element oceniany",null,null,"K","OCENA ",null,null,"WYNIK",null,null,null,"WYNIK KOŃCOWY:",null,null,{"$f":"IF(S13>0,S13+K12,0)","v":0}]
[null,null,null,null,null,null,null,"Sędzia I","Sędzia II","Sędzia III"]
[null,null,"1.","Dokladność odwzorowania w skali:",null,null,null,null,null,null,null,null,null,null,"MIEJSCE:",null,null,{"$f":"IF($R$3>0,VLOOKUP($R$3,LISTA!$L$8:$M$37,2,FALSE),0)","v":0}]
[null,null,"1.1.","Widik z boku",null,null,{"$f":"K!$E$8","v":4},null,null,null,{"$f":"SUM(H6:J6)*G6","v":0}]
[null,null,"1.2.","Widok z góry",null,null,{"$f":"K!$E$9","v":4},null,null,null,{"$f":"SUM(H7:J7)*G7","v":0},null,null,null,"nr startowy w:",null,null,{"$f":"REJESTRACJA!H16","v":33}]
[null,null,"1.3.","Widok z przodu/tyłu",null,null,{"$f":"K!$E$10","v":4},null,null,null,0]
[null,null,"2.","Kolorystyka",null,null,{"$f":"K!$E$11","v":7},null,null,null,0,null,null,null,"F4H-P"]
[null,null,"3.","Oznakowanie",null,null,{"$f":"K!$E$12","v":4},null,null,null,0]
[null,null,"4.","Szczegóły",null,null,{"$f":"K!$E$13","v":2},null,null,null,{"$f":"SUM(H11:J11)*G11","v":0}]
[null,null,"BONUS:",null,null,null,{"$f":"IF(G13=\"x\",K!$E$15,0)","v":0},"OCENA KOŃCOWA:",null,null,{"$f":"IF(AND(K6>0,K7>0,K8>0),ROUND((SUM(K6:K11)*(1+G12)),2),0)","v":0}]
["MODEL WYKONANY OD PODSTAW:",null,null,null,null,null,null,null,null,null,null,null,null,null,"OCENA KOŃCOWA ZA LOTY:",null,null,null,{"$f":"ROUND(((K30+O30+S30)-MIN(K30,O30,S30))/2,2)","v":0}]
["OCENA LOTÓW","PROGRAM LOTU","Lp.","Manewr/figura",null,null,"K","OCENA I LOTU",null,null,"WYNIK","OCENA II LOTU",null,null,"WYNIK","OCENA III LOTU",null,null,"WYNIK"]
[null,null,null,null,null,null,null,"Sędzia I","Sędzia II","Sędzia III",null,"Sędzia I","Sędzia II","Sędzia III",null,"Sędzia I","Sędzia II","Sędzia III"]
[null,null,"1.","Start",null,null,{"$f":"K!$E$21","v":11},null,null,null,{"$f":"SUM(H16:J16)*$G16","v":0},null,null,null,{"$f":"SUM(L16:N16)*$G16","v":0},null,null,null,{"$f":"SUM(P16:R16)*$G16","v":0}]
[null,null,"2.","Pokaz dowolny",null,null,{"$f":"K!$E$22","v":7},null,null,null,{"$f":"SUM(H17:J17)*$G17","v":0},null,null,null,{"$f":"SUM(L17:N17)*$G17","v":0},null,null,null,{"$f":"SUM(P17:R17)*$G17","v":0}]
[null,null,"3.","Pokaz dowolny",null,null,{"$f":"K!$E$23","v":7},null,null,null,0,null,null,null,0,null,null,null,0]
[null,null,"4.","Pokaz dowolny",null,null,{"$f":"K!$E$24","v":7},null,null,null,0,null,null,null,0,null,null,null,0]
[null,null,"5.","Pokaz dowolny",null,null,{"$f":"K!$E$25","v":7},null,null,null,0,null,null,null,0,null,null,null,0,null,"WYNIKI"]
[null,null,"6.","Pokaz dowolny",null,null,{"$f":"K!$E$26","v":7},null,null,null,0,null,null,null,0,null,null,null,0]
[null,null,"7.","Pokaz dowolny",null,null,{"$f":"K!$E$27","v":7},null,null,null,0,null,null,null,0,null,null,null,0]
[null,null,"8.","Pokaz dowolny",null,null,{"$f":"K!$E$28","v":7},null,null,null,0,null,null,null,0,null,null,null,0]
[null,null,"9.","Pokaz dowolny",null,null,{"$f":"K!$E$29","v":7},null,null,null,0,null,null,null,0,null,null,null,0,null,"LISTA"]
[null,null,"10.","Podejscie do lądowania i lądowanie",null,null,{"$f":"K!$E$30","v":11},null,null,null,{"$f":"SUM(H25:J25)*G25","v":0},null,null,null,0,null,null,null,{"$f":"SUM(P25:R25)*G25","v":0}]
[null,"REALIZM LOTU"]
[null,null,"1.","Prezentacja lotu",null,null,{"$f":"K!$E$32","v":4},null,null,null,{"$f":"SUM(H27:J27)*$G27","v":0},null,null,null,{"$f":"SUM(L27:N27)*$G27","v":0},null,null,null,{"$f":"SUM(P27:R27)*$G27","v":0}]
[null,null,"2.","Prędkość lotu modelu",null,null,{"$f":"K!$E$33","v":9},null,null,null,{"$f":"SUM(H28:J28)*$G28","v":0},null,null,null,{"$f":"SUM(L28:N28)*$G28","v":0},null,null,null,{"$f":"SUM(P28:R28)*$G28","v":0},null,"REJESTR."]
[null,null,"3.","Płynność lotu",null,null,{"$f":"K!$E$34","v":9},null,null,null,{"$f":"SUM(H29:J29)*$G29","v":0},null,null,null,{"$f":"SUM(L29:N29)*$G29","v":0},null,null,null,{"$f":"SUM(P29:R29)*$G29","v":0}]
[null,null,null,null,null,null,null,"OCENA KOŃCOWA LOTU I:",null,null,{"$f":"SUM(K16:K25)+SUM(K27:K29)","v":0},"OCENA KOŃCOWA LOTU II:",null,null,{"$f":"SUM(O16:O25)+SUM(O27:O29)","v":0},"OCENA KOŃCOWA LOTU III:",null,null,{"$f":"SUM(S16:S25)+SUM(S27:S29)","v":0}]

{"sheet":"10","index":15,"n_rows":30,"n_cols":21,"rows_kept":30,"cut":false,"hidden":false,"merged":[[29,11,29,13],[29,15,29,17],[25,11,25,13],[25,15,25,17],[28,3,28,5],[29,0,29,6],[25,2,25,5],[25,7,25,9],[13,1,24,1],[13,0,28,0],[25,1,28,1],[27,3,27,5],[29,7,29,9],[20,3,20,5],[21,3,21,5],[22,3,22,5],[23,3,23,5],[24,3,24,5],[26,3,26,5],[19,3,19,5],[13,2,14,2],[13,18,14,18],[15,3,15,5],[16,3,16,5],[17,3,17,5],[18,3,18,5],[13,10,14,10],[13,11,13,13],[13,14,14,14],[13,15,13,17],[13,3,14,5],[13,6,14,6],[13,7,13,9],[4,14,5,16],[12,0,12,5],[12,14,12,17],[8,14,11,16],[9,3,9,5],[10,3,10,5],[11,7,11,9],[2,11,11,13],[2,14,3,16],[6,3,6,5],[6,14,7,16],[11,2,11,5],[0,0,1,6],[0,7,1,7],[0,8,0,10],[0,11,0,18],[1,8,1,10],[1,11,1,18],[19,20,20,20],[23,20,24,20],[27,20,28,20],[6,17,11,18],[2,0,11,1],[2,2,3,2],[2,3,3,5],[2,6,3,6],[2,7,2,9],[2,10,3,10],[7,3,7,5],[8,3,8,5],[2,17,3,18],[4,3,4,5],[4,17,5,18],[5,3,5,5]]}
["Karta oceny Zawodnika",null,null,null,null,null,null,{"$f":"REJESTRACJA!H17","v":33},"Nazwisko i Imię Zawodnika;",null,null,{"$f":"REJESTRACJA!D17","v":0}]
[null,null,null,null,null,null,null,null,"Model:",null,null,{"$f":"REJESTRACJA!E17","v":0}]
["OCENA STATYCZNA",null,"Lp.","Element oceniany",null,null,"K","OCENA ",null,null,"WYNIK",null,null,null,"WYNIK KOŃCOWY:",null,null,{"$f":"IF(S13>0,S13+K12,0)","v":0}]
[null,null,null,null,null,null,null,"Sędzia I","Sędzia II","Sędzia III"]
[null,null,"1.","Dokladność odwzorowania w skali:",null,null,null,null,null,null,null,null,null,null,"MIEJSCE:",null,null,{"$f":"IF($R$3>0,VLOOKUP($R$3,LISTA!$L$8:$M$37,2,FALSE),0)","v":0}]
[null,null,"1.1.","Widik z boku",null,null,{"$f":"K!$E$8","v":4},null,null,null,{"$f":"SUM(H6:J6)*G6","v":0}]
[null,null,"1.2.","Widok z góry",null,null,{"$f":"K!$E$9","v":4},null,null,null,{"$f":"SUM(H7:J7)*G7","v":0},null,null,null,"nr startowy w:",null,null,{"$f":"REJESTRACJA!H17","v":33}]
[null,null,"1.3.","Widok z przodu/tyłu",null,null,{"$f":"K!$E$10","v":4},null,null,null,0]
[null,null,"2.","Kolorystyka",null,null,{"$f":"K!$E$11","v":7},null,null,null,0,null,null,null,"F4H-P"]
[null,null,"3.","Oznakowanie",null,null,{"$f":"K!$E$12","v":4},null,null,null,0]
[null,null,"4.","Szczegóły",null,null,{"$f":"K!$E$13","v":2},null,null,null,{"$f":"SUM(H11:J11)*G11","v":0}]
[null,null,"BONUS:",null,null,null,{"$f":"IF(G13=\"x\",K!$E$15,0)","v":0},"OCENA KOŃCOWA:",null,null,{"$f":"IF(AND(K6>0,K7>0,K8>0),ROUND((SUM(K6:K11)*(1+G12)),2),0)","v":0}]
["MODEL WYKONANY OD PODSTAW:",null,null,null,null,null,null,null,null,null,null,null,null,null,"OCENA KOŃCOWA ZA LOTY:",null,null,null,{"$f":"ROUND(((K30+O30+S30)-MIN(K30,O30,S30))/2,2)","v":0}]
["OCENA LOTÓW","PROGRAM LOTU","Lp.","Manewr/figura",null,null,"K","OCENA I LOTU",null,null,"WYNIK","OCENA II LOTU",null,null,"WYNIK","OCENA III LOTU",null,null,"WYNIK"]
[null,null,null,null,null,null,null,"Sędzia I","Sędzia II","Sędzia III",null,"Sędzia I","Sędzia II","Sędzia III",null,"Sędzia I","Sędzia II","Sędzia III"]
[null,null,"1.","Start",null,null,{"$f":"K!$E$21","v":11},null,null,null,{"$f":"SUM(H16:J16)*$G16","v":0},null,null,null,{"$f":"SUM(L16:N16)*$G16","v":0},null,null,null,{"$f":"SUM(P16:R16)*$G16","v":0}]
[null,null,"2.","Pokaz dowolny",null,null,{"$f":"K!$E$22","v":7},null,null,null,{"$f":"SUM(H17:J17)*$G17","v":0},null,null,null,{"$f":"SUM(L17:N17)*$G17","v":0},null,null,null,{"$f":"SUM(P17:R17)*$G17","v":0}]
[null,null,"3.","Pokaz dowolny",null,null,{"$f":"K!$E$23","v":7},null,null,null,0,null,null,null,0,null,null,null,0]
[null,null,"4.","Pokaz dowolny",null,null,{"$f":"K!$E$24","v":7},null,null,null,0,null,null,null,0,null,null,null,0]
[null,null,"5.","Pokaz dowolny",null,null,{"$f":"K!$E$25","v":7},null,null,null,0,null,null,null,0,null,null,null,0,null,"WYNIKI"]
[null,null,"6.","Pokaz dowolny",null,null,{"$f":"K!$E$26","v":7},null,null,null,0,null,null,null,0,null,null,null,0]
[null,null,"7.","Pokaz dowolny",null,null,{"$f":"K!$E$27","v":7},null,null,null,0,null,null,null,0,null,null,null,0]
[null,null,"8.","Pokaz dowolny",null,null,{"$f":"K!$E$28","v":7},null,null,null,0,null,null,null,0,null,null,null,0]
[null,null,"9.","Pokaz dowolny",null,null,{"$f":"K!$E$29","v":7},null,null,null,0,null,null,null,0,null,null,null,0,null,"LISTA"]
[null,null,"10.","Podejscie do lądowania i lądowanie",null,null,{"$f":"K!$E$30","v":11},null,null,null,{"$f":"SUM(H25:J25)*G25","v":0},null,null,null,0,null,null,null,{"$f":"SUM(P25:R25)*G25","v":0}]
[null,"REALIZM LOTU"]
[null,null,"1.","Prezentacja lotu",null,null,{"$f":"K!$E$32","v":4},null,null,null,{"$f":"SUM(H27:J27)*$G27","v":0},null,null,null,{"$f":"SUM(L27:N27)*$G27","v":0},null,null,null,{"$f":"SUM(P27:R27)*$G27","v":0}]
[null,null,"2.","Prędkość lotu modelu",null,null,{"$f":"K!$E$33","v":9},null,null,null,{"$f":"SUM(H28:J28)*$G28","v":0},null,null,null,{"$f":"SUM(L28:N28)*$G28","v":0},null,null,null,{"$f":"SUM(P28:R28)*$G28","v":0},null,"REJESTR."]
[null,null,"3.","Płynność lotu",null,null,{"$f":"K!$E$34","v":9},null,null,null,{"$f":"SUM(H29:J29)*$G29","v":0},null,null,null,{"$f":"SUM(L29:N29)*$G29","v":0},null,null,null,{"$f":"SUM(P29:R29)*$G29","v":0}]
[null,null,null,null,null,null,null,"OCENA KOŃCOWA LOTU I:",null,null,{"$f":"SUM(K16:K25)+SUM(K27:K29)","v":0},"OCENA KOŃCOWA LOTU II:",null,null,{"$f":"SUM(O16:O25)+SUM(O27:O29)","v":0},"OCENA KOŃCOWA LOTU III:",null,null,{"$f":"SUM(S16:S25)+SUM(S27:S29)","v":0}]

{"sheet":"11","index":16,"n_rows":30,"n_cols":21,"rows_kept":30,"cut":false,"hidden":false,"merged":[[29,11,29,13],[29,15,29,17],[25,11,25,13],[25,15,25,17],[28,3,28,5],[29,0,29,6],[25,7,25,9],[25,2,25,5],[13,0,28,0],[13,1,24,1],[25,1,28,1],[27,3,27,5],[29,7,29,9],[20,3,20,5],[21,3,21,5],[22,3,22,5],[23,3,23,5],[24,3,24,5],[26,3,26,5],[13,18,14,18],[15,3,15,5],[16,3,16,5],[17,3,17,5],[18,3,18,5],[13,10,14,10],[13,11,13,13],[13,14,14,14],[13,15,13,17],[19,3,19,5],[13,2,14,2],[13,3,14,5],[13,6,14,6],[13,7,13,9],[4,14,5,16],[12,0,12,5],[12,14,12,17],[8,14,11,16],[9,3,9,5],[10,3,10,5],[11,7,11,9],[2,11,11,13],[2,14,3,16],[6,3,6,5],[6,14,7,16],[11,2,11,5],[0,0,1,6],[0,7,1,7],[0,8,0,10],[0,11,0,18],[1,8,1,10],[1,11,1,18],[19,20,20,20],[23,20,24,20],[27,20,28,20],[6,17,11,18],[2,0,11,1],[2,2,3,2],[2,3,3,5],[2,6,3,6],[2,7,2,9],[2,10,3,10],[7,3,7,5],[8,3,8,5],[2,17,3,18],[4,3,4,5],[4,17,5,18],[5,3,5,5]]}
["Karta oceny Zawodnika",null,null,null,null,null,null,{"$f":"REJESTRACJA!H18","v":33},"Nazwisko i Imię Zawodnika;",null,null,{"$f":"REJESTRACJA!D18","v":0}]
[null,null,null,null,null,null,null,null,"Model:",null,null,{"$f":"REJESTRACJA!E18","v":0}]
["OCENA STATYCZNA",null,"Lp.","Element oceniany",null,null,"K","OCENA ",null,null,"WYNIK",null,null,null,"WYNIK KOŃCOWY:",null,null,{"$f":"IF(S13>0,S13+K12,0)","v":0}]
[null,null,null,null,null,null,null,"Sędzia I","Sędzia II","Sędzia III"]
[null,null,"1.","Dokladność odwzorowania w skali:",null,null,null,null,null,null,null,null,null,null,"MIEJSCE:",null,null,{"$f":"IF($R$3>0,VLOOKUP($R$3,LISTA!$L$8:$M$37,2,FALSE),0)","v":0}]
[null,null,"1.1.","Widik z boku",null,null,{"$f":"K!$E$8","v":4},null,null,null,{"$f":"SUM(H6:J6)*G6","v":0}]
[null,null,"1.2.","Widok z góry",null,null,{"$f":"K!$E$9","v":4},null,null,null,{"$f":"SUM(H7:J7)*G7","v":0},null,null,null,"nr startowy w:",null,null,{"$f":"REJESTRACJA!H18","v":33}]
[null,null,"1.3.","Widok z przodu/tyłu",null,null,{"$f":"K!$E$10","v":4},null,null,null,0]
[null,null,"2.","Kolorystyka",null,null,{"$f":"K!$E$11","v":7},null,null,null,0,null,null,null,"F4H-P"]
[null,null,"3.","Oznakowanie",null,null,{"$f":"K!$E$12","v":4},null,null,null,0]
[null,null,"4.","Szczegóły",null,null,{"$f":"K!$E$13","v":2},null,null,null,{"$f":"SUM(H11:J11)*G11","v":0}]
[null,null,"BONUS:",null,null,null,{"$f":"IF(G13=\"x\",K!$E$15,0)","v":0},"OCENA KOŃCOWA:",null,null,{"$f":"IF(AND(K6>0,K7>0,K8>0),ROUND((SUM(K6:K11)*(1+G12)),2),0)","v":0}]
["MODEL WYKONANY OD PODSTAW:",null,null,null,null,null,null,null,null,null,null,null,null,null,"OCENA KOŃCOWA ZA LOTY:",null,null,null,{"$f":"ROUND(((K30+O30+S30)-MIN(K30,O30,S30))/2,2)","v":0}]
["OCENA LOTÓW","PROGRAM LOTU","Lp.","Manewr/figura",null,null,"K","OCENA I LOTU",null,null,"WYNIK","OCENA II LOTU",null,null,"WYNIK","OCENA III LOTU",null,null,"WYNIK"]
[null,null,null,null,null,null,null,"Sędzia I","Sędzia II","Sędzia III",null,"Sędzia I","Sędzia II","Sędzia III",null,"Sędzia I","Sędzia II","Sędzia III"]
[null,null,"1.","Start",null,null,{"$f":"K!$E$21","v":11},null,null,null,{"$f":"SUM(H16:J16)*$G16","v":0},null,null,null,{"$f":"SUM(L16:N16)*$G16","v":0},null,null,null,{"$f":"SUM(P16:R16)*$G16","v":0}]
[null,null,"2.","Pokaz dowolny",null,null,{"$f":"K!$E$22","v":7},null,null,null,{"$f":"SUM(H17:J17)*$G17","v":0},null,null,null,{"$f":"SUM(L17:N17)*$G17","v":0},null,null,null,{"$f":"SUM(P17:R17)*$G17","v":0}]
[null,null,"3.","Pokaz dowolny",null,null,{"$f":"K!$E$23","v":7},null,null,null,0,null,null,null,0,null,null,null,0]
[null,null,"4.","Pokaz dowolny",null,null,{"$f":"K!$E$24","v":7},null,null,null,0,null,null,null,0,null,null,null,0]
[null,null,"5.","Pokaz dowolny",null,null,{"$f":"K!$E$25","v":7},null,null,null,0,null,null,null,0,null,null,null,0,null,"WYNIKI"]
[null,null,"6.","Pokaz dowolny",null,null,{"$f":"K!$E$26","v":7},null,null,null,0,null,null,null,0,null,null,null,0]
[null,null,"7.","Pokaz dowolny",null,null,{"$f":"K!$E$27","v":7},null,null,null,0,null,null,null,0,null,null,null,0]
[null,null,"8.","Pokaz dowolny",null,null,{"$f":"K!$E$28","v":7},null,null,null,0,null,null,null,0,null,null,null,0]
[null,null,"9.","Pokaz dowolny",null,null,{"$f":"K!$E$29","v":7},null,null,null,0,null,null,null,0,null,null,null,0,null,"LISTA"]
[null,null,"10.","Podejscie do lądowania i lądowanie",null,null,{"$f":"K!$E$30","v":11},null,null,null,{"$f":"SUM(H25:J25)*G25","v":0},null,null,null,0,null,null,null,{"$f":"SUM(P25:R25)*G25","v":0}]
[null,"REALIZM LOTU"]
[null,null,"1.","Prezentacja lotu",null,null,{"$f":"K!$E$32","v":4},null,null,null,{"$f":"SUM(H27:J27)*$G27","v":0},null,null,null,{"$f":"SUM(L27:N27)*$G27","v":0},null,null,null,{"$f":"SUM(P27:R27)*$G27","v":0}]
[null,null,"2.","Prędkość lotu modelu",null,null,{"$f":"K!$E$33","v":9},null,null,null,{"$f":"SUM(H28:J28)*$G28","v":0},null,null,null,{"$f":"SUM(L28:N28)*$G28","v":0},null,null,null,{"$f":"SUM(P28:R28)*$G28","v":0},null,"REJESTR."]
[null,null,"3.","Płynność lotu",null,null,{"$f":"K!$E$34","v":9},null,null,null,{"$f":"SUM(H29:J29)*$G29","v":0},null,null,null,{"$f":"SUM(L29:N29)*$G29","v":0},null,null,null,{"$f":"SUM(P29:R29)*$G29","v":0}]
[null,null,null,null,null,null,null,"OCENA KOŃCOWA LOTU I:",null,null,{"$f":"SUM(K16:K25)+SUM(K27:K29)","v":0},"OCENA KOŃCOWA LOTU II:",null,null,{"$f":"SUM(O16:O25)+SUM(O27:O29)","v":0},"OCENA KOŃCOWA LOTU III:",null,null,{"$f":"SUM(S16:S25)+SUM(S27:S29)","v":0}]

{"sheet":"12","index":17,"n_rows":30,"n_cols":21,"rows_kept":30,"cut":false,"hidden":false,"merged":[[29,11,29,13],[29,15,29,17],[25,11,25,13],[25,15,25,17],[28,3,28,5],[29,0,29,6],[25,2,25,5],[25,7,25,9],[13,1,24,1],[13,0,28,0],[25,1,28,1],[27,3,27,5],[29,7,29,9],[20,3,20,5],[21,3,21,5],[22,3,22,5],[23,3,23,5],[24,3,24,5],[26,3,26,5],[19,3,19,5],[13,2,14,2],[13,18,14,18],[15,3,15,5],[16,3,16,5],[17,3,17,5],[18,3,18,5],[13,10,14,10],[13,11,13,13],[13,14,14,14],[13,15,13,17],[13,3,14,5],[13,6,14,6],[13,7,13,9],[4,14,5,16],[12,0,12,5],[12,14,12,17],[8,14,11,16],[9,3,9,5],[10,3,10,5],[11,7,11,9],[2,11,11,13],[2,14,3,16],[6,3,6,5],[6,14,7,16],[11,2,11,5],[0,0,1,6],[0,7,1,7],[0,8,0,10],[0,11,0,18],[1,8,1,10],[1,11,1,18],[19,20,20,20],[23,20,24,20],[27,20,28,20],[6,17,11,18],[2,0,11,1],[2,2,3,2],[2,3,3,5],[2,6,3,6],[2,7,2,9],[2,10,3,10],[7,3,7,5],[8,3,8,5],[2,17,3,18],[4,3,4,5],[4,17,5,18],[5,3,5,5]]}
["Karta oceny Zawodnika",null,null,null,null,null,null,{"$f":"REJESTRACJA!H19","v":33},"Nazwisko i Imię Zawodnika;",null,null,{"$f":"REJESTRACJA!D19","v":0}]
[null,null,null,null,null,null,null,null,"Model:",null,null,{"$f":"REJESTRACJA!E19","v":0}]
["OCENA STATYCZNA",null,"Lp.","Element oceniany",null,null,"K","OCENA ",null,null,"WYNIK",null,null,null,"WYNIK KOŃCOWY:",null,null,{"$f":"IF(S13>0,S13+K12,0)","v":0}]
[null,null,null,null,null,null,null,"Sędzia I","Sędzia II","Sędzia III"]
[null,null,"1.","Dokladność odwzorowania w skali:",null,null,null,null,null,null,null,null,null,null,"MIEJSCE:",null,null,{"$f":"IF($R$3>0,VLOOKUP($R$3,LISTA!$L$8:$M$37,2,FALSE),0)","v":0}]
[null,null,"1.1.","Widik z boku",null,null,{"$f":"K!$E$8","v":4},null,null,null,{"$f":"SUM(H6:J6)*G6","v":0}]
[null,null,"1.2.","Widok z góry",null,null,{"$f":"K!$E$9","v":4},null,null,null,{"$f":"SUM(H7:J7)*G7","v":0},null,null,null,"nr startowy w:",null,null,{"$f":"REJESTRACJA!H19","v":33}]
[null,null,"1.3.","Widok z przodu/tyłu",null,null,{"$f":"K!$E$10","v":4},null,null,null,0]
[null,null,"2.","Kolorystyka",null,null,{"$f":"K!$E$11","v":7},null,null,null,0,null,null,null,"F4H-P"]
[null,null,"3.","Oznakowanie",null,null,{"$f":"K!$E$12","v":4},null,null,null,0]
[null,null,"4.","Szczegóły",null,null,{"$f":"K!$E$13","v":2},null,null,null,{"$f":"SUM(H11:J11)*G11","v":0}]
[null,null,"BONUS:",null,null,null,{"$f":"IF(G13=\"x\",K!$E$15,0)","v":0},"OCENA KOŃCOWA:",null,null,{"$f":"IF(AND(K6>0,K7>0,K8>0),ROUND((SUM(K6:K11)*(1+G12)),2),0)","v":0}]
["MODEL WYKONANY OD PODSTAW:",null,null,null,null,null,null,null,null,null,null,null,null,null,"OCENA KOŃCOWA ZA LOTY:",null,null,null,{"$f":"ROUND(((K30+O30+S30)-MIN(K30,O30,S30))/2,2)","v":0}]
["OCENA LOTÓW","PROGRAM LOTU","Lp.","Manewr/figura",null,null,"K","OCENA I LOTU",null,null,"WYNIK","OCENA II LOTU",null,null,"WYNIK","OCENA III LOTU",null,null,"WYNIK"]
[null,null,null,null,null,null,null,"Sędzia I","Sędzia II","Sędzia III",null,"Sędzia I","Sędzia II","Sędzia III",null,"Sędzia I","Sędzia II","Sędzia III"]
[null,null,"1.","Start",null,null,{"$f":"K!$E$21","v":11},null,null,null,{"$f":"SUM(H16:J16)*$G16","v":0},null,null,null,{"$f":"SUM(L16:N16)*$G16","v":0},null,null,null,{"$f":"SUM(P16:R16)*$G16","v":0}]
[null,null,"2.","Pokaz dowolny",null,null,{"$f":"K!$E$22","v":7},null,null,null,{"$f":"SUM(H17:J17)*$G17","v":0},null,null,null,{"$f":"SUM(L17:N17)*$G17","v":0},null,null,null,{"$f":"SUM(P17:R17)*$G17","v":0}]
[null,null,"3.","Pokaz dowolny",null,null,{"$f":"K!$E$23","v":7},null,null,null,0,null,null,null,0,null,null,null,0]
[null,null,"4.","Pokaz dowolny",null,null,{"$f":"K!$E$24","v":7},null,null,null,0,null,null,null,0,null,null,null,0]
[null,null,"5.","Pokaz dowolny",null,null,{"$f":"K!$E$25","v":7},null,null,null,0,null,null,null,0,null,null,null,0,null,"WYNIKI"]
[null,null,"6.","Pokaz dowolny",null,null,{"$f":"K!$E$26","v":7},null,null,null,0,null,null,null,0,null,null,null,0]
[null,null,"7.","Pokaz dowolny",null,null,{"$f":"K!$E$27","v":7},null,null,null,0,null,null,null,0,null,null,null,0]
[null,null,"8.","Pokaz dowolny",null,null,{"$f":"K!$E$28","v":7},null,null,null,0,null,null,null,0,null,null,null,0]
[null,null,"9.","Pokaz dowolny",null,null,{"$f":"K!$E$29","v":7},null,null,null,0,null,null,null,0,null,null,null,0,null,"LISTA"]
[null,null,"10.","Podejscie do lądowania i lądowanie",null,null,{"$f":"K!$E$30","v":11},null,null,null,{"$f":"SUM(H25:J25)*G25","v":0},null,null,null,0,null,null,null,{"$f":"SUM(P25:R25)*G25","v":0}]
[null,"REALIZM LOTU"]
[null,null,"1.","Prezentacja lotu",null,null,{"$f":"K!$E$32","v":4},null,null,null,{"$f":"SUM(H27:J27)*$G27","v":0},null,null,null,{"$f":"SUM(L27:N27)*$G27","v":0},null,null,null,{"$f":"SUM(P27:R27)*$G27","v":0}]
[null,null,"2.","Prędkość lotu modelu",null,null,{"$f":"K!$E$33","v":9},null,null,null,{"$f":"SUM(H28:J28)*$G28","v":0},null,null,null,{"$f":"SUM(L28:N28)*$G28","v":0},null,null,null,{"$f":"SUM(P28:R28)*$G28","v":0},null,"REJESTR."]
[null,null,"3.","Płynność lotu",null,null,{"$f":"K!$E$34","v":9},null,null,null,{"$f":"SUM(H29:J29)*$G29","v":0},null,null,null,{"$f":"SUM(L29:N29)*$G29","v":0},null,null,null,{"$f":"SUM(P29:R29)*$G29","v":0}]
[null,null,null,null,null,null,null,"OCENA KOŃCOWA LOTU I:",null,null,{"$f":"SUM(K16:K25)+SUM(K27:K29)","v":0},"OCENA KOŃCOWA LOTU II:",null,null,{"$f":"SUM(O16:O25)+SUM(O27:O29)","v":0},"OCENA KOŃCOWA LOTU III:",null,null,{"$f":"SUM(S16:S25)+SUM(S27:S29)","v":0}]

{"sheet":"13","index":18,"n_rows":30,"n_cols":21,"rows_kept":30,"cut":false,"hidden":false,"merged":[[29,11,29,13],[29,15,29,17],[25,11,25,13],[25,15,25,17],[28,3,28,5],[29,0,29,6],[25,7,25,9],[25,2,25,5],[13,0,28,0],[13,1,24,1],[25,1,28,1],[27,3,27,5],[29,7,29,9],[20,3,20,5],[21,3,21,5],[22,3,22,5],[23,3,23,5],[24,3,24,5],[26,3,26,5],[13,18,14,18],[15,3,15,5],[16,3,16,5],[17,3,17,5],[18,3,18,5],[13,10,14,10],[13,11,13,13],[13,14,14,14],[13,15,13,17],[19,3,19,5],[13,2,14,2],[13,3,14,5],[13,6,14,6],[13,7,13,9],[4,14,5,16],[12,0,12,5],[12,14,12,17],[8,14,11,16],[9,3,9,5],[10,3,10,5],[11,7,11,9],[2,11,11,13],[2,14,3,16],[6,3,6,5],[6,14,7,16],[11,2,11,5],[0,0,1,6],[0,7,1,7],[0,8,0,10],[0,11,0,18],[1,8,1,10],[1,11,1,18],[19,20,20,20],[23,20,24,20],[27,20,28,20],[6,17,11,18],[2,0,11,1],[2,2,3,2],[2,3,3,5],[2,6,3,6],[2,7,2,9],[2,10,3,10],[7,3,7,5],[8,3,8,5],[2,17,3,18],[4,3,4,5],[4,17,5,18],[5,3,5,5]]}
["Karta oceny Zawodnika",null,null,null,null,null,null,{"$f":"REJESTRACJA!H20","v":33},"Nazwisko i Imię Zawodnika;",null,null,{"$f":"REJESTRACJA!D20","v":0}]
[null,null,null,null,null,null,null,null,"Model:",null,null,{"$f":"REJESTRACJA!E20","v":0}]
["OCENA STATYCZNA",null,"Lp.","Element oceniany",null,null,"K","OCENA ",null,null,"WYNIK",null,null,null,"WYNIK KOŃCOWY:",null,null,{"$f":"IF(S13>0,S13+K12,0)","v":0}]
[null,null,null,null,null,null,null,"Sędzia I","Sędzia II","Sędzia III"]
[null,null,"1.","Dokladność odwzorowania w skali:",null,null,null,null,null,null,null,null,null,null,"MIEJSCE:",null,null,{"$f":"IF($R$3>0,VLOOKUP($R$3,LISTA!$L$8:$M$37,2,FALSE),0)","v":0}]
[null,null,"1.1.","Widik z boku",null,null,{"$f":"K!$E$8","v":4},null,null,null,{"$f":"SUM(H6:J6)*G6","v":0}]
[null,null,"1.2.","Widok z góry",null,null,{"$f":"K!$E$9","v":4},null,null,null,{"$f":"SUM(H7:J7)*G7","v":0},null,null,null,"nr startowy w:",null,null,{"$f":"REJESTRACJA!H20","v":33}]
[null,null,"1.3.","Widok z przodu/tyłu",null,null,{"$f":"K!$E$10","v":4},null,null,null,0]
[null,null,"2.","Kolorystyka",null,null,{"$f":"K!$E$11","v":7},null,null,null,0,null,null,null,"F4H-P"]
[null,null,"3.","Oznakowanie",null,null,{"$f":"K!$E$12","v":4},null,null,null,0]
[null,null,"4.","Szczegóły",null,null,{"$f":"K!$E$13","v":2},null,null,null,{"$f":"SUM(H11:J11)*G11","v":0}]
[null,null,"BONUS:",null,null,null,{"$f":"IF(G13=\"x\",K!$E$15,0)","v":0},"OCENA KOŃCOWA:",null,null,{"$f":"IF(AND(K6>0,K7>0,K8>0),ROUND((SUM(K6:K11)*(1+G12)),2),0)","v":0}]
["MODEL WYKONANY OD PODSTAW:",null,null,null,null,null,null,null,null,null,null,null,null,null,"OCENA KOŃCOWA ZA LOTY:",null,null,null,{"$f":"ROUND(((K30+O30+S30)-MIN(K30,O30,S30))/2,2)","v":0}]
["OCENA LOTÓW","PROGRAM LOTU","Lp.","Manewr/figura",null,null,"K","OCENA I LOTU",null,null,"WYNIK","OCENA II LOTU",null,null,"WYNIK","OCENA III LOTU",null,null,"WYNIK"]
[null,null,null,null,null,null,null,"Sędzia I","Sędzia II","Sędzia III",null,"Sędzia I","Sędzia II","Sędzia III",null,"Sędzia I","Sędzia II","Sędzia III"]
[null,null,"1.","Start",null,null,{"$f":"K!$E$21","v":11},null,null,null,{"$f":"SUM(H16:J16)*$G16","v":0},null,null,null,{"$f":"SUM(L16:N16)*$G16","v":0},null,null,null,{"$f":"SUM(P16:R16)*$G16","v":0}]
[null,null,"2.","Pokaz dowolny",null,null,{"$f":"K!$E$22","v":7},null,null,null,{"$f":"SUM(H17:J17)*$G17","v":0},null,null,null,{"$f":"SUM(L17:N17)*$G17","v":0},null,null,null,{"$f":"SUM(P17:R17)*$G17","v":0}]
[null,null,"3.","Pokaz dowolny",null,null,{"$f":"K!$E$23","v":7},null,null,null,0,null,null,null,0,null,null,null,0]
[null,null,"4.","Pokaz dowolny",null,null,{"$f":"K!$E$24","v":7},null,null,null,0,null,null,null,0,null,null,null,0]
[null,null,"5.","Pokaz dowolny",null,null,{"$f":"K!$E$25","v":7},null,null,null,0,null,null,null,0,null,null,null,0,null,"WYNIKI"]
[null,null,"6.","Pokaz dowolny",null,null,{"$f":"K!$E$26","v":7},null,null,null,0,null,null,null,0,null,null,null,0]
[null,null,"7.","Pokaz dowolny",null,null,{"$f":"K!$E$27","v":7},null,null,null,0,null,null,null,0,null,null,null,0]
[null,null,"8.","Pokaz dowolny",null,null,{"$f":"K!$E$28","v":7},null,null,null,0,null,null,null,0,null,null,null,0]
[null,null,"9.","Pokaz dowolny",null,null,{"$f":"K!$E$29","v":7},null,null,null,0,null,null,null,0,null,null,null,0,null,"LISTA"]
[null,null,"10.","Podejscie do lądowania i lądowanie",null,null,{"$f":"K!$E$30","v":11},null,null,null,{"$f":"SUM(H25:J25)*G25","v":0},null,null,null,0,null,null,null,{"$f":"SUM(P25:R25)*G25","v":0}]
[null,"REALIZM LOTU"]
[null,null,"1.","Prezentacja lotu",null,null,{"$f":"K!$E$32","v":4},null,null,null,{"$f":"SUM(H27:J27)*$G27","v":0},null,null,null,{"$f":"SUM(L27:N27)*$G27","v":0},null,null,null,{"$f":"SUM(P27:R27)*$G27","v":0}]
[null,null,"2.","Prędkość lotu modelu",null,null,{"$f":"K!$E$33","v":9},null,null,null,{"$f":"SUM(H28:J28)*$G28","v":0},null,null,null,{"$f":"SUM(L28:N28)*$G28","v":0},null,null,null,{"$f":"SUM(P28:R28)*$G28","v":0},null,"REJESTR."]
[null,null,"3.","Płynność lotu",null,null,{"$f":"K!$E$34","v":9},null,null,null,{"$f":"SUM(H29:J29)*$G29","v":0},null,null,null,{"$f":"SUM(L29:N29)*$G29","v":0},null,null,null,{"$f":"SUM(P29:R29)*$G29","v":0}]
[null,null,null,null,null,null,null,"OCENA KOŃCOWA LOTU I:",null,null,{"$f":"SUM(K16:K25)+SUM(K27:K29)","v":0},"OCENA KOŃCOWA LOTU II:",null,null,{"$f":"SUM(O16:O25)+SUM(O27:O29)","v":0},"OCENA KOŃCOWA LOTU III:",null,null,{"$f":"SUM(S16:S25)+SUM(S27:S29)","v":0}]

{"sheet":"14","index":19,"n_rows":30,"n_cols":21,"rows_kept":30,"cut":false,"hidden":false,"merged":[[25,7,25,9],[25,2,25,5],[12,0,12,5],[13,18,14,18],[29,7,29,9],[25,1,28,1],[13,1,24,1],[13,0,28,0],[13,10,14,10],[13,6,14,6],[13,7,13,9],[13,2,14,2],[13,3,14,5],[13,11,13,13],[29,11,29,13],[29,15,29,17],[25,11,25,13],[25,15,25,17],[13,14,14,14],[13,15,13,17],[12,14,12,17],[8,14,11,16],[4,3,4,5],[5,3,5,5],[9,3,9,5],[11,7,11,9],[2,11,11,13],[2,14,3,16],[6,3,6,5],[6,14,7,16],[11,2,11,5],[0,0,1,6],[0,7,1,7],[0,8,0,10],[0,11,0,18],[1,8,1,10],[1,11,1,18],[19,20,20,20],[23,20,24,20],[27,20,28,20],[2,0,11,1],[2,2,3,2],[2,3,3,5],[2,6,3,6],[2,7,2,9],[7,3,7,5],[8,3,8,5],[6,17,11,18],[2,10,3,10],[2,17,3,18],[4,14,5,16],[10,3,10,5],[4,17,5,18]]}
["Karta oceny Zawodnika",null,null,null,null,null,null,{"$f":"REJESTRACJA!H21","v":33},"Nazwisko i Imię Zawodnika;",null,null,{"$f":"REJESTRACJA!D21","v":0}]
[null,null,null,null,null,null,null,null,"Model:",null,null,{"$f":"REJESTRACJA!E21","v":0}]
["OCENA STATYCZNA",null,"Lp.","Element oceniany",null,null,"K","OCENA ",null,null,"WYNIK",null,null,null,"WYNIK KOŃCOWY:",null,null,{"$f":"IF(S13>0,S13+K12,0)","v":0}]
[null,null,null,null,null,null,null,"Sędzia I","Sędzia II","Sędzia III"]
[null,null,"1.","Dokladność odwzorowania w skali:",null,null,null,null,null,null,null,null,null,null,"MIEJSCE:",null,null,{"$f":"IF($R$3>0,VLOOKUP($R$3,LISTA!$L$8:$M$37,2,FALSE),0)","v":0}]
[null,null,"1.1.","Widik z boku",null,null,{"$f":"K!$E$8","v":4},null,null,null,{"$f":"SUM(H6:J6)*G6","v":0}]
[null,null,"1.2.","Widok z góry",null,null,{"$f":"K!$E$9","v":4},null,null,null,{"$f":"SUM(H7:J7)*G7","v":0},null,null,null,"nr startowy w:",null,null,{"$f":"REJESTRACJA!H21","v":33}]
[null,null,"1.3.","Widok z przodu/tyłu",null,null,{"$f":"K!$E$10","v":4},null,null,null,0]
[null,null,"2.","Kolorystyka",null,null,{"$f":"K!$E$11","v":7},null,null,null,0,null,null,null,"F4H-P"]
[null,null,"3.","Oznakowanie",null,null,{"$f":"K!$E$12","v":4},null,null,null,0]
[null,null,"4.","Szczegóły",null,null,{"$f":"K!$E$13","v":2},null,null,null,{"$f":"SUM(H11:J11)*G11","v":0}]
[null,null,"BONUS:",null,null,null,{"$f":"IF(G13=\"x\",K!$E$15,0)","v":0},"OCENA KOŃCOWA:",null,null,{"$f":"IF(AND(K6>0,K7>0,K8>0),ROUND((SUM(K6:K11)*(1+G12)),2),0)","v":0}]
["MODEL WYKONANY OD PODSTAW:",null,null,null,null,null,null,null,null,null,null,null,null,null,"OCENA KOŃCOWA ZA LOTY:",null,null,null,{"$f":"ROUND(((K30+O30+S30)-MIN(K30,O30,S30))/2,2)","v":0}]
["OCENA LOTÓW","PROGRAM LOTU","Lp.","Manewr/figura",null,null,"K","OCENA I LOTU",null,null,"WYNIK","OCENA II LOTU",null,null,"WYNIK","OCENA III LOTU",null,null,"WYNIK"]
[null,null,null,null,null,null,null,"Sędzia I","Sędzia II","Sędzia III",null,"Sędzia I","Sędzia II","Sędzia III",null,"Sędzia I","Sędzia II","Sędzia III"]
[null,null,"1.","Start",null,null,{"$f":"K!$E$21","v":11},null,null,null,{"$f":"SUM(H16:J16)*$G16","v":0},null,null,null,{"$f":"SUM(L16:N16)*$G16","v":0},null,null,null,{"$f":"SUM(P16:R16)*$G16","v":0}]
[null,null,"2.","Pokaz dowolny",null,null,{"$f":"K!$E$22","v":7},null,null,null,{"$f":"SUM(H17:J17)*$G17","v":0},null,null,null,{"$f":"SUM(L17:N17)*$G17","v":0},null,null,null,{"$f":"SUM(P17:R17)*$G17","v":0}]
[null,null,"3.","Pokaz dowolny",null,null,{"$f":"K!$E$23","v":7},null,null,null,0,null,null,null,0,null,null,null,0]
[null,null,"4.","Pokaz dowolny",null,null,{"$f":"K!$E$24","v":7},null,null,null,0,null,null,null,0,null,null,null,0]
[null,null,"5.","Pokaz dowolny",null,null,{"$f":"K!$E$25","v":7},null,null,null,0,null,null,null,0,null,null,null,0,null,"WYNIKI"]
[null,null,"6.","Pokaz dowolny",null,null,{"$f":"K!$E$26","v":7},null,null,null,0,null,null,null,0,null,null,null,0]
[null,null,"7.","Pokaz dowolny",null,null,{"$f":"K!$E$27","v":7},null,null,null,0,null,null,null,0,null,null,null,0]
[null,null,"8.","Pokaz dowolny",null,null,{"$f":"K!$E$28","v":7},null,null,null,0,null,null,null,0,null,null,null,0]
[null,null,"9.","Pokaz dowolny",null,null,{"$f":"K!$E$29","v":7},null,null,null,0,null,null,null,0,null,null,null,0,null,"LISTA"]
[null,null,"10.","Podejscie do lądowania i lądowanie",null,null,{"$f":"K!$E$30","v":11},null,null,null,{"$f":"SUM(H25:J25)*G25","v":0},null,null,null,0,null,null,null,{"$f":"SUM(P25:R25)*G25","v":0}]
[null,"REALIZM LOTU"]
[null,null,"1.","Prezentacja lotu",null,null,{"$f":"K!$E$32","v":4},null,null,null,{"$f":"SUM(H27:J27)*$G27","v":0},null,null,null,{"$f":"SUM(L27:N27)*$G27","v":0},null,null,null,{"$f":"SUM(P27:R27)*$G27","v":0}]
[null,null,"2.","Prędkość lotu modelu",null,null,{"$f":"K!$E$33","v":9},null,null,null,{"$f":"SUM(H28:J28)*$G28","v":0},null,null,null,{"$f":"SUM(L28:N28)*$G28","v":0},null,null,null,{"$f":"SUM(P28:R28)*$G28","v":0},null,"REJESTR."]
[null,null,"3.","Płynność lotu",null,null,{"$f":"K!$E$34","v":9},null,null,null,{"$f":"SUM(H29:J29)*$G29","v":0},null,null,null,{"$f":"SUM(L29:N29)*$G29","v":0},null,null,null,{"$f":"SUM(P29:R29)*$G29","v":0}]
[null,null,null,null,null,null,null,"OCENA KOŃCOWA LOTU I:",null,null,{"$f":"SUM(K16:K25)+SUM(K27:K29)","v":0},"OCENA KOŃCOWA LOTU II:",null,null,{"$f":"SUM(O16:O25)+SUM(O27:O29)","v":0},"OCENA KOŃCOWA LOTU III:",null,null,{"$f":"SUM(S16:S25)+SUM(S27:S29)","v":0}]

{"sheet":"15","index":20,"n_rows":30,"n_cols":21,"rows_kept":30,"cut":false,"hidden":false,"merged":[[29,11,29,13],[29,15,29,17],[25,11,25,13],[25,15,25,17],[28,3,28,5],[29,0,29,6],[25,7,25,9],[25,2,25,5],[13,1,24,1],[13,0,28,0],[25,1,28,1],[27,3,27,5],[29,7,29,9],[20,3,20,5],[21,3,21,5],[22,3,22,5],[23,3,23,5],[24,3,24,5],[26,3,26,5],[19,3,19,5],[13,2,14,2],[13,18,14,18],[15,3,15,5],[16,3,16,5],[17,3,17,5],[18,3,18,5],[13,10,14,10],[13,11,13,13],[13,14,14,14],[13,15,13,17],[13,3,14,5],[13,6,14,6],[13,7,13,9],[4,14,5,16],[12,0,12,5],[12,14,12,17],[8,14,11,16],[9,3,9,5],[10,3,10,5],[11,7,11,9],[2,11,11,13],[2,14,3,16],[6,3,6,5],[6,14,7,16],[11,2,11,5],[0,0,1,6],[0,7,1,7],[0,8,0,10],[0,11,0,18],[1,8,1,10],[1,11,1,18],[19,20,20,20],[23,20,24,20],[27,20,28,20],[6,17,11,18],[2,0,11,1],[2,2,3,2],[2,3,3,5],[2,6,3,6],[2,7,2,9],[2,10,3,10],[7,3,7,5],[8,3,8,5],[2,17,3,18],[4,3,4,5],[4,17,5,18],[5,3,5,5]]}
["Karta oceny Zawodnika",null,null,null,null,null,null,{"$f":"REJESTRACJA!H22","v":33},"Nazwisko i Imię Zawodnika;",null,null,{"$f":"REJESTRACJA!D22","v":0}]
[null,null,null,null,null,null,null,null,"Model:",null,null,{"$f":"REJESTRACJA!E22","v":0}]
["OCENA STATYCZNA",null,"Lp.","Element oceniany",null,null,"K","OCENA ",null,null,"WYNIK",null,null,null,"WYNIK KOŃCOWY:",null,null,{"$f":"IF(S13>0,S13+K12,0)","v":0}]
[null,null,null,null,null,null,null,"Sędzia I","Sędzia II","Sędzia III"]
[null,null,"1.","Dokladność odwzorowania w skali:",null,null,null,null,null,null,null,null,null,null,"MIEJSCE:",null,null,{"$f":"IF($R$3>0,VLOOKUP($R$3,LISTA!$L$8:$M$37,2,FALSE),0)","v":0}]
[null,null,"1.1.","Widik z boku",null,null,{"$f":"K!$E$8","v":4},null,null,null,{"$f":"SUM(H6:J6)*G6","v":0}]
[null,null,"1.2.","Widok z góry",null,null,{"$f":"K!$E$9","v":4},null,null,null,{"$f":"SUM(H7:J7)*G7","v":0},null,null,null,"nr startowy w:",null,null,{"$f":"REJESTRACJA!H22","v":33}]
[null,null,"1.3.","Widok z przodu/tyłu",null,null,{"$f":"K!$E$10","v":4},null,null,null,0]
[null,null,"2.","Kolorystyka",null,null,{"$f":"K!$E$11","v":7},null,null,null,0,null,null,null,"F4H-P"]
[null,null,"3.","Oznakowanie",null,null,{"$f":"K!$E$12","v":4},null,null,null,0]
[null,null,"4.","Szczegóły",null,null,{"$f":"K!$E$13","v":2},null,null,null,{"$f":"SUM(H11:J11)*G11","v":0}]
[null,null,"BONUS:",null,null,null,{"$f":"IF(G13=\"x\",K!$E$15,0)","v":0},"OCENA KOŃCOWA:",null,null,{"$f":"IF(AND(K6>0,K7>0,K8>0),ROUND((SUM(K6:K11)*(1+G12)),2),0)","v":0}]
["MODEL WYKONANY OD PODSTAW:",null,null,null,null,null,null,null,null,null,null,null,null,null,"OCENA KOŃCOWA ZA LOTY:",null,null,null,{"$f":"ROUND(((K30+O30+S30)-MIN(K30,O30,S30))/2,2)","v":0}]
["OCENA LOTÓW","PROGRAM LOTU","Lp.","Manewr/figura",null,null,"K","OCENA I LOTU",null,null,"WYNIK","OCENA II LOTU",null,null,"WYNIK","OCENA III LOTU",null,null,"WYNIK"]
[null,null,null,null,null,null,null,"Sędzia I","Sędzia II","Sędzia III",null,"Sędzia I","Sędzia II","Sędzia III",null,"Sędzia I","Sędzia II","Sędzia III"]
[null,null,"1.","Start",null,null,{"$f":"K!$E$21","v":11},null,null,null,{"$f":"SUM(H16:J16)*$G16","v":0},null,null,null,{"$f":"SUM(L16:N16)*$G16","v":0},null,null,null,{"$f":"SUM(P16:R16)*$G16","v":0}]
[null,null,"2.","Pokaz dowolny",null,null,{"$f":"K!$E$22","v":7},null,null,null,{"$f":"SUM(H17:J17)*$G17","v":0},null,null,null,{"$f":"SUM(L17:N17)*$G17","v":0},null,null,null,{"$f":"SUM(P17:R17)*$G17","v":0}]
[null,null,"3.","Pokaz dowolny",null,null,{"$f":"K!$E$23","v":7},null,null,null,0,null,null,null,0,null,null,null,0]
[null,null,"4.","Pokaz dowolny",null,null,{"$f":"K!$E$24","v":7},null,null,null,0,null,null,null,0,null,null,null,0]
[null,null,"5.","Pokaz dowolny",null,null,{"$f":"K!$E$25","v":7},null,null,null,0,null,null,null,0,null,null,null,0,null,"WYNIKI"]
[null,null,"6.","Pokaz dowolny",null,null,{"$f":"K!$E$26","v":7},null,null,null,0,null,null,null,0,null,null,null,0]
[null,null,"7.","Pokaz dowolny",null,null,{"$f":"K!$E$27","v":7},null,null,null,0,null,null,null,0,null,null,null,0]
[null,null,"8.","Pokaz dowolny",null,null,{"$f":"K!$E$28","v":7},null,null,null,0,null,null,null,0,null,null,null,0]
[null,null,"9.","Pokaz dowolny",null,null,{"$f":"K!$E$29","v":7},null,null,null,0,null,null,null,0,null,null,null,0,null,"LISTA"]
[null,null,"10.","Podejscie do lądowania i lądowanie",null,null,{"$f":"K!$E$30","v":11},null,null,null,{"$f":"SUM(H25:J25)*G25","v":0},null,null,null,0,null,null,null,{"$f":"SUM(P25:R25)*G25","v":0}]
[null,"REALIZM LOTU"]
[null,null,"1.","Prezentacja lotu",null,null,{"$f":"K!$E$32","v":4},null,null,null,{"$f":"SUM(H27:J27)*$G27","v":0},null,null,null,{"$f":"SUM(L27:N27)*$G27","v":0},null,null,null,{"$f":"SUM(P27:R27)*$G27","v":0}]
[null,null,"2.","Prędkość lotu modelu",null,null,{"$f":"K!$E$33","v":9},null,null,null,{"$f":"SUM(H28:J28)*$G28","v":0},null,null,null,{"$f":"SUM(L28:N28)*$G28","v":0},null,null,null,{"$f":"SUM(P28:R28)*$G28","v":0},null,"REJESTR."]
[null,null,"3.","Płynność lotu",null,null,{"$f":"K!$E$34","v":9},null,null,null,{"$f":"SUM(H29:J29)*$G29","v":0},null,null,null,{"$f":"SUM(L29:N29)*$G29","v":0},null,null,null,{"$f":"SUM(P29:R29)*$G29","v":0}]
[null,null,null,null,null,null,null,"OCENA KOŃCOWA LOTU I:",null,null,{"$f":"SUM(K16:K25)+SUM(K27:K29)","v":0},"OCENA KOŃCOWA LOTU II:",null,null,{"$f":"SUM(O16:O25)+SUM(O27:O29)","v":0},"OCENA KOŃCOWA LOTU III:",null,null,{"$f":"SUM(S16:S25)+SUM(S27:S29)","v":0}]

{"sheet":"16","index":21,"n_rows":30,"n_cols":21,"rows_kept":30,"cut":false,"hidden":false,"merged":[[29,11,29,13],[29,15,29,17],[25,11,25,13],[25,15,25,17],[28,3,28,5],[29,0,29,6],[25,7,25,9],[25,2,25,5],[13,1,24,1],[13,0,28,0],[25,1,28,1],[27,3,27,5],[29,7,29,9],[20,3,20,5],[21,3,21,5],[22,3,22,5],[23,3,23,5],[24,3,24,5],[26,3,26,5],[19,3,19,5],[13,2,14,2],[13,18,14,18],[15,3,15,5],[16,3,16,5],[17,3,17,5],[18,3,18,5],[13,10,14,10],[13,11,13,13],[13,14,14,14],[13,15,13,17],[13,3,14,5],[13,6,14,6],[13,7,13,9],[4,14,5,16],[12,0,12,5],[12,14,12,17],[8,14,11,16],[9,3,9,5],[10,3,10,5],[11,7,11,9],[2,11,11,13],[2,14,3,16],[6,3,6,5],[6,14,7,16],[11,2,11,5],[0,0,1,6],[0,7,1,7],[0,8,0,10],[0,11,0,18],[1,8,1,10],[1,11,1,18],[19,20,20,20],[23,20,24,20],[27,20,28,20],[6,17,11,18],[2,0,11,1],[2,2,3,2],[2,3,3,5],[2,6,3,6],[2,7,2,9],[2,10,3,10],[7,3,7,5],[8,3,8,5],[2,17,3,18],[4,3,4,5],[4,17,5,18],[5,3,5,5]]}
["Karta oceny Zawodnika",null,null,null,null,null,null,{"$f":"REJESTRACJA!H23","v":33},"Nazwisko i Imię Zawodnika;",null,null,{"$f":"REJESTRACJA!D23","v":0}]
[null,null,null,null,null,null,null,null,"Model:",null,null,{"$f":"REJESTRACJA!E23","v":0}]
["OCENA STATYCZNA",null,"Lp.","Element oceniany",null,null,"K","OCENA ",null,null,"WYNIK",null,null,null,"WYNIK KOŃCOWY:",null,null,{"$f":"IF(S13>0,S13+K12,0)","v":0}]
[null,null,null,null,null,null,null,"Sędzia I","Sędzia II","Sędzia III"]
[null,null,"1.","Dokladność odwzorowania w skali:",null,null,null,null,null,null,null,null,null,null,"MIEJSCE:",null,null,{"$f":"IF($R$3>0,VLOOKUP($R$3,LISTA!$L$8:$M$37,2,FALSE),0)","v":0}]
[null,null,"1.1.","Widik z boku",null,null,{"$f":"K!$E$8","v":4},null,null,null,{"$f":"SUM(H6:J6)*G6","v":0}]
[null,null,"1.2.","Widok z góry",null,null,{"$f":"K!$E$9","v":4},null,null,null,{"$f":"SUM(H7:J7)*G7","v":0},null,null,null,"nr startowy w:",null,null,{"$f":"REJESTRACJA!H23","v":33}]
[null,null,"1.3.","Widok z przodu/tyłu",null,null,{"$f":"K!$E$10","v":4},null,null,null,0]
[null,null,"2.","Kolorystyka",null,null,{"$f":"K!$E$11","v":7},null,null,null,0,null,null,null,"F4H-P"]
[null,null,"3.","Oznakowanie",null,null,{"$f":"K!$E$12","v":4},null,null,null,0]
[null,null,"4.","Szczegóły",null,null,{"$f":"K!$E$13","v":2},null,null,null,{"$f":"SUM(H11:J11)*G11","v":0}]
[null,null,"BONUS:",null,null,null,{"$f":"IF(G13=\"x\",K!$E$15,0)","v":0},"OCENA KOŃCOWA:",null,null,{"$f":"IF(AND(K6>0,K7>0,K8>0),ROUND((SUM(K6:K11)*(1+G12)),2),0)","v":0}]
["MODEL WYKONANY OD PODSTAW:",null,null,null,null,null,null,null,null,null,null,null,null,null,"OCENA KOŃCOWA ZA LOTY:",null,null,null,{"$f":"ROUND(((K30+O30+S30)-MIN(K30,O30,S30))/2,2)","v":0}]
["OCENA LOTÓW","PROGRAM LOTU","Lp.","Manewr/figura",null,null,"K","OCENA I LOTU",null,null,"WYNIK","OCENA II LOTU",null,null,"WYNIK","OCENA III LOTU",null,null,"WYNIK"]
[null,null,null,null,null,null,null,"Sędzia I","Sędzia II","Sędzia III",null,"Sędzia I","Sędzia II","Sędzia III",null,"Sędzia I","Sędzia II","Sędzia III"]
[null,null,"1.","Start",null,null,{"$f":"K!$E$21","v":11},null,null,null,{"$f":"SUM(H16:J16)*$G16","v":0},null,null,null,{"$f":"SUM(L16:N16)*$G16","v":0},null,null,null,{"$f":"SUM(P16:R16)*$G16","v":0}]
[null,null,"2.","Pokaz dowolny",null,null,{"$f":"K!$E$22","v":7},null,null,null,{"$f":"SUM(H17:J17)*$G17","v":0},null,null,null,{"$f":"SUM(L17:N17)*$G17","v":0},null,null,null,{"$f":"SUM(P17:R17)*$G17","v":0}]
[null,null,"3.","Pokaz dowolny",null,null,{"$f":"K!$E$23","v":7},null,null,null,0,null,null,null,0,null,null,null,0]
[null,null,"4.","Pokaz dowolny",null,null,{"$f":"K!$E$24","v":7},null,null,null,0,null,null,null,0,null,null,null,0]
[null,null,"5.","Pokaz dowolny",null,null,{"$f":"K!$E$25","v":7},null,null,null,0,null,null,null,0,null,null,null,0,null,"WYNIKI"]
[null,null,"6.","Pokaz dowolny",null,null,{"$f":"K!$E$26","v":7},null,null,null,0,null,null,null,0,null,null,null,0]
[null,null,"7.","Pokaz dowolny",null,null,{"$f":"K!$E$27","v":7},null,null,null,0,null,null,null,0,null,null,null,0]
[null,null,"8.","Pokaz dowolny",null,null,{"$f":"K!$E$28","v":7},null,null,null,0,null,null,null,0,null,null,null,0]
[null,null,"9.","Pokaz dowolny",null,null,{"$f":"K!$E$29","v":7},null,null,null,0,null,null,null,0,null,null,null,0,null,"LISTA"]
[null,null,"10.","Podejscie do lądowania i lądowanie",null,null,{"$f":"K!$E$30","v":11},null,null,null,{"$f":"SUM(H25:J25)*G25","v":0},null,null,null,0,null,null,null,{"$f":"SUM(P25:R25)*G25","v":0}]
[null,"REALIZM LOTU"]
[null,null,"1.","Prezentacja lotu",null,null,{"$f":"K!$E$32","v":4},null,null,null,{"$f":"SUM(H27:J27)*$G27","v":0},null,null,null,{"$f":"SUM(L27:N27)*$G27","v":0},null,null,null,{"$f":"SUM(P27:R27)*$G27","v":0}]
[null,null,"2.","Prędkość lotu modelu",null,null,{"$f":"K!$E$33","v":9},null,null,null,{"$f":"SUM(H28:J28)*$G28","v":0},null,null,null,{"$f":"SUM(L28:N28)*$G28","v":0},null,null,null,{"$f":"SUM(P28:R28)*$G28","v":0},null,"REJESTR."]
[null,null,"3.","Płynność lotu",null,null,{"$f":"K!$E$34","v":9},null,null,null,{"$f":"SUM(H29:J29)*$G29","v":0},null,null,null,{"$f":"SUM(L29:N29)*$G29","v":0},null,null,null,{"$f":"SUM(P29:R29)*$G29","v":0}]
[null,null,null,null,null,null,null,"OCENA KOŃCOWA LOTU I:",null,null,{"$f":"SUM(K16:K25)+SUM(K27:K29)","v":0},"OCENA KOŃCOWA LOTU II:",null,null,{"$f":"SUM(O16:O25)+SUM(O27:O29)","v":0},"OCENA KOŃCOWA LOTU III:",null,null,{"$f":"SUM(S16:S25)+SUM(S27:S29)","v":0}]

{"sheet":"17","index":22,"n_rows":30,"n_cols":21,"rows_kept":30,"cut":false,"hidden":false,"merged":[[29,11,29,13],[29,15,29,17],[25,11,25,13],[25,15,25,17],[28,3,28,5],[29,0,29,6],[25,2,25,5],[25,7,25,9],[13,0,28,0],[13,1,24,1],[25,1,28,1],[27,3,27,5],[29,7,29,9],[20,3,20,5],[21,3,21,5],[22,3,22,5],[23,3,23,5],[24,3,24,5],[26,3,26,5],[13,18,14,18],[15,3,15,5],[16,3,16,5],[17,3,17,5],[18,3,18,5],[13,10,14,10],[13,11,13,13],[13,14,14,14],[13,15,13,17],[19,3,19,5],[13,2,14,2],[13,3,14,5],[13,6,14,6],[13,7,13,9],[4,14,5,16],[12,0,12,5],[12,14,12,17],[8,14,11,16],[9,3,9,5],[10,3,10,5],[11,7,11,9],[2,11,11,13],[2,14,3,16],[6,3,6,5],[6,14,7,16],[11,2,11,5],[0,0,1,6],[0,7,1,7],[0,8,0,10],[0,11,0,18],[1,8,1,10],[1,11,1,18],[19,20,20,20],[23,20,24,20],[27,20,28,20],[6,17,11,18],[2,0,11,1],[2,2,3,2],[2,3,3,5],[2,6,3,6],[2,7,2,9],[2,10,3,10],[7,3,7,5],[8,3,8,5],[2,17,3,18],[4,3,4,5],[4,17,5,18],[5,3,5,5]]}
["Karta oceny Zawodnika",null,null,null,null,null,null,{"$f":"REJESTRACJA!H24","v":33},"Nazwisko i Imię Zawodnika;",null,null,{"$f":"REJESTRACJA!D24","v":0}]
[null,null,null,null,null,null,null,null,"Model:",null,null,{"$f":"REJESTRACJA!E24","v":0}]
["OCENA STATYCZNA",null,"Lp.","Element oceniany",null,null,"K","OCENA ",null,null,"WYNIK",null,null,null,"WYNIK KOŃCOWY:",null,null,{"$f":"IF(S13>0,S13+K12,0)","v":0}]
[null,null,null,null,null,null,null,"Sędzia I","Sędzia II","Sędzia III"]
[null,null,"1.","Dokladność odwzorowania w skali:",null,null,null,null,null,null,null,null,null,null,"MIEJSCE:",null,null,{"$f":"IF($R$3>0,VLOOKUP($R$3,LISTA!$L$8:$M$37,2,FALSE),0)","v":0}]
[null,null,"1.1.","Widik z boku",null,null,{"$f":"K!$E$8","v":4},null,null,null,{"$f":"SUM(H6:J6)*G6","v":0}]
[null,null,"1.2.","Widok z góry",null,null,{"$f":"K!$E$9","v":4},null,null,null,{"$f":"SUM(H7:J7)*G7","v":0},null,null,null,"nr startowy w:",null,null,{"$f":"REJESTRACJA!H24","v":33}]
[null,null,"1.3.","Widok z przodu/tyłu",null,null,{"$f":"K!$E$10","v":4},null,null,null,0]
[null,null,"2.","Kolorystyka",null,null,{"$f":"K!$E$11","v":7},null,null,null,0,null,null,null,"F4H-P"]
[null,null,"3.","Oznakowanie",null,null,{"$f":"K!$E$12","v":4},null,null,null,0]
[null,null,"4.","Szczegóły",null,null,{"$f":"K!$E$13","v":2},null,null,null,{"$f":"SUM(H11:J11)*G11","v":0}]
[null,null,"BONUS:",null,null,null,{"$f":"IF(G13=\"x\",K!$E$15,0)","v":0},"OCENA KOŃCOWA:",null,null,{"$f":"IF(AND(K6>0,K7>0,K8>0),ROUND((SUM(K6:K11)*(1+G12)),2),0)","v":0}]
["MODEL WYKONANY OD PODSTAW:",null,null,null,null,null,null,null,null,null,null,null,null,null,"OCENA KOŃCOWA ZA LOTY:",null,null,null,{"$f":"ROUND(((K30+O30+S30)-MIN(K30,O30,S30))/2,2)","v":0}]
["OCENA LOTÓW","PROGRAM LOTU","Lp.","Manewr/figura",null,null,"K","OCENA I LOTU",null,null,"WYNIK","OCENA II LOTU",null,null,"WYNIK","OCENA III LOTU",null,null,"WYNIK"]
[null,null,null,null,null,null,null,"Sędzia I","Sędzia II","Sędzia III",null,"Sędzia I","Sędzia II","Sędzia III",null,"Sędzia I","Sędzia II","Sędzia III"]
[null,null,"1.","Start",null,null,{"$f":"K!$E$21","v":11},null,null,null,{"$f":"SUM(H16:J16)*$G16","v":0},null,null,null,{"$f":"SUM(L16:N16)*$G16","v":0},null,null,null,{"$f":"SUM(P16:R16)*$G16","v":0}]
[null,null,"2.","Pokaz dowolny",null,null,{"$f":"K!$E$22","v":7},null,null,null,{"$f":"SUM(H17:J17)*$G17","v":0},null,null,null,{"$f":"SUM(L17:N17)*$G17","v":0},null,null,null,{"$f":"SUM(P17:R17)*$G17","v":0}]
[null,null,"3.","Pokaz dowolny",null,null,{"$f":"K!$E$23","v":7},null,null,null,0,null,null,null,0,null,null,null,0]
[null,null,"4.","Pokaz dowolny",null,null,{"$f":"K!$E$24","v":7},null,null,null,0,null,null,null,0,null,null,null,0]
[null,null,"5.","Pokaz dowolny",null,null,{"$f":"K!$E$25","v":7},null,null,null,0,null,null,null,0,null,null,null,0,null,"WYNIKI"]
[null,null,"6.","Pokaz dowolny",null,null,{"$f":"K!$E$26","v":7},null,null,null,0,null,null,null,0,null,null,null,0]
[null,null,"7.","Pokaz dowolny",null,null,{"$f":"K!$E$27","v":7},null,null,null,0,null,null,null,0,null,null,null,0]
[null,null,"8.","Pokaz dowolny",null,null,{"$f":"K!$E$28","v":7},null,null,null,0,null,null,null,0,null,null,null,0]
[null,null,"9.","Pokaz dowolny",null,null,{"$f":"K!$E$29","v":7},null,null,null,0,null,null,null,0,null,null,null,0,null,"LISTA"]
[null,null,"10.","Podejscie do lądowania i lądowanie",null,null,{"$f":"K!$E$30","v":11},null,null,null,{"$f":"SUM(H25:J25)*G25","v":0},null,null,null,0,null,null,null,{"$f":"SUM(P25:R25)*G25","v":0}]
[null,"REALIZM LOTU"]
[null,null,"1.","Prezentacja lotu",null,null,{"$f":"K!$E$32","v":4},null,null,null,{"$f":"SUM(H27:J27)*$G27","v":0},null,null,null,{"$f":"SUM(L27:N27)*$G27","v":0},null,null,null,{"$f":"SUM(P27:R27)*$G27","v":0}]
[null,null,"2.","Prędkość lotu modelu",null,null,{"$f":"K!$E$33","v":9},null,null,null,{"$f":"SUM(H28:J28)*$G28","v":0},null,null,null,{"$f":"SUM(L28:N28)*$G28","v":0},null,null,null,{"$f":"SUM(P28:R28)*$G28","v":0},null,"REJESTR."]
[null,null,"3.","Płynność lotu",null,null,{"$f":"K!$E$34","v":9},null,null,null,{"$f":"SUM(H29:J29)*$G29","v":0},null,null,null,{"$f":"SUM(L29:N29)*$G29","v":0},null,null,null,{"$f":"SUM(P29:R29)*$G29","v":0}]
[null,null,null,null,null,null,null,"OCENA KOŃCOWA LOTU I:",null,null,{"$f":"SUM(K16:K25)+SUM(K27:K29)","v":0},"OCENA KOŃCOWA LOTU II:",null,null,{"$f":"SUM(O16:O25)+SUM(O27:O29)","v":0},"OCENA KOŃCOWA LOTU III:",null,null,{"$f":"SUM(S16:S25)+SUM(S27:S29)","v":0}]

{"sheet":"18","index":23,"n_rows":30,"n_cols":21,"rows_kept":30,"cut":false,"hidden":false,"merged":[[29,11,29,13],[29,15,29,17],[25,11,25,13],[25,15,25,17],[28,3,28,5],[29,0,29,6],[25,2,25,5],[25,7,25,9],[13,0,28,0],[13,1,24,1],[25,1,28,1],[27,3,27,5],[29,7,29,9],[20,3,20,5],[21,3,21,5],[22,3,22,5],[23,3,23,5],[24,3,24,5],[26,3,26,5],[13,18,14,18],[15,3,15,5],[16,3,16,5],[17,3,17,5],[18,3,18,5],[13,10,14,10],[13,11,13,13],[13,14,14,14],[13,15,13,17],[19,3,19,5],[13,2,14,2],[13,3,14,5],[13,6,14,6],[13,7,13,9],[4,14,5,16],[12,0,12,5],[12,14,12,17],[8,14,11,16],[9,3,9,5],[10,3,10,5],[11,7,11,9],[2,11,11,13],[2,14,3,16],[6,3,6,5],[6,14,7,16],[11,2,11,5],[0,0,1,6],[0,7,1,7],[0,8,0,10],[0,11,0,18],[1,8,1,10],[1,11,1,18],[19,20,20,20],[23,20,24,20],[27,20,28,20],[6,17,11,18],[2,0,11,1],[2,2,3,2],[2,3,3,5],[2,6,3,6],[2,7,2,9],[2,10,3,10],[7,3,7,5],[8,3,8,5],[2,17,3,18],[4,3,4,5],[4,17,5,18],[5,3,5,5]]}
["Karta oceny Zawodnika",null,null,null,null,null,null,{"$f":"REJESTRACJA!H25","v":33},"Nazwisko i Imię Zawodnika;",null,null,{"$f":"REJESTRACJA!D25","v":0}]
[null,null,null,null,null,null,null,null,"Model:",null,null,{"$f":"REJESTRACJA!E25","v":0}]
["OCENA STATYCZNA",null,"Lp.","Element oceniany",null,null,"K","OCENA ",null,null,"WYNIK",null,null,null,"WYNIK KOŃCOWY:",null,null,{"$f":"IF(S13>0,S13+K12,0)","v":0}]
[null,null,null,null,null,null,null,"Sędzia I","Sędzia II","Sędzia III"]
[null,null,"1.","Dokladność odwzorowania w skali:",null,null,null,null,null,null,null,null,null,null,"MIEJSCE:",null,null,{"$f":"IF($R$3>0,VLOOKUP($R$3,LISTA!$L$8:$M$37,2,FALSE),0)","v":0}]
[null,null,"1.1.","Widik z boku",null,null,{"$f":"K!$E$8","v":4},null,null,null,{"$f":"SUM(H6:J6)*G6","v":0}]
[null,null,"1.2.","Widok z góry",null,null,{"$f":"K!$E$9","v":4},null,null,null,{"$f":"SUM(H7:J7)*G7","v":0},null,null,null,"nr startowy w:",null,null,{"$f":"REJESTRACJA!H25","v":33}]
[null,null,"1.3.","Widok z przodu/tyłu",null,null,{"$f":"K!$E$10","v":4},null,null,null,0]
[null,null,"2.","Kolorystyka",null,null,{"$f":"K!$E$11","v":7},null,null,null,0,null,null,null,"F4H-P"]
[null,null,"3.","Oznakowanie",null,null,{"$f":"K!$E$12","v":4},null,null,null,0]
[null,null,"4.","Szczegóły",null,null,{"$f":"K!$E$13","v":2},null,null,null,{"$f":"SUM(H11:J11)*G11","v":0}]
[null,null,"BONUS:",null,null,null,{"$f":"IF(G13=\"x\",K!$E$15,0)","v":0},"OCENA KOŃCOWA:",null,null,{"$f":"IF(AND(K6>0,K7>0,K8>0),ROUND((SUM(K6:K11)*(1+G12)),2),0)","v":0}]
["MODEL WYKONANY OD PODSTAW:",null,null,null,null,null,null,null,null,null,null,null,null,null,"OCENA KOŃCOWA ZA LOTY:",null,null,null,{"$f":"ROUND(((K30+O30+S30)-MIN(K30,O30,S30))/2,2)","v":0}]
["OCENA LOTÓW","PROGRAM LOTU","Lp.","Manewr/figura",null,null,"K","OCENA I LOTU",null,null,"WYNIK","OCENA II LOTU",null,null,"WYNIK","OCENA III LOTU",null,null,"WYNIK"]
[null,null,null,null,null,null,null,"Sędzia I","Sędzia II","Sędzia III",null,"Sędzia I","Sędzia II","Sędzia III",null,"Sędzia I","Sędzia II","Sędzia III"]
[null,null,"1.","Start",null,null,{"$f":"K!$E$21","v":11},null,null,null,{"$f":"SUM(H16:J16)*$G16","v":0},null,null,null,{"$f":"SUM(L16:N16)*$G16","v":0},null,null,null,{"$f":"SUM(P16:R16)*$G16","v":0}]
[null,null,"2.","Pokaz dowolny",null,null,{"$f":"K!$E$22","v":7},null,null,null,{"$f":"SUM(H17:J17)*$G17","v":0},null,null,null,{"$f":"SUM(L17:N17)*$G17","v":0},null,null,null,{"$f":"SUM(P17:R17)*$G17","v":0}]
[null,null,"3.","Pokaz dowolny",null,null,{"$f":"K!$E$23","v":7},null,null,null,0,null,null,null,0,null,null,null,0]
[null,null,"4.","Pokaz dowolny",null,null,{"$f":"K!$E$24","v":7},null,null,null,0,null,null,null,0,null,null,null,0]
[null,null,"5.","Pokaz dowolny",null,null,{"$f":"K!$E$25","v":7},null,null,null,0,null,null,null,0,null,null,null,0,null,"WYNIKI"]
[null,null,"6.","Pokaz dowolny",null,null,{"$f":"K!$E$26","v":7},null,null,null,0,null,null,null,0,null,null,null,0]
[null,null,"7.","Pokaz dowolny",null,null,{"$f":"K!$E$27","v":7},null,null,null,0,null,null,null,0,null,null,null,0]
[null,null,"8.","Pokaz dowolny",null,null,{"$f":"K!$E$28","v":7},null,null,null,0,null,null,null,0,null,null,null,0]
[null,null,"9.","Pokaz dowolny",null,null,{"$f":"K!$E$29","v":7},null,null,null,0,null,null,null,0,null,null,null,0,null,"LISTA"]
[null,null,"10.","Podejscie do lądowania i lądowanie",null,null,{"$f":"K!$E$30","v":11},null,null,null,{"$f":"SUM(H25:J25)*G25","v":0},null,null,null,0,null,null,null,{"$f":"SUM(P25:R25)*G25","v":0}]
[null,"REALIZM LOTU"]
[null,null,"1.","Prezentacja lotu",null,null,{"$f":"K!$E$32","v":4},null,null,null,{"$f":"SUM(H27:J27)*$G27","v":0},null,null,null,{"$f":"SUM(L27:N27)*$G27","v":0},null,null,null,{"$f":"SUM(P27:R27)*$G27","v":0}]
[null,null,"2.","Prędkość lotu modelu",null,null,{"$f":"K!$E$33","v":9},null,null,null,{"$f":"SUM(H28:J28)*$G28","v":0},null,null,null,{"$f":"SUM(L28:N28)*$G28","v":0},null,null,null,{"$f":"SUM(P28:R28)*$G28","v":0},null,"REJESTR."]
[null,null,"3.","Płynność lotu",null,null,{"$f":"K!$E$34","v":9},null,null,null,{"$f":"SUM(H29:J29)*$G29","v":0},null,null,null,{"$f":"SUM(L29:N29)*$G29","v":0},null,null,null,{"$f":"SUM(P29:R29)*$G29","v":0}]
[null,null,null,null,null,null,null,"OCENA KOŃCOWA LOTU I:",null,null,{"$f":"SUM(K16:K25)+SUM(K27:K29)","v":0},"OCENA KOŃCOWA LOTU II:",null,null,{"$f":"SUM(O16:O25)+SUM(O27:O29)","v":0},"OCENA KOŃCOWA LOTU III:",null,null,{"$f":"SUM(S16:S25)+SUM(S27:S29)","v":0}]

{"sheet":"19","index":24,"n_rows":30,"n_cols":21,"rows_kept":30,"cut":false,"hidden":false,"merged":[[29,11,29,13],[29,15,29,17],[25,11,25,13],[25,15,25,17],[28,3,28,5],[29,0,29,6],[25,2,25,5],[25,7,25,9],[13,0,28,0],[13,1,24,1],[25,1,28,1],[27,3,27,5],[29,7,29,9],[20,3,20,5],[21,3,21,5],[22,3,22,5],[23,3,23,5],[24,3,24,5],[26,3,26,5],[13,18,14,18],[15,3,15,5],[16,3,16,5],[17,3,17,5],[18,3,18,5],[13,10,14,10],[13,11,13,13],[13,14,14,14],[13,15,13,17],[19,3,19,5],[13,2,14,2],[13,3,14,5],[13,6,14,6],[13,7,13,9],[4,14,5,16],[12,0,12,5],[12,14,12,17],[8,14,11,16],[9,3,9,5],[10,3,10,5],[11,7,11,9],[2,11,11,13],[2,14,3,16],[6,3,6,5],[6,14,7,16],[11,2,11,5],[0,0,1,6],[0,7,1,7],[0,8,0,10],[0,11,0,18],[1,8,1,10],[1,11,1,18],[19,20,20,20],[23,20,24,20],[27,20,28,20],[6,17,11,18],[2,0,11,1],[2,2,3,2],[2,3,3,5],[2,6,3,6],[2,7,2,9],[2,10,3,10],[7,3,7,5],[8,3,8,5],[2,17,3,18],[4,3,4,5],[4,17,5,18],[5,3,5,5]]}
["Karta oceny Zawodnika",null,null,null,null,null,null,{"$f":"REJESTRACJA!H26","v":33},"Nazwisko i Imię Zawodnika;",null,null,{"$f":"REJESTRACJA!D26","v":0}]
[null,null,null,null,null,null,null,null,"Model:",null,null,{"$f":"REJESTRACJA!E26","v":0}]
["OCENA STATYCZNA",null,"Lp.","Element oceniany",null,null,"K","OCENA ",null,null,"WYNIK",null,null,null,"WYNIK KOŃCOWY:",null,null,{"$f":"IF(S13>0,S13+K12,0)","v":0}]
[null,null,null,null,null,null,null,"Sędzia I","Sędzia II","Sędzia III"]
[null,null,"1.","Dokladność odwzorowania w skali:",null,null,null,null,null,null,null,null,null,null,"MIEJSCE:",null,null,{"$f":"IF($R$3>0,VLOOKUP($R$3,LISTA!$L$8:$M$37,2,FALSE),0)","v":0}]
[null,null,"1.1.","Widik z boku",null,null,{"$f":"K!$E$8","v":4},null,null,null,{"$f":"SUM(H6:J6)*G6","v":0}]
[null,null,"1.2.","Widok z góry",null,null,{"$f":"K!$E$9","v":4},null,null,null,{"$f":"SUM(H7:J7)*G7","v":0},null,null,null,"nr startowy w:",null,null,{"$f":"REJESTRACJA!H26","v":33}]
[null,null,"1.3.","Widok z przodu/tyłu",null,null,{"$f":"K!$E$10","v":4},null,null,null,0]
[null,null,"2.","Kolorystyka",null,null,{"$f":"K!$E$11","v":7},null,null,null,0,null,null,null,"F4H-P"]
[null,null,"3.","Oznakowanie",null,null,{"$f":"K!$E$12","v":4},null,null,null,0]
[null,null,"4.","Szczegóły",null,null,{"$f":"K!$E$13","v":2},null,null,null,{"$f":"SUM(H11:J11)*G11","v":0}]
[null,null,"BONUS:",null,null,null,{"$f":"IF(G13=\"x\",K!$E$15,0)","v":0},"OCENA KOŃCOWA:",null,null,{"$f":"IF(AND(K6>0,K7>0,K8>0),ROUND((SUM(K6:K11)*(1+G12)),2),0)","v":0}]
["MODEL WYKONANY OD PODSTAW:",null,null,null,null,null,null,null,null,null,null,null,null,null,"OCENA KOŃCOWA ZA LOTY:",null,null,null,{"$f":"ROUND(((K30+O30+S30)-MIN(K30,O30,S30))/2,2)","v":0}]
["OCENA LOTÓW","PROGRAM LOTU","Lp.","Manewr/figura",null,null,"K","OCENA I LOTU",null,null,"WYNIK","OCENA II LOTU",null,null,"WYNIK","OCENA III LOTU",null,null,"WYNIK"]
[null,null,null,null,null,null,null,"Sędzia I","Sędzia II","Sędzia III",null,"Sędzia I","Sędzia II","Sędzia III",null,"Sędzia I","Sędzia II","Sędzia III"]
[null,null,"1.","Start",null,null,{"$f":"K!$E$21","v":11},null,null,null,{"$f":"SUM(H16:J16)*$G16","v":0},null,null,null,{"$f":"SUM(L16:N16)*$G16","v":0},null,null,null,{"$f":"SUM(P16:R16)*$G16","v":0}]
[null,null,"2.","Pokaz dowolny",null,null,{"$f":"K!$E$22","v":7},null,null,null,{"$f":"SUM(H17:J17)*$G17","v":0},null,null,null,{"$f":"SUM(L17:N17)*$G17","v":0},null,null,null,{"$f":"SUM(P17:R17)*$G17","v":0}]
[null,null,"3.","Pokaz dowolny",null,null,{"$f":"K!$E$23","v":7},null,null,null,0,null,null,null,0,null,null,null,0]
[null,null,"4.","Pokaz dowolny",null,null,{"$f":"K!$E$24","v":7},null,null,null,0,null,null,null,0,null,null,null,0]
[null,null,"5.","Pokaz dowolny",null,null,{"$f":"K!$E$25","v":7},null,null,null,0,null,null,null,0,null,null,null,0,null,"WYNIKI"]
[null,null,"6.","Pokaz dowolny",null,null,{"$f":"K!$E$26","v":7},null,null,null,0,null,null,null,0,null,null,null,0]
[null,null,"7.","Pokaz dowolny",null,null,{"$f":"K!$E$27","v":7},null,null,null,0,null,null,null,0,null,null,null,0]
[null,null,"8.","Pokaz dowolny",null,null,{"$f":"K!$E$28","v":7},null,null,null,0,null,null,null,0,null,null,null,0]
[null,null,"9.","Pokaz dowolny",null,null,{"$f":"K!$E$29","v":7},null,null,null,0,null,null,null,0,null,null,null,0,null,"LISTA"]
[null,null,"10.","Podejscie do lądowania i lądowanie",null,null,{"$f":"K!$E$30","v":11},null,null,null,{"$f":"SUM(H25:J25)*G25","v":0},null,null,null,0,null,null,null,{"$f":"SUM(P25:R25)*G25","v":0}]
[null,"REALIZM LOTU"]
[null,null,"1.","Prezentacja lotu",null,null,{"$f":"K!$E$32","v":4},null,null,null,{"$f":"SUM(H27:J27)*$G27","v":0},null,null,null,{"$f":"SUM(L27:N27)*$G27","v":0},null,null,null,{"$f":"SUM(P27:R27)*$G27","v":0}]
[null,null,"2.","Prędkość lotu modelu",null,null,{"$f":"K!$E$33","v":9},null,null,null,{"$f":"SUM(H28:J28)*$G28","v":0},null,null,null,{"$f":"SUM(L28:N28)*$G28","v":0},null,null,null,{"$f":"SUM(P28:R28)*$G28","v":0},null,"REJESTR."]
[null,null,"3.","Płynność lotu",null,null,{"$f":"K!$E$34","v":9},null,null,null,{"$f":"SUM(H29:J29)*$G29","v":0},null,null,null,{"$f":"SUM(L29:N29)*$G29","v":0},null,null,null,{"$f":"SUM(P29:R29)*$G29","v":0}]
[null,null,null,null,null,null,null,"OCENA KOŃCOWA LOTU I:",null,null,{"$f":"SUM(K16:K25)+SUM(K27:K29)","v":0},"OCENA KOŃCOWA LOTU II:",null,null,{"$f":"SUM(O16:O25)+SUM(O27:O29)","v":0},"OCENA KOŃCOWA LOTU III:",null,null,{"$f":"SUM(S16:S25)+SUM(S27:S29)","v":0}]

{"sheet":"20","index":25,"n_rows":30,"n_cols":21,"rows_kept":30,"cut":false,"hidden":false,"merged":[[29,11,29,13],[29,15,29,17],[25,11,25,13],[25,15,25,17],[28,3,28,5],[29,0,29,6],[25,2,25,5],[25,7,25,9],[13,0,28,0],[13,1,24,1],[25,1,28,1],[27,3,27,5],[29,7,29,9],[20,3,20,5],[21,3,21,5],[22,3,22,5],[23,3,23,5],[24,3,24,5],[26,3,26,5],[13,18,14,18],[15,3,15,5],[16,3,16,5],[17,3,17,5],[18,3,18,5],[13,10,14,10],[13,11,13,13],[13,14,14,14],[13,15,13,17],[19,3,19,5],[13,2,14,2],[13,3,14,5],[13,6,14,6],[13,7,13,9],[4,14,5,16],[12,0,12,5],[12,14,12,17],[8,14,11,16],[9,3,9,5],[10,3,10,5],[11,7,11,9],[2,11,11,13],[2,14,3,16],[6,3,6,5],[6,14,7,16],[11,2,11,5],[0,0,1,6],[0,7,1,7],[0,8,0,10],[0,11,0,18],[1,8,1,10],[1,11,1,18],[19,20,20,20],[23,20,24,20],[27,20,28,20],[6,17,11,18],[2,0,11,1],[2,2,3,2],[2,3,3,5],[2,6,3,6],[2,7,2,9],[2,10,3,10],[7,3,7,5],[8,3,8,5],[2,17,3,18],[4,3,4,5],[4,17,5,18],[5,3,5,5]]}
["Karta oceny Zawodnika",null,null,null,null,null,null,{"$f":"REJESTRACJA!H27","v":33},"Nazwisko i Imię Zawodnika;",null,null,{"$f":"REJESTRACJA!D27","v":0}]
[null,null,null,null,null,null,null,null,"Model:",null,null,{"$f":"REJESTRACJA!E27","v":0}]
["OCENA STATYCZNA",null,"Lp.","Element oceniany",null,null,"K","OCENA ",null,null,"WYNIK",null,null,null,"WYNIK KOŃCOWY:",null,null,{"$f":"IF(S13>0,S13+K12,0)","v":0}]
[null,null,null,null,null,null,null,"Sędzia I","Sędzia II","Sędzia III"]
[null,null,"1.","Dokladność odwzorowania w skali:",null,null,null,null,null,null,null,null,null,null,"MIEJSCE:",null,null,{"$f":"IF($R$3>0,VLOOKUP($R$3,LISTA!$L$8:$M$37,2,FALSE),0)","v":0}]
[null,null,"1.1.","Widik z boku",null,null,{"$f":"K!$E$8","v":4},null,null,null,{"$f":"SUM(H6:J6)*G6","v":0}]
[null,null,"1.2.","Widok z góry",null,null,{"$f":"K!$E$9","v":4},null,null,null,{"$f":"SUM(H7:J7)*G7","v":0},null,null,null,"nr startowy w:",null,null,{"$f":"REJESTRACJA!H27","v":33}]
[null,null,"1.3.","Widok z przodu/tyłu",null,null,{"$f":"K!$E$10","v":4},null,null,null,0]
[null,null,"2.","Kolorystyka",null,null,{"$f":"K!$E$11","v":7},null,null,null,0,null,null,null,"F4H-P"]
[null,null,"3.","Oznakowanie",null,null,{"$f":"K!$E$12","v":4},null,null,null,0]
[null,null,"4.","Szczegóły",null,null,{"$f":"K!$E$13","v":2},null,null,null,{"$f":"SUM(H11:J11)*G11","v":0}]
[null,null,"BONUS:",null,null,null,{"$f":"IF(G13=\"x\",K!$E$15,0)","v":0},"OCENA KOŃCOWA:",null,null,{"$f":"IF(AND(K6>0,K7>0,K8>0),ROUND((SUM(K6:K11)*(1+G12)),2),0)","v":0}]
["MODEL WYKONANY OD PODSTAW:",null,null,null,null,null,null,null,null,null,null,null,null,null,"OCENA KOŃCOWA ZA LOTY:",null,null,null,{"$f":"ROUND(((K30+O30+S30)-MIN(K30,O30,S30))/2,2)","v":0}]
["OCENA LOTÓW","PROGRAM LOTU","Lp.","Manewr/figura",null,null,"K","OCENA I LOTU",null,null,"WYNIK","OCENA II LOTU",null,null,"WYNIK","OCENA III LOTU",null,null,"WYNIK"]
[null,null,null,null,null,null,null,"Sędzia I","Sędzia II","Sędzia III",null,"Sędzia I","Sędzia II","Sędzia III",null,"Sędzia I","Sędzia II","Sędzia III"]
[null,null,"1.","Start",null,null,{"$f":"K!$E$21","v":11},null,null,null,{"$f":"SUM(H16:J16)*$G16","v":0},null,null,null,{"$f":"SUM(L16:N16)*$G16","v":0},null,null,null,{"$f":"SUM(P16:R16)*$G16","v":0}]
[null,null,"2.","Pokaz dowolny",null,null,{"$f":"K!$E$22","v":7},null,null,null,{"$f":"SUM(H17:J17)*$G17","v":0},null,null,null,{"$f":"SUM(L17:N17)*$G17","v":0},null,null,null,{"$f":"SUM(P17:R17)*$G17","v":0}]
[null,null,"3.","Pokaz dowolny",null,null,{"$f":"K!$E$23","v":7},null,null,null,0,null,null,null,0,null,null,null,0]
[null,null,"4.","Pokaz dowolny",null,null,{"$f":"K!$E$24","v":7},null,null,null,0,null,null,null,0,null,null,null,0]
[null,null,"5.","Pokaz dowolny",null,null,{"$f":"K!$E$25","v":7},null,null,null,0,null,null,null,0,null,null,null,0,null,"WYNIKI"]
[null,null,"6.","Pokaz dowolny",null,null,{"$f":"K!$E$26","v":7},null,null,null,0,null,null,null,0,null,null,null,0]
[null,null,"7.","Pokaz dowolny",null,null,{"$f":"K!$E$27","v":7},null,null,null,0,null,null,null,0,null,null,null,0]
[null,null,"8.","Pokaz dowolny",null,null,{"$f":"K!$E$28","v":7},null,null,null,0,null,null,null,0,null,null,null,0]
[null,null,"9.","Pokaz dowolny",null,null,{"$f":"K!$E$29","v":7},null,null,null,0,null,null,null,0,null,null,null,0,null,"LISTA"]
[null,null,"10.","Podejscie do lądowania i lądowanie",null,null,{"$f":"K!$E$30","v":11},null,null,null,{"$f":"SUM(H25:J25)*G25","v":0},null,null,null,0,null,null,null,{"$f":"SUM(P25:R25)*G25","v":0}]
[null,"REALIZM LOTU"]
[null,null,"1.","Prezentacja lotu",null,null,{"$f":"K!$E$32","v":4},null,null,null,{"$f":"SUM(H27:J27)*$G27","v":0},null,null,null,{"$f":"SUM(L27:N27)*$G27","v":0},null,null,null,{"$f":"SUM(P27:R27)*$G27","v":0}]
[null,null,"2.","Prędkość lotu modelu",null,null,{"$f":"K!$E$33","v":9},null,null,null,{"$f":"SUM(H28:J28)*$G28","v":0},null,null,null,{"$f":"SUM(L28:N28)*$G28","v":0},null,null,null,{"$f":"SUM(P28:R28)*$G28","v":0},null,"REJESTR."]
[null,null,"3.","Płynność lotu",null,null,{"$f":"K!$E$34","v":9},null,null,null,{"$f":"SUM(H29:J29)*$G29","v":0},null,null,null,{"$f":"SUM(L29:N29)*$G29","v":0},null,null,null,{"$f":"SUM(P29:R29)*$G29","v":0}]
[null,null,null,null,null,null,null,"OCENA KOŃCOWA LOTU I:",null,null,{"$f":"SUM(K16:K25)+SUM(K27:K29)","v":0},"OCENA KOŃCOWA LOTU II:",null,null,{"$f":"SUM(O16:O25)+SUM(O27:O29)","v":0},"OCENA KOŃCOWA LOTU III:",null,null,{"$f":"SUM(S16:S25)+SUM(S27:S29)","v":0}]

{"sheet":"21","index":26,"n_rows":30,"n_cols":21,"rows_kept":30,"cut":false,"hidden":false,"merged":[[29,11,29,13],[29,15,29,17],[25,11,25,13],[25,15,25,17],[28,3,28,5],[29,0,29,6],[25,7,25,9],[25,2,25,5],[13,0,28,0],[13,1,24,1],[25,1,28,1],[27,3,27,5],[29,7,29,9],[20,3,20,5],[21,3,21,5],[22,3,22,5],[23,3,23,5],[24,3,24,5],[26,3,26,5],[13,18,14,18],[15,3,15,5],[16,3,16,5],[17,3,17,5],[18,3,18,5],[13,10,14,10],[13,11,13,13],[13,14,14,14],[13,15,13,17],[19,3,19,5],[13,2,14,2],[13,3,14,5],[13,6,14,6],[13,7,13,9],[4,14,5,16],[12,0,12,5],[12,14,12,17],[8,14,11,16],[9,3,9,5],[10,3,10,5],[11,7,11,9],[2,11,11,13],[2,14,3,16],[6,3,6,5],[6,14,7,16],[11,2,11,5],[0,0,1,6],[0,7,1,7],[0,8,0,10],[0,11,0,18],[1,8,1,10],[1,11,1,18],[19,20,20,20],[23,20,24,20],[27,20,28,20],[6,17,11,18],[2,0,11,1],[2,2,3,2],[2,3,3,5],[2,6,3,6],[2,7,2,9],[2,10,3,10],[7,3,7,5],[8,3,8,5],[2,17,3,18],[4,3,4,5],[4,17,5,18],[5,3,5,5]]}
["Karta oceny Zawodnika",null,null,null,null,null,null,{"$f":"REJESTRACJA!H28","v":33},"Nazwisko i Imię Zawodnika;",null,null,{"$f":"REJESTRACJA!D28","v":0}]
[null,null,null,null,null,null,null,null,"Model:",null,null,{"$f":"REJESTRACJA!E28","v":0}]
["OCENA STATYCZNA",null,"Lp.","Element oceniany",null,null,"K","OCENA ",null,null,"WYNIK",null,null,null,"WYNIK KOŃCOWY:",null,null,{"$f":"IF(S13>0,S13+K12,0)","v":0}]
[null,null,null,null,null,null,null,"Sędzia I","Sędzia II","Sędzia III"]
[null,null,"1.","Dokladność odwzorowania w skali:",null,null,null,null,null,null,null,null,null,null,"MIEJSCE:",null,null,{"$f":"IF($R$3>0,VLOOKUP($R$3,LISTA!$L$8:$M$37,2,FALSE),0)","v":0}]
[null,null,"1.1.","Widik z boku",null,null,{"$f":"K!$E$8","v":4},null,null,null,{"$f":"SUM(H6:J6)*G6","v":0}]
[null,null,"1.2.","Widok z góry",null,null,{"$f":"K!$E$9","v":4},null,null,null,{"$f":"SUM(H7:J7)*G7","v":0},null,null,null,"nr startowy w:",null,null,{"$f":"REJESTRACJA!H28","v":33}]
[null,null,"1.3.","Widok z przodu/tyłu",null,null,{"$f":"K!$E$10","v":4},null,null,null,0]
[null,null,"2.","Kolorystyka",null,null,{"$f":"K!$E$11","v":7},null,null,null,0,null,null,null,"F4H-P"]
[null,null,"3.","Oznakowanie",null,null,{"$f":"K!$E$12","v":4},null,null,null,0]
[null,null,"4.","Szczegóły",null,null,{"$f":"K!$E$13","v":2},null,null,null,{"$f":"SUM(H11:J11)*G11","v":0}]
[null,null,"BONUS:",null,null,null,{"$f":"IF(G13=\"x\",K!$E$15,0)","v":0},"OCENA KOŃCOWA:",null,null,{"$f":"IF(AND(K6>0,K7>0,K8>0),ROUND((SUM(K6:K11)*(1+G12)),2),0)","v":0}]
["MODEL WYKONANY OD PODSTAW:",null,null,null,null,null,null,null,null,null,null,null,null,null,"OCENA KOŃCOWA ZA LOTY:",null,null,null,{"$f":"ROUND(((K30+O30+S30)-MIN(K30,O30,S30))/2,2)","v":0}]
["OCENA LOTÓW","PROGRAM LOTU","Lp.","Manewr/figura",null,null,"K","OCENA I LOTU",null,null,"WYNIK","OCENA II LOTU",null,null,"WYNIK","OCENA III LOTU",null,null,"WYNIK"]
[null,null,null,null,null,null,null,"Sędzia I","Sędzia II","Sędzia III",null,"Sędzia I","Sędzia II","Sędzia III",null,"Sędzia I","Sędzia II","Sędzia III"]
[null,null,"1.","Start",null,null,{"$f":"K!$E$21","v":11},null,null,null,{"$f":"SUM(H16:J16)*$G16","v":0},null,null,null,{"$f":"SUM(L16:N16)*$G16","v":0},null,null,null,{"$f":"SUM(P16:R16)*$G16","v":0}]
[null,null,"2.","Pokaz dowolny",null,null,{"$f":"K!$E$22","v":7},null,null,null,{"$f":"SUM(H17:J17)*$G17","v":0},null,null,null,{"$f":"SUM(L17:N17)*$G17","v":0},null,null,null,{"$f":"SUM(P17:R17)*$G17","v":0}]
[null,null,"3.","Pokaz dowolny",null,null,{"$f":"K!$E$23","v":7},null,null,null,0,null,null,null,0,null,null,null,0]
[null,null,"4.","Pokaz dowolny",null,null,{"$f":"K!$E$24","v":7},null,null,null,0,null,null,null,0,null,null,null,0]
[null,null,"5.","Pokaz dowolny",null,null,{"$f":"K!$E$25","v":7},null,null,null,0,null,null,null,0,null,null,null,0,null,"WYNIKI"]
[null,null,"6.","Pokaz dowolny",null,null,{"$f":"K!$E$26","v":7},null,null,null,0,null,null,null,0,null,null,null,0]
[null,null,"7.","Pokaz dowolny",null,null,{"$f":"K!$E$27","v":7},null,null,null,0,null,null,null,0,null,null,null,0]
[null,null,"8.","Pokaz dowolny",null,null,{"$f":"K!$E$28","v":7},null,null,null,0,null,null,null,0,null,null,null,0]
[null,null,"9.","Pokaz dowolny",null,null,{"$f":"K!$E$29","v":7},null,null,null,0,null,null,null,0,null,null,null,0,null,"LISTA"]
[null,null,"10.","Podejscie do lądowania i lądowanie",null,null,{"$f":"K!$E$30","v":11},null,null,null,{"$f":"SUM(H25:J25)*G25","v":0},null,null,null,0,null,null,null,{"$f":"SUM(P25:R25)*G25","v":0}]
[null,"REALIZM LOTU"]
[null,null,"1.","Prezentacja lotu",null,null,{"$f":"K!$E$32","v":4},null,null,null,{"$f":"SUM(H27:J27)*$G27","v":0},null,null,null,{"$f":"SUM(L27:N27)*$G27","v":0},null,null,null,{"$f":"SUM(P27:R27)*$G27","v":0}]
[null,null,"2.","Prędkość lotu modelu",null,null,{"$f":"K!$E$33","v":9},null,null,null,{"$f":"SUM(H28:J28)*$G28","v":0},null,null,null,{"$f":"SUM(L28:N28)*$G28","v":0},null,null,null,{"$f":"SUM(P28:R28)*$G28","v":0},null,"REJESTR."]
[null,null,"3.","Płynność lotu",null,null,{"$f":"K!$E$34","v":9},null,null,null,{"$f":"SUM(H29:J29)*$G29","v":0},null,null,null,{"$f":"SUM(L29:N29)*$G29","v":0},null,null,null,{"$f":"SUM(P29:R29)*$G29","v":0}]
[null,null,null,null,null,null,null,"OCENA KOŃCOWA LOTU I:",null,null,{"$f":"SUM(K16:K25)+SUM(K27:K29)","v":0},"OCENA KOŃCOWA LOTU II:",null,null,{"$f":"SUM(O16:O25)+SUM(O27:O29)","v":0},"OCENA KOŃCOWA LOTU III:",null,null,{"$f":"SUM(S16:S25)+SUM(S27:S29)","v":0}]

{"sheet":"22","index":27,"n_rows":30,"n_cols":21,"rows_kept":30,"cut":false,"hidden":false,"merged":[[29,11,29,13],[29,15,29,17],[25,11,25,13],[25,15,25,17],[28,3,28,5],[29,0,29,6],[25,2,25,5],[25,7,25,9],[13,1,24,1],[13,0,28,0],[25,1,28,1],[27,3,27,5],[29,7,29,9],[20,3,20,5],[21,3,21,5],[22,3,22,5],[23,3,23,5],[24,3,24,5],[26,3,26,5],[19,3,19,5],[13,2,14,2],[13,18,14,18],[15,3,15,5],[16,3,16,5],[17,3,17,5],[18,3,18,5],[13,10,14,10],[13,11,13,13],[13,14,14,14],[13,15,13,17],[13,3,14,5],[13,6,14,6],[13,7,13,9],[4,14,5,16],[12,0,12,5],[12,14,12,17],[8,14,11,16],[9,3,9,5],[10,3,10,5],[11,7,11,9],[2,11,11,13],[2,14,3,16],[6,3,6,5],[6,14,7,16],[11,2,11,5],[0,0,1,6],[0,7,1,7],[0,8,0,10],[0,11,0,18],[1,8,1,10],[1,11,1,18],[19,20,20,20],[23,20,24,20],[27,20,28,20],[6,17,11,18],[2,0,11,1],[2,2,3,2],[2,3,3,5],[2,6,3,6],[2,7,2,9],[2,10,3,10],[7,3,7,5],[8,3,8,5],[2,17,3,18],[4,3,4,5],[4,17,5,18],[5,3,5,5]]}
["Karta oceny Zawodnika",null,null,null,null,null,null,{"$f":"REJESTRACJA!H29","v":33},"Nazwisko i Imię Zawodnika;",null,null,{"$f":"REJESTRACJA!D29","v":0}]
[null,null,null,null,null,null,null,null,"Model:",null,null,{"$f":"REJESTRACJA!E29","v":0}]
["OCENA STATYCZNA",null,"Lp.","Element oceniany",null,null,"K","OCENA ",null,null,"WYNIK",null,null,null,"WYNIK KOŃCOWY:",null,null,{"$f":"IF(S13>0,S13+K12,0)","v":0}]
[null,null,null,null,null,null,null,"Sędzia I","Sędzia II","Sędzia III"]
[null,null,"1.","Dokladność odwzorowania w skali:",null,null,null,null,null,null,null,null,null,null,"MIEJSCE:",null,null,{"$f":"IF($R$3>0,VLOOKUP($R$3,LISTA!$L$8:$M$37,2,FALSE),0)","v":0}]
[null,null,"1.1.","Widik z boku",null,null,{"$f":"K!$E$8","v":4},null,null,null,{"$f":"SUM(H6:J6)*G6","v":0}]
[null,null,"1.2.","Widok z góry",null,null,{"$f":"K!$E$9","v":4},null,null,null,{"$f":"SUM(H7:J7)*G7","v":0},null,null,null,"nr startowy w:",null,null,{"$f":"REJESTRACJA!H29","v":33}]
[null,null,"1.3.","Widok z przodu/tyłu",null,null,{"$f":"K!$E$10","v":4},null,null,null,0]
[null,null,"2.","Kolorystyka",null,null,{"$f":"K!$E$11","v":7},null,null,null,0,null,null,null,"F4H-P"]
[null,null,"3.","Oznakowanie",null,null,{"$f":"K!$E$12","v":4},null,null,null,0]
[null,null,"4.","Szczegóły",null,null,{"$f":"K!$E$13","v":2},null,null,null,{"$f":"SUM(H11:J11)*G11","v":0}]
[null,null,"BONUS:",null,null,null,{"$f":"IF(G13=\"x\",K!$E$15,0)","v":0},"OCENA KOŃCOWA:",null,null,{"$f":"IF(AND(K6>0,K7>0,K8>0),ROUND((SUM(K6:K11)*(1+G12)),2),0)","v":0}]
["MODEL WYKONANY OD PODSTAW:",null,null,null,null,null,null,null,null,null,null,null,null,null,"OCENA KOŃCOWA ZA LOTY:",null,null,null,{"$f":"ROUND(((K30+O30+S30)-MIN(K30,O30,S30))/2,2)","v":0}]
["OCENA LOTÓW","PROGRAM LOTU","Lp.","Manewr/figura",null,null,"K","OCENA I LOTU",null,null,"WYNIK","OCENA II LOTU",null,null,"WYNIK","OCENA III LOTU",null,null,"WYNIK"]
[null,null,null,null,null,null,null,"Sędzia I","Sędzia II","Sędzia III",null,"Sędzia I","Sędzia II","Sędzia III",null,"Sędzia I","Sędzia II","Sędzia III"]
[null,null,"1.","Start",null,null,{"$f":"K!$E$21","v":11},null,null,null,{"$f":"SUM(H16:J16)*$G16","v":0},null,null,null,{"$f":"SUM(L16:N16)*$G16","v":0},null,null,null,{"$f":"SUM(P16:R16)*$G16","v":0}]
[null,null,"2.","Pokaz dowolny",null,null,{"$f":"K!$E$22","v":7},null,null,null,{"$f":"SUM(H17:J17)*$G17","v":0},null,null,null,{"$f":"SUM(L17:N17)*$G17","v":0},null,null,null,{"$f":"SUM(P17:R17)*$G17","v":0}]
[null,null,"3.","Pokaz dowolny",null,null,{"$f":"K!$E$23","v":7},null,null,null,0,null,null,null,0,null,null,null,0]
[null,null,"4.","Pokaz dowolny",null,null,{"$f":"K!$E$24","v":7},null,null,null,0,null,null,null,0,null,null,null,0]
[null,null,"5.","Pokaz dowolny",null,null,{"$f":"K!$E$25","v":7},null,null,null,0,null,null,null,0,null,null,null,0,null,"WYNIKI"]
[null,null,"6.","Pokaz dowolny",null,null,{"$f":"K!$E$26","v":7},null,null,null,0,null,null,null,0,null,null,null,0]
[null,null,"7.","Pokaz dowolny",null,null,{"$f":"K!$E$27","v":7},null,null,null,0,null,null,null,0,null,null,null,0]
[null,null,"8.","Pokaz dowolny",null,null,{"$f":"K!$E$28","v":7},null,null,null,0,null,null,null,0,null,null,null,0]
[null,null,"9.","Pokaz dowolny",null,null,{"$f":"K!$E$29","v":7},null,null,null,0,null,null,null,0,null,null,null,0,null,"LISTA"]
[null,null,"10.","Podejscie do lądowania i lądowanie",null,null,{"$f":"K!$E$30","v":11},null,null,null,{"$f":"SUM(H25:J25)*G25","v":0},null,null,null,0,null,null,null,{"$f":"SUM(P25:R25)*G25","v":0}]
[null,"REALIZM LOTU"]
[null,null,"1.","Prezentacja lotu",null,null,{"$f":"K!$E$32","v":4},null,null,null,{"$f":"SUM(H27:J27)*$G27","v":0},null,null,null,{"$f":"SUM(L27:N27)*$G27","v":0},null,null,null,{"$f":"SUM(P27:R27)*$G27","v":0}]
[null,null,"2.","Prędkość lotu modelu",null,null,{"$f":"K!$E$33","v":9},null,null,null,{"$f":"SUM(H28:J28)*$G28","v":0},null,null,null,{"$f":"SUM(L28:N28)*$G28","v":0},null,null,null,{"$f":"SUM(P28:R28)*$G28","v":0},null,"REJESTR."]
[null,null,"3.","Płynność lotu",null,null,{"$f":"K!$E$34","v":9},null,null,null,{"$f":"SUM(H29:J29)*$G29","v":0},null,null,null,{"$f":"SUM(L29:N29)*$G29","v":0},null,null,null,{"$f":"SUM(P29:R29)*$G29","v":0}]
[null,null,null,null,null,null,null,"OCENA KOŃCOWA LOTU I:",null,null,{"$f":"SUM(K16:K25)+SUM(K27:K29)","v":0},"OCENA KOŃCOWA LOTU II:",null,null,{"$f":"SUM(O16:O25)+SUM(O27:O29)","v":0},"OCENA KOŃCOWA LOTU III:",null,null,{"$f":"SUM(S16:S25)+SUM(S27:S29)","v":0}]

{"sheet":"23","index":28,"n_rows":30,"n_cols":21,"rows_kept":30,"cut":false,"hidden":false,"merged":[[29,11,29,13],[29,15,29,17],[25,11,25,13],[25,15,25,17],[28,3,28,5],[29,0,29,6],[25,7,25,9],[25,2,25,5],[13,0,28,0],[13,1,24,1],[25,1,28,1],[27,3,27,5],[29,7,29,9],[20,3,20,5],[21,3,21,5],[22,3,22,5],[23,3,23,5],[24,3,24,5],[26,3,26,5],[13,18,14,18],[15,3,15,5],[16,3,16,5],[17,3,17,5],[18,3,18,5],[13,10,14,10],[13,11,13,13],[13,14,14,14],[13,15,13,17],[19,3,19,5],[13,2,14,2],[13,3,14,5],[13,6,14,6],[13,7,13,9],[4,14,5,16],[12,0,12,5],[12,14,12,17],[8,14,11,16],[9,3,9,5],[10,3,10,5],[11,7,11,9],[2,11,11,13],[2,14,3,16],[6,3,6,5],[6,14,7,16],[11,2,11,5],[0,0,1,6],[0,7,1,7],[0,8,0,10],[0,11,0,18],[1,8,1,10],[1,11,1,18],[19,20,20,20],[23,20,24,20],[27,20,28,20],[6,17,11,18],[2,0,11,1],[2,2,3,2],[2,3,3,5],[2,6,3,6],[2,7,2,9],[2,10,3,10],[7,3,7,5],[8,3,8,5],[2,17,3,18],[4,3,4,5],[4,17,5,18],[5,3,5,5]]}
["Karta oceny Zawodnika",null,null,null,null,null,null,{"$f":"REJESTRACJA!H30","v":33},"Nazwisko i Imię Zawodnika;",null,null,{"$f":"REJESTRACJA!D30","v":0}]
[null,null,null,null,null,null,null,null,"Model:",null,null,{"$f":"REJESTRACJA!E30","v":0}]
["OCENA STATYCZNA",null,"Lp.","Element oceniany",null,null,"K","OCENA ",null,null,"WYNIK",null,null,null,"WYNIK KOŃCOWY:",null,null,{"$f":"IF(S13>0,S13+K12,0)","v":0}]
[null,null,null,null,null,null,null,"Sędzia I","Sędzia II","Sędzia III"]
[null,null,"1.","Dokladność odwzorowania w skali:",null,null,null,null,null,null,null,null,null,null,"MIEJSCE:",null,null,{"$f":"IF($R$3>0,VLOOKUP($R$3,LISTA!$L$8:$M$37,2,FALSE),0)","v":0}]
[null,null,"1.1.","Widik z boku",null,null,{"$f":"K!$E$8","v":4},null,null,null,{"$f":"SUM(H6:J6)*G6","v":0}]
[null,null,"1.2.","Widok z góry",null,null,{"$f":"K!$E$9","v":4},null,null,null,{"$f":"SUM(H7:J7)*G7","v":0},null,null,null,"nr startowy w:",null,null,{"$f":"REJESTRACJA!H30","v":33}]
[null,null,"1.3.","Widok z przodu/tyłu",null,null,{"$f":"K!$E$10","v":4},null,null,null,0]
[null,null,"2.","Kolorystyka",null,null,{"$f":"K!$E$11","v":7},null,null,null,0,null,null,null,"F4H-P"]
[null,null,"3.","Oznakowanie",null,null,{"$f":"K!$E$12","v":4},null,null,null,0]
[null,null,"4.","Szczegóły",null,null,{"$f":"K!$E$13","v":2},null,null,null,{"$f":"SUM(H11:J11)*G11","v":0}]
[null,null,"BONUS:",null,null,null,{"$f":"IF(G13=\"x\",K!$E$15,0)","v":0},"OCENA KOŃCOWA:",null,null,{"$f":"IF(AND(K6>0,K7>0,K8>0),ROUND((SUM(K6:K11)*(1+G12)),2),0)","v":0}]
["MODEL WYKONANY OD PODSTAW:",null,null,null,null,null,null,null,null,null,null,null,null,null,"OCENA KOŃCOWA ZA LOTY:",null,null,null,{"$f":"ROUND(((K30+O30+S30)-MIN(K30,O30,S30))/2,2)","v":0}]
["OCENA LOTÓW","PROGRAM LOTU","Lp.","Manewr/figura",null,null,"K","OCENA I LOTU",null,null,"WYNIK","OCENA II LOTU",null,null,"WYNIK","OCENA III LOTU",null,null,"WYNIK"]
[null,null,null,null,null,null,null,"Sędzia I","Sędzia II","Sędzia III",null,"Sędzia I","Sędzia II","Sędzia III",null,"Sędzia I","Sędzia II","Sędzia III"]
[null,null,"1.","Start",null,null,{"$f":"K!$E$21","v":11},null,null,null,{"$f":"SUM(H16:J16)*$G16","v":0},null,null,null,{"$f":"SUM(L16:N16)*$G16","v":0},null,null,null,{"$f":"SUM(P16:R16)*$G16","v":0}]
[null,null,"2.","Pokaz dowolny",null,null,{"$f":"K!$E$22","v":7},null,null,null,{"$f":"SUM(H17:J17)*$G17","v":0},null,null,null,{"$f":"SUM(L17:N17)*$G17","v":0},null,null,null,{"$f":"SUM(P17:R17)*$G17","v":0}]
[null,null,"3.","Pokaz dowolny",null,null,{"$f":"K!$E$23","v":7},null,null,null,0,null,null,null,0,null,null,null,0]
[null,null,"4.","Pokaz dowolny",null,null,{"$f":"K!$E$24","v":7},null,null,null,0,null,null,null,0,null,null,null,0]
[null,null,"5.","Pokaz dowolny",null,null,{"$f":"K!$E$25","v":7},null,null,null,0,null,null,null,0,null,null,null,0,null,"WYNIKI"]
[null,null,"6.","Pokaz dowolny",null,null,{"$f":"K!$E$26","v":7},null,null,null,0,null,null,null,0,null,null,null,0]
[null,null,"7.","Pokaz dowolny",null,null,{"$f":"K!$E$27","v":7},null,null,null,0,null,null,null,0,null,null,null,0]
[null,null,"8.","Pokaz dowolny",null,null,{"$f":"K!$E$28","v":7},null,null,null,0,null,null,null,0,null,null,null,0]
[null,null,"9.","Pokaz dowolny",null,null,{"$f":"K!$E$29","v":7},null,null,null,0,null,null,null,0,null,null,null,0,null,"LISTA"]
[null,null,"10.","Podejscie do lądowania i lądowanie",null,null,{"$f":"K!$E$30","v":11},null,null,null,{"$f":"SUM(H25:J25)*G25","v":0},null,null,null,0,null,null,null,{"$f":"SUM(P25:R25)*G25","v":0}]
[null,"REALIZM LOTU"]
[null,null,"1.","Prezentacja lotu",null,null,{"$f":"K!$E$32","v":4},null,null,null,{"$f":"SUM(H27:J27)*$G27","v":0},null,null,null,{"$f":"SUM(L27:N27)*$G27","v":0},null,null,null,{"$f":"SUM(P27:R27)*$G27","v":0}]
[null,null,"2.","Prędkość lotu modelu",null,null,{"$f":"K!$E$33","v":9},null,null,null,{"$f":"SUM(H28:J28)*$G28","v":0},null,null,null,{"$f":"SUM(L28:N28)*$G28","v":0},null,null,null,{"$f":"SUM(P28:R28)*$G28","v":0},null,"REJESTR."]
[null,null,"3.","Płynność lotu",null,null,{"$f":"K!$E$34","v":9},null,null,null,{"$f":"SUM(H29:J29)*$G29","v":0},null,null,null,{"$f":"SUM(L29:N29)*$G29","v":0},null,null,null,{"$f":"SUM(P29:R29)*$G29","v":0}]
[null,null,null,null,null,null,null,"OCENA KOŃCOWA LOTU I:",null,null,{"$f":"SUM(K16:K25)+SUM(K27:K29)","v":0},"OCENA KOŃCOWA LOTU II:",null,null,{"$f":"SUM(O16:O25)+SUM(O27:O29)","v":0},"OCENA KOŃCOWA LOTU III:",null,null,{"$f":"SUM(S16:S25)+SUM(S27:S29)","v":0}]

{"sheet":"24","index":29,"n_rows":30,"n_cols":21,"rows_kept":30,"cut":false,"hidden":false,"merged":[[29,11,29,13],[29,15,29,17],[25,11,25,13],[25,15,25,17],[28,3,28,5],[29,0,29,6],[25,2,25,5],[25,7,25,9],[13,0,28,0],[13,1,24,1],[25,1,28,1],[27,3,27,5],[29,7,29,9],[20,3,20,5],[21,3,21,5],[22,3,22,5],[23,3,23,5],[24,3,24,5],[26,3,26,5],[13,18,14,18],[15,3,15,5],[16,3,16,5],[17,3,17,5],[18,3,18,5],[13,10,14,10],[13,11,13,13],[13,14,14,14],[13,15,13,17],[19,3,19,5],[13,2,14,2],[13,3,14,5],[13,6,14,6],[13,7,13,9],[4,14,5,16],[12,0,12,5],[12,14,12,17],[8,14,11,16],[9,3,9,5],[10,3,10,5],[11,7,11,9],[2,11,11,13],[2,14,3,16],[6,3,6,5],[6,14,7,16],[11,2,11,5],[0,0,1,6],[0,7,1,7],[0,8,0,10],[0,11,0,18],[1,8,1,10],[1,11,1,18],[19,20,20,20],[23,20,24,20],[27,20,28,20],[6,17,11,18],[2,0,11,1],[2,2,3,2],[2,3,3,5],[2,6,3,6],[2,7,2,9],[2,10,3,10],[7,3,7,5],[8,3,8,5],[2,17,3,18],[4,3,4,5],[4,17,5,18],[5,3,5,5]]}
["Karta oceny Zawodnika",null,null,null,null,null,null,{"$f":"REJESTRACJA!H31","v":33},"Nazwisko i Imię Zawodnika;",null,null,{"$f":"REJESTRACJA!D31","v":0}]
[null,null,null,null,null,null,null,null,"Model:",null,null,{"$f":"REJESTRACJA!E31","v":0}]
["OCENA STATYCZNA",null,"Lp.","Element oceniany",null,null,"K","OCENA ",null,null,"WYNIK",null,null,null,"WYNIK KOŃCOWY:",null,null,{"$f":"IF(S13>0,S13+K12,0)","v":0}]
[null,null,null,null,null,null,null,"Sędzia I","Sędzia II","Sędzia III"]
[null,null,"1.","Dokladność odwzorowania w skali:",null,null,null,null,null,null,null,null,null,null,"MIEJSCE:",null,null,{"$f":"IF($R$3>0,VLOOKUP($R$3,LISTA!$L$8:$M$37,2,FALSE),0)","v":0}]
[null,null,"1.1.","Widik z boku",null,null,{"$f":"K!$E$8","v":4},null,null,null,{"$f":"SUM(H6:J6)*G6","v":0}]
[null,null,"1.2.","Widok z góry",null,null,{"$f":"K!$E$9","v":4},null,null,null,{"$f":"SUM(H7:J7)*G7","v":0},null,null,null,"nr startowy w:",null,null,{"$f":"REJESTRACJA!H31","v":33}]
[null,null,"1.3.","Widok z przodu/tyłu",null,null,{"$f":"K!$E$10","v":4},null,null,null,0]
[null,null,"2.","Kolorystyka",null,null,{"$f":"K!$E$11","v":7},null,null,null,0,null,null,null,"F4H-P"]
[null,null,"3.","Oznakowanie",null,null,{"$f":"K!$E$12","v":4},null,null,null,0]
[null,null,"4.","Szczegóły",null,null,{"$f":"K!$E$13","v":2},null,null,null,{"$f":"SUM(H11:J11)*G11","v":0}]
[null,null,"BONUS:",null,null,null,{"$f":"IF(G13=\"x\",K!$E$15,0)","v":0},"OCENA KOŃCOWA:",null,null,{"$f":"IF(AND(K6>0,K7>0,K8>0),ROUND((SUM(K6:K11)*(1+G12)),2),0)","v":0}]
["MODEL WYKONANY OD PODSTAW:",null,null,null,null,null,null,null,null,null,null,null,null,null,"OCENA KOŃCOWA ZA LOTY:",null,null,null,{"$f":"ROUND(((K30+O30+S30)-MIN(K30,O30,S30))/2,2)","v":0}]
["OCENA LOTÓW","PROGRAM LOTU","Lp.","Manewr/figura",null,null,"K","OCENA I LOTU",null,null,"WYNIK","OCENA II LOTU",null,null,"WYNIK","OCENA III LOTU ",null,null,"WYNIK"]
[null,null,null,null,null,null,null,"Sędzia I","Sędzia II","Sędzia III",null,"Sędzia I","Sędzia II","Sędzia III",null,"Sędzia I","Sędzia II","Sędzia III"]
[null,null,"1.","Start",null,null,{"$f":"K!$E$21","v":11},null,null,null,{"$f":"SUM(H16:J16)*$G16","v":0},null,null,null,{"$f":"SUM(L16:N16)*$G16","v":0},null,null,null,{"$f":"SUM(P16:R16)*$G16","v":0}]
[null,null,"2.","Pokaz dowolny",null,null,{"$f":"K!$E$22","v":7},null,null,null,{"$f":"SUM(H17:J17)*$G17","v":0},null,null,null,{"$f":"SUM(L17:N17)*$G17","v":0},null,null,null,{"$f":"SUM(P17:R17)*$G17","v":0}]
[null,null,"3.","Pokaz dowolny",null,null,{"$f":"K!$E$23","v":7},null,null,null,0,null,null,null,0,null,null,null,0]
[null,null,"4.","Pokaz dowolny",null,null,{"$f":"K!$E$24","v":7},null,null,null,0,null,null,null,0,null,null,null,0]
[null,null,"5.","Pokaz dowolny",null,null,{"$f":"K!$E$25","v":7},null,null,null,0,null,null,null,0,null,null,null,0,null,"WYNIKI"]
[null,null,"6.","Pokaz dowolny",null,null,{"$f":"K!$E$26","v":7},null,null,null,0,null,null,null,0,null,null,null,0]
[null,null,"7.","Pokaz dowolny",null,null,{"$f":"K!$E$27","v":7},null,null,null,0,null,null,null,0,null,null,null,0]
[null,null,"8.","Pokaz dowolny",null,null,{"$f":"K!$E$28","v":7},null,null,null,0,null,null,null,0,null,null,null,0]
[null,null,"9.","Pokaz dowolny",null,null,{"$f":"K!$E$29","v":7},null,null,null,0,null,null,null,0,null,null,null,0,null,"LISTA"]
[null,null,"10.","Podejscie do lądowania i lądowanie",null,null,{"$f":"K!$E$30","v":11},null,null,null,{"$f":"SUM(H25:J25)*G25","v":0},null,null,null,0,null,null,null,{"$f":"SUM(P25:R25)*G25","v":0}]
[null,"REALIZM LOTU"]
[null,null,"1.","Prezentacja lotu",null,null,{"$f":"K!$E$32","v":4},null,null,null,{"$f":"SUM(H27:J27)*$G27","v":0},null,null,null,{"$f":"SUM(L27:N27)*$G27","v":0},null,null,null,{"$f":"SUM(P27:R27)*$G27","v":0}]
[null,null,"2.","Prędkość lotu modelu",null,null,{"$f":"K!$E$33","v":9},null,null,null,{"$f":"SUM(H28:J28)*$G28","v":0},null,null,null,{"$f":"SUM(L28:N28)*$G28","v":0},null,null,null,{"$f":"SUM(P28:R28)*$G28","v":0},null,"REJESTR."]
[null,null,"3.","Płynność lotu",null,null,{"$f":"K!$E$34","v":9},null,null,null,{"$f":"SUM(H29:J29)*$G29","v":0},null,null,null,{"$f":"SUM(L29:N29)*$G29","v":0},null,null,null,{"$f":"SUM(P29:R29)*$G29","v":0}]
[null,null,null,null,null,null,null,"OCENA KOŃCOWA LOTU I:",null,null,{"$f":"SUM(K16:K25)+SUM(K27:K29)","v":0},"OCENA KOŃCOWA LOTU II:",null,null,{"$f":"SUM(O16:O25)+SUM(O27:O29)","v":0},"OCENA KOŃCOWA LOTU III:",null,null,{"$f":"SUM(S16:S25)+SUM(S27:S29)","v":0}]

{"sheet":"25","index":30,"n_rows":30,"n_cols":21,"rows_kept":30,"cut":false,"hidden":false,"merged":[[29,11,29,13],[29,15,29,17],[25,11,25,13],[25,15,25,17],[28,3,28,5],[29,0,29,6],[25,7,25,9],[25,2,25,5],[13,0,28,0],[13,1,24,1],[25,1,28,1],[27,3,27,5],[29,7,29,9],[20,3,20,5],[21,3,21,5],[22,3,22,5],[23,3,23,5],[24,3,24,5],[26,3,26,5],[13,18,14,18],[15,3,15,5],[16,3,16,5],[17,3,17,5],[18,3,18,5],[13,10,14,10],[13,11,13,13],[13,14,14,14],[13,15,13,17],[19,3,19,5],[13,2,14,2],[13,3,14,5],[13,6,14,6],[13,7,13,9],[4,14,5,16],[12,0,12,5],[12,14,12,17],[8,14,11,16],[9,3,9,5],[10,3,10,5],[11,7,11,9],[2,11,11,13],[2,14,3,16],[6,3,6,5],[6,14,7,16],[11,2,11,5],[0,0,1,6],[0,7,1,7],[0,8,0,10],[0,11,0,18],[1,8,1,10],[1,11,1,18],[19,20,20,20],[23,20,24,20],[27,20,28,20],[6,17,11,18],[2,0,11,1],[2,2,3,2],[2,3,3,5],[2,6,3,6],[2,7,2,9],[2,10,3,10],[7,3,7,5],[8,3,8,5],[2,17,3,18],[4,3,4,5],[4,17,5,18],[5,3,5,5]]}
["Karta oceny Zawodnika",null,null,null,null,null,null,{"$f":"REJESTRACJA!H32","v":33},"Nazwisko i Imię Zawodnika;",null,null,{"$f":"REJESTRACJA!D32","v":0}]
[null,null,null,null,null,null,null,null,"Model:",null,null,{"$f":"REJESTRACJA!E32","v":0}]
["OCENA STATYCZNA",null,"Lp.","Element oceniany",null,null,"K","OCENA ",null,null,"WYNIK",null,null,null,"WYNIK KOŃCOWY:",null,null,{"$f":"IF(S13>0,S13+K12,0)","v":0}]
[null,null,null,null,null,null,null,"Sędzia I","Sędzia II","Sędzia III"]
[null,null,"1.","Dokladność odwzorowania w skali:",null,null,null,null,null,null,null,null,null,null,"MIEJSCE:",null,null,{"$f":"IF($R$3>0,VLOOKUP($R$3,LISTA!$L$8:$M$37,2,FALSE),0)","v":0}]
[null,null,"1.1.","Widik z boku",null,null,{"$f":"K!$E$8","v":4},null,null,null,{"$f":"SUM(H6:J6)*G6","v":0}]
[null,null,"1.2.","Widok z góry",null,null,{"$f":"K!$E$9","v":4},null,null,null,{"$f":"SUM(H7:J7)*G7","v":0},null,null,null,"nr startowy w:",null,null,{"$f":"REJESTRACJA!H32","v":33}]
[null,null,"1.3.","Widok z przodu/tyłu",null,null,{"$f":"K!$E$10","v":4},null,null,null,0]
[null,null,"2.","Kolorystyka",null,null,{"$f":"K!$E$11","v":7},null,null,null,0,null,null,null,"F4H-P"]
[null,null,"3.","Oznakowanie",null,null,{"$f":"K!$E$12","v":4},null,null,null,0]
[null,null,"4.","Szczegóły",null,null,{"$f":"K!$E$13","v":2},null,null,null,{"$f":"SUM(H11:J11)*G11","v":0}]
[null,null,"BONUS:",null,null,null,{"$f":"IF(G13=\"x\",K!$E$15,0)","v":0},"OCENA KOŃCOWA:",null,null,{"$f":"IF(AND(K6>0,K7>0,K8>0),ROUND((SUM(K6:K11)*(1+G12)),2),0)","v":0}]
["MODEL WYKONANY OD PODSTAW:",null,null,null,null,null,null,null,null,null,null,null,null,null,"OCENA KOŃCOWA ZA LOTY:",null,null,null,{"$f":"ROUND(((K30+O30+S30)-MIN(K30,O30,S30))/2,2)","v":0}]
["OCENA LOTÓW","PROGRAM LOTU","Lp.","Manewr/figura",null,null,"K","OCENA I LOTU",null,null,"WYNIK","OCENA II LOTU",null,null,"WYNIK","OCENA III LOTU",null,null,"WYNIK"]
[null,null,null,null,null,null,null,"Sędzia I","Sędzia II","Sędzia III",null,"Sędzia I","Sędzia II","Sędzia III",null,"Sędzia I","Sędzia II","Sędzia III"]
[null,null,"1.","Start",null,null,{"$f":"K!$E$21","v":11},null,null,null,{"$f":"SUM(H16:J16)*$G16","v":0},null,null,null,{"$f":"SUM(L16:N16)*$G16","v":0},null,null,null,{"$f":"SUM(P16:R16)*$G16","v":0}]
[null,null,"2.","Pokaz dowolny",null,null,{"$f":"K!$E$22","v":7},null,null,null,{"$f":"SUM(H17:J17)*$G17","v":0},null,null,null,{"$f":"SUM(L17:N17)*$G17","v":0},null,null,null,{"$f":"SUM(P17:R17)*$G17","v":0}]
[null,null,"3.","Pokaz dowolny",null,null,{"$f":"K!$E$23","v":7},null,null,null,0,null,null,null,0,null,null,null,0]
[null,null,"4.","Pokaz dowolny",null,null,{"$f":"K!$E$24","v":7},null,null,null,0,null,null,null,0,null,null,null,0]
[null,null,"5.","Pokaz dowolny",null,null,{"$f":"K!$E$25","v":7},null,null,null,0,null,null,null,0,null,null,null,0,null,"WYNIKI"]
[null,null,"6.","Pokaz dowolny",null,null,{"$f":"K!$E$26","v":7},null,null,null,0,null,null,null,0,null,null,null,0]
[null,null,"7.","Pokaz dowolny",null,null,{"$f":"K!$E$27","v":7},null,null,null,0,null,null,null,0,null,null,null,0]
[null,null,"8.","Pokaz dowolny",null,null,{"$f":"K!$E$28","v":7},null,null,null,0,null,null,null,0,null,null,null,0]
[null,null,"9.","Pokaz dowolny",null,null,{"$f":"K!$E$29","v":7},null,null,null,0,null,null,null,0,null,null,null,0,null,"LISTA"]
[null,null,"10.","Podejscie do lądowania i lądowanie",null,null,{"$f":"K!$E$30","v":11},null,null,null,{"$f":"SUM(H25:J25)*G25","v":0},null,null,null,0,null,null,null,{"$f":"SUM(P25:R25)*G25","v":0}]
[null,"REALIZM LOTU"]
[null,null,"1.","Prezentacja lotu",null,null,{"$f":"K!$E$32","v":4},null,null,null,{"$f":"SUM(H27:J27)*$G27","v":0},null,null,null,{"$f":"SUM(L27:N27)*$G27","v":0},null,null,null,{"$f":"SUM(P27:R27)*$G27","v":0}]
[null,null,"2.","Prędkość lotu modelu",null,null,{"$f":"K!$E$33","v":9},null,null,null,{"$f":"SUM(H28:J28)*$G28","v":0},null,null,null,{"$f":"SUM(L28:N28)*$G28","v":0},null,null,null,{"$f":"SUM(P28:R28)*$G28","v":0},null,"REJESTR."]
[null,null,"3.","Płynność lotu",null,null,{"$f":"K!$E$34","v":9},null,null,null,{"$f":"SUM(H29:J29)*$G29","v":0},null,null,null,{"$f":"SUM(L29:N29)*$G29","v":0},null,null,null,{"$f":"SUM(P29:R29)*$G29","v":0}]
[null,null,null,null,null,null,null,"OCENA KOŃCOWA LOTU I:",null,null,{"$f":"SUM(K16:K25)+SUM(K27:K29)","v":0},"OCENA KOŃCOWA LOTU II:",null,null,{"$f":"SUM(O16:O25)+SUM(O27:O29)","v":0},"OCENA KOŃCOWA LOTU III:",null,null,{"$f":"SUM(S16:S25)+SUM(S27:S29)","v":0}]

{"sheet":"26","index":31,"n_rows":30,"n_cols":21,"rows_kept":30,"cut":false,"hidden":false,"merged":[[29,11,29,13],[29,15,29,17],[25,11,25,13],[25,15,25,17],[28,3,28,5],[29,0,29,6],[25,2,25,5],[25,7,25,9],[13,1,24,1],[13,0,28,0],[25,1,28,1],[27,3,27,5],[29,7,29,9],[20,3,20,5],[21,3,21,5],[22,3,22,5],[23,3,23,5],[24,3,24,5],[26,3,26,5],[19,3,19,5],[13,2,14,2],[13,18,14,18],[15,3,15,5],[16,3,16,5],[17,3,17,5],[18,3,18,5],[13,10,14,10],[13,11,13,13],[13,14,14,14],[13,15,13,17],[13,3,14,5],[13,6,14,6],[13,7,13,9],[4,14,5,16],[12,0,12,5],[12,14,12,17],[8,14,11,16],[9,3,9,5],[10,3,10,5],[11,7,11,9],[2,11,11,13],[2,14,3,16],[6,3,6,5],[6,14,7,16],[11,2,11,5],[0,0,1,6],[0,7,1,7],[0,8,0,10],[0,11,0,18],[1,8,1,10],[1,11,1,18],[19,20,20,20],[23,20,24,20],[27,20,28,20],[6,17,11,18],[2,0,11,1],[2,2,3,2],[2,3,3,5],[2,6,3,6],[2,7,2,9],[2,10,3,10],[7,3,7,5],[8,3,8,5],[2,17,3,18],[4,3,4,5],[4,17,5,18],[5,3,5,5]]}
["Karta oceny Zawodnika",null,null,null,null,null,null,{"$f":"REJESTRACJA!H33","v":33},"Nazwisko i Imię Zawodnika;",null,null,{"$f":"REJESTRACJA!D33","v":0}]
[null,null,null,null,null,null,null,null,"Model:",null,null,{"$f":"REJESTRACJA!E33","v":0}]
["OCENA STATYCZNA",null,"Lp.","Element oceniany",null,null,"K","OCENA ",null,null,"WYNIK",null,null,null,"WYNIK KOŃCOWY:",null,null,{"$f":"IF(S13>0,S13+K12,0)","v":0}]
[null,null,null,null,null,null,null,"Sędzia I","Sędzia II","Sędzia III"]
[null,null,"1.","Dokladność odwzorowania w skali:",null,null,null,null,null,null,null,null,null,null,"MIEJSCE:",null,null,{"$f":"IF($R$3>0,VLOOKUP($R$3,LISTA!$L$8:$M$37,2,FALSE),0)","v":0}]
[null,null,"1.1.","Widik z boku",null,null,{"$f":"K!$E$8","v":4},null,null,null,{"$f":"SUM(H6:J6)*G6","v":0}]
[null,null,"1.2.","Widok z góry",null,null,{"$f":"K!$E$9","v":4},null,null,null,{"$f":"SUM(H7:J7)*G7","v":0},null,null,null,"nr startowy w:",null,null,{"$f":"REJESTRACJA!H33","v":33}]
[null,null,"1.3.","Widok z przodu/tyłu",null,null,{"$f":"K!$E$10","v":4},null,null,null,0]
[null,null,"2.","Kolorystyka",null,null,{"$f":"K!$E$11","v":7},null,null,null,0,null,null,null,"F4H-P"]
[null,null,"3.","Oznakowanie",null,null,{"$f":"K!$E$12","v":4},null,null,null,0]
[null,null,"4.","Szczegóły",null,null,{"$f":"K!$E$13","v":2},null,null,null,{"$f":"SUM(H11:J11)*G11","v":0}]
[null,null,"BONUS:",null,null,null,{"$f":"IF(G13=\"x\",K!$E$15,0)","v":0},"OCENA KOŃCOWA:",null,null,{"$f":"IF(AND(K6>0,K7>0,K8>0),ROUND((SUM(K6:K11)*(1+G12)),2),0)","v":0}]
["MODEL WYKONANY OD PODSTAW:",null,null,null,null,null,null,null,null,null,null,null,null,null,"OCENA KOŃCOWA ZA LOTY:",null,null,null,{"$f":"ROUND(((K30+O30+S30)-MIN(K30,O30,S30))/2,2)","v":0}]
["OCENA LOTÓW","PROGRAM LOTU","Lp.","Manewr/figura",null,null,"K","OCENA I LOTU",null,null,"WYNIK","OCENA II LOTU",null,null,"WYNIK","OCENA III LOTU",null,null,"WYNIK"]
[null,null,null,null,null,null,null,"Sędzia I","Sędzia II","Sędzia III",null,"Sędzia I","Sędzia II","Sędzia III",null,"Sędzia I","Sędzia II","Sędzia III"]
[null,null,"1.","Start",null,null,{"$f":"K!$E$21","v":11},null,null,null,{"$f":"SUM(H16:J16)*$G16","v":0},null,null,null,{"$f":"SUM(L16:N16)*$G16","v":0},null,null,null,{"$f":"SUM(P16:R16)*$G16","v":0}]
[null,null,"2.","Pokaz dowolny",null,null,{"$f":"K!$E$22","v":7},null,null,null,{"$f":"SUM(H17:J17)*$G17","v":0},null,null,null,{"$f":"SUM(L17:N17)*$G17","v":0},null,null,null,{"$f":"SUM(P17:R17)*$G17","v":0}]
[null,null,"3.","Pokaz dowolny",null,null,{"$f":"K!$E$23","v":7},null,null,null,0,null,null,null,0,null,null,null,0]
[null,null,"4.","Pokaz dowolny",null,null,{"$f":"K!$E$24","v":7},null,null,null,0,null,null,null,0,null,null,null,0]
[null,null,"5.","Pokaz dowolny",null,null,{"$f":"K!$E$25","v":7},null,null,null,0,null,null,null,0,null,null,null,0,null,"WYNIKI"]
[null,null,"6.","Pokaz dowolny",null,null,{"$f":"K!$E$26","v":7},null,null,null,0,null,null,null,0,null,null,null,0]
[null,null,"7.","Pokaz dowolny",null,null,{"$f":"K!$E$27","v":7},null,null,null,0,null,null,null,0,null,null,null,0]
[null,null,"8.","Pokaz dowolny",null,null,{"$f":"K!$E$28","v":7},null,null,null,0,null,null,null,0,null,null,null,0]
[null,null,"9.","Pokaz dowolny",null,null,{"$f":"K!$E$29","v":7},null,null,null,0,null,null,null,0,null,null,null,0,null,"LISTA"]
[null,null,"10.","Podejscie do lądowania i lądowanie",null,null,{"$f":"K!$E$30","v":11},null,null,null,{"$f":"SUM(H25:J25)*G25","v":0},null,null,null,0,null,null,null,{"$f":"SUM(P25:R25)*G25","v":0}]
[null,"REALIZM LOTU"]
[null,null,"1.","Prezentacja lotu",null,null,{"$f":"K!$E$32","v":4},null,null,null,{"$f":"SUM(H27:J27)*$G27","v":0},null,null,null,{"$f":"SUM(L27:N27)*$G27","v":0},null,null,null,{"$f":"SUM(P27:R27)*$G27","v":0}]
[null,null,"2.","Prędkość lotu modelu",null,null,{"$f":"K!$E$33","v":9},null,null,null,{"$f":"SUM(H28:J28)*$G28","v":0},null,null,null,{"$f":"SUM(L28:N28)*$G28","v":0},null,null,null,{"$f":"SUM(P28:R28)*$G28","v":0},null,"REJESTR."]
[null,null,"3.","Płynność lotu",null,null,{"$f":"K!$E$34","v":9},null,null,null,{"$f":"SUM(H29:J29)*$G29","v":0},null,null,null,{"$f":"SUM(L29:N29)*$G29","v":0},null,null,null,{"$f":"SUM(P29:R29)*$G29","v":0}]
[null,null,null,null,null,null,null,"OCENA KOŃCOWA LOTU I:",null,null,{"$f":"SUM(K16:K25)+SUM(K27:K29)","v":0},"OCENA KOŃCOWA LOTU II:",null,null,{"$f":"SUM(O16:O25)+SUM(O27:O29)","v":0},"OCENA KOŃCOWA LOTU III:",null,null,{"$f":"SUM(S16:S25)+SUM(S27:S29)","v":0}]

{"sheet":"27","index":32,"n_rows":30,"n_cols":21,"rows_kept":30,"cut":false,"hidden":false,"merged":[[29,11,29,13],[29,15,29,17],[25,11,25,13],[25,15,25,17],[28,3,28,5],[29,0,29,6],[25,2,25,5],[25,7,25,9],[13,1,24,1],[13,0,28,0],[25,1,28,1],[27,3,27,5],[29,7,29,9],[20,3,20,5],[21,3,21,5],[22,3,22,5],[23,3,23,5],[24,3,24,5],[26,3,26,5],[19,3,19,5],[13,2,14,2],[13,18,14,18],[15,3,15,5],[16,3,16,5],[17,3,17,5],[18,3,18,5],[13,10,14,10],[13,11,13,13],[13,14,14,14],[13,15,13,17],[13,3,14,5],[13,6,14,6],[13,7,13,9],[4,14,5,16],[12,0,12,5],[12,14,12,17],[8,14,11,16],[9,3,9,5],[10,3,10,5],[11,7,11,9],[2,11,11,13],[2,14,3,16],[6,3,6,5],[6,14,7,16],[11,2,11,5],[0,0,1,6],[0,7,1,7],[0,8,0,10],[0,11,0,18],[1,8,1,10],[1,11,1,18],[19,20,20,20],[23,20,24,20],[27,20,28,20],[6,17,11,18],[2,0,11,1],[2,2,3,2],[2,3,3,5],[2,6,3,6],[2,7,2,9],[2,10,3,10],[7,3,7,5],[8,3,8,5],[2,17,3,18],[4,3,4,5],[4,17,5,18],[5,3,5,5]]}
["Karta oceny Zawodnika",null,null,null,null,null,null,{"$f":"REJESTRACJA!H34","v":33},"Nazwisko i Imię Zawodnika;",null,null,{"$f":"REJESTRACJA!D34","v":0}]
[null,null,null,null,null,null,null,null,"Model:",null,null,{"$f":"REJESTRACJA!E34","v":0}]
["OCENA STATYCZNA",null,"Lp.","Element oceniany",null,null,"K","OCENA ",null,null,"WYNIK",null,null,null,"WYNIK KOŃCOWY:",null,null,{"$f":"IF(S13>0,S13+K12,0)","v":0}]
[null,null,null,null,null,null,null,"Sędzia I","Sędzia II","Sędzia III"]
[null,null,"1.","Dokladność odwzorowania w skali:",null,null,null,null,null,null,null,null,null,null,"MIEJSCE:",null,null,{"$f":"IF($R$3>0,VLOOKUP($R$3,LISTA!$L$8:$M$37,2,FALSE),0)","v":0}]
[null,null,"1.1.","Widik z boku",null,null,{"$f":"K!$E$8","v":4},null,null,null,{"$f":"SUM(H6:J6)*G6","v":0}]
[null,null,"1.2.","Widok z góry",null,null,{"$f":"K!$E$9","v":4},null,null,null,{"$f":"SUM(H7:J7)*G7","v":0},null,null,null,"nr startowy w:",null,null,{"$f":"REJESTRACJA!H34","v":33}]
[null,null,"1.3.","Widok z przodu/tyłu",null,null,{"$f":"K!$E$10","v":4},null,null,null,0]
[null,null,"2.","Kolorystyka",null,null,{"$f":"K!$E$11","v":7},null,null,null,0,null,null,null,"F4H-P"]
[null,null,"3.","Oznakowanie",null,null,{"$f":"K!$E$12","v":4},null,null,null,0]
[null,null,"4.","Szczegóły",null,null,{"$f":"K!$E$13","v":2},null,null,null,{"$f":"SUM(H11:J11)*G11","v":0}]
[null,null,"BONUS:",null,null,null,{"$f":"IF(G13=\"x\",K!$E$15,0)","v":0},"OCENA KOŃCOWA:",null,null,{"$f":"IF(AND(K6>0,K7>0,K8>0),ROUND((SUM(K6:K11)*(1+G12)),2),0)","v":0}]
["MODEL WYKONANY OD PODSTAW:",null,null,null,null,null,null,null,null,null,null,null,null,null,"OCENA KOŃCOWA ZA LOTY:",null,null,null,{"$f":"ROUND(((K30+O30+S30)-MIN(K30,O30,S30))/2,2)","v":0}]
["OCENA LOTÓW","PROGRAM LOTU","Lp.","Manewr/figura",null,null,"K","OCENA I LOTU",null,null,"WYNIK","OCENA II LOTU",null,null,"WYNIK","OCENA III LOTU",null,null,"WYNIK"]
[null,null,null,null,null,null,null,"Sędzia I","Sędzia II","Sędzia III",null,"Sędzia I","Sędzia II","Sędzia III",null,"Sędzia I","Sędzia II","Sędzia III"]
[null,null,"1.","Start",null,null,{"$f":"K!$E$21","v":11},null,null,null,{"$f":"SUM(H16:J16)*$G16","v":0},null,null,null,{"$f":"SUM(L16:N16)*$G16","v":0},null,null,null,{"$f":"SUM(P16:R16)*$G16","v":0}]
[null,null,"2.","Pokaz dowolny",null,null,{"$f":"K!$E$22","v":7},null,null,null,{"$f":"SUM(H17:J17)*$G17","v":0},null,null,null,{"$f":"SUM(L17:N17)*$G17","v":0},null,null,null,{"$f":"SUM(P17:R17)*$G17","v":0}]
[null,null,"3.","Pokaz dowolny",null,null,{"$f":"K!$E$23","v":7},null,null,null,0,null,null,null,0,null,null,null,0]
[null,null,"4.","Pokaz dowolny",null,null,{"$f":"K!$E$24","v":7},null,null,null,0,null,null,null,0,null,null,null,0]
[null,null,"5.","Pokaz dowolny",null,null,{"$f":"K!$E$25","v":7},null,null,null,0,null,null,null,0,null,null,null,0,null,"WYNIKI"]
[null,null,"6.","Pokaz dowolny",null,null,{"$f":"K!$E$26","v":7},null,null,null,0,null,null,null,0,null,null,null,0]
[null,null,"7.","Pokaz dowolny",null,null,{"$f":"K!$E$27","v":7},null,null,null,0,null,null,null,0,null,null,null,0]
[null,null,"8.","Pokaz dowolny",null,null,{"$f":"K!$E$28","v":7},null,null,null,0,null,null,null,0,null,null,null,0]
[null,null,"9.","Pokaz dowolny",null,null,{"$f":"K!$E$29","v":7},null,null,null,0,null,null,null,0,null,null,null,0,null,"LISTA"]
[null,null,"10.","Podejscie do lądowania i lądowanie",null,null,{"$f":"K!$E$30","v":11},null,null,null,{"$f":"SUM(H25:J25)*G25","v":0},null,null,null,0,null,null,null,{"$f":"SUM(P25:R25)*G25","v":0}]
[null,"REALIZM LOTU"]
[null,null,"1.","Prezentacja lotu",null,null,{"$f":"K!$E$32","v":4},null,null,null,{"$f":"SUM(H27:J27)*$G27","v":0},null,null,null,{"$f":"SUM(L27:N27)*$G27","v":0},null,null,null,{"$f":"SUM(P27:R27)*$G27","v":0}]
[null,null,"2.","Prędkość lotu modelu",null,null,{"$f":"K!$E$33","v":9},null,null,null,{"$f":"SUM(H28:J28)*$G28","v":0},null,null,null,{"$f":"SUM(L28:N28)*$G28","v":0},null,null,null,{"$f":"SUM(P28:R28)*$G28","v":0},null,"REJESTR."]
[null,null,"3.","Płynność lotu",null,null,{"$f":"K!$E$34","v":9},null,null,null,{"$f":"SUM(H29:J29)*$G29","v":0},null,null,null,{"$f":"SUM(L29:N29)*$G29","v":0},null,null,null,{"$f":"SUM(P29:R29)*$G29","v":0}]
[null,null,null,null,null,null,null,"OCENA KOŃCOWA LOTU I:",null,null,{"$f":"SUM(K16:K25)+SUM(K27:K29)","v":0},"OCENA KOŃCOWA LOTU II:",null,null,{"$f":"SUM(O16:O25)+SUM(O27:O29)","v":0},"OCENA KOŃCOWA LOTU III:",null,null,{"$f":"SUM(S16:S25)+SUM(S27:S29)","v":0}]

{"sheet":"28","index":33,"n_rows":30,"n_cols":21,"rows_kept":30,"cut":false,"hidden":false,"merged":[[29,11,29,13],[29,15,29,17],[25,11,25,13],[25,15,25,17],[28,3,28,5],[29,0,29,6],[25,7,25,9],[25,2,25,5],[13,1,24,1],[13,0,28,0],[25,1,28,1],[27,3,27,5],[29,7,29,9],[20,3,20,5],[21,3,21,5],[22,3,22,5],[23,3,23,5],[24,3,24,5],[26,3,26,5],[19,3,19,5],[13,2,14,2],[13,18,14,18],[15,3,15,5],[16,3,16,5],[17,3,17,5],[18,3,18,5],[13,10,14,10],[13,11,13,13],[13,14,14,14],[13,15,13,17],[13,3,14,5],[13,6,14,6],[13,7,13,9],[4,14,5,16],[12,0,12,5],[12,14,12,17],[8,14,11,16],[9,3,9,5],[10,3,10,5],[11,7,11,9],[2,11,11,13],[2,14,3,16],[6,3,6,5],[6,14,7,16],[11,2,11,5],[0,0,1,6],[0,7,1,7],[0,8,0,10],[0,11,0,18],[1,8,1,10],[1,11,1,18],[19,20,20,20],[23,20,24,20],[27,20,28,20],[6,17,11,18],[2,0,11,1],[2,2,3,2],[2,3,3,5],[2,6,3,6],[2,7,2,9],[2,10,3,10],[7,3,7,5],[8,3,8,5],[2,17,3,18],[4,3,4,5],[4,17,5,18],[5,3,5,5]]}
["Karta oceny Zawodnika",null,null,null,null,null,null,{"$f":"REJESTRACJA!H35","v":33},"Nazwisko i Imię Zawodnika;",null,null,{"$f":"REJESTRACJA!D35","v":0}]
[null,null,null,null,null,null,null,null,"Model:",null,null,{"$f":"REJESTRACJA!E35","v":0}]
["OCENA STATYCZNA",null,"Lp.","Element oceniany",null,null,"K","OCENA ",null,null,"WYNIK",null,null,null,"WYNIK KOŃCOWY:",null,null,{"$f":"IF(S13>0,S13+K12,0)","v":0}]
[null,null,null,null,null,null,null,"Sędzia I","Sędzia II","Sędzia III"]
[null,null,"1.","Dokladność odwzorowania w skali:",null,null,null,null,null,null,null,null,null,null,"MIEJSCE:",null,null,{"$f":"IF($R$3>0,VLOOKUP($R$3,LISTA!$L$8:$M$37,2,FALSE),0)","v":0}]
[null,null,"1.1.","Widik z boku",null,null,{"$f":"K!$E$8","v":4},null,null,null,{"$f":"SUM(H6:J6)*G6","v":0}]
[null,null,"1.2.","Widok z góry",null,null,{"$f":"K!$E$9","v":4},null,null,null,{"$f":"SUM(H7:J7)*G7","v":0},null,null,null,"nr startowy w:",null,null,{"$f":"REJESTRACJA!H35","v":33}]
[null,null,"1.3.","Widok z przodu/tyłu",null,null,{"$f":"K!$E$10","v":4},null,null,null,0]
[null,null,"2.","Kolorystyka",null,null,{"$f":"K!$E$11","v":7},null,null,null,0,null,null,null,"F4H-P"]
[null,null,"3.","Oznakowanie",null,null,{"$f":"K!$E$12","v":4},null,null,null,0]
[null,null,"4.","Szczegóły",null,null,{"$f":"K!$E$13","v":2},null,null,null,{"$f":"SUM(H11:J11)*G11","v":0}]
[null,null,"BONUS:",null,null,null,{"$f":"IF(G13=\"x\",K!$E$15,0)","v":0},"OCENA KOŃCOWA:",null,null,{"$f":"IF(AND(K6>0,K7>0,K8>0),ROUND((SUM(K6:K11)*(1+G12)),2),0)","v":0}]
["MODEL WYKONANY OD PODSTAW:",null,null,null,null,null,null,null,null,null,null,null,null,null,"OCENA KOŃCOWA ZA LOTY:",null,null,null,{"$f":"ROUND(((K30+O30+S30)-MIN(K30,O30,S30))/2,2)","v":0}]
["OCENA LOTÓW","PROGRAM LOTU","Lp.","Manewr/figura",null,null,"K","OCENA I LOTU",null,null,"WYNIK","OCENA II LOTU",null,null,"WYNIK","OCENA III LOTU",null,null,"WYNIK"]
[null,null,null,null,null,null,null,"Sędzia I","Sędzia II","Sędzia III",null,"Sędzia I","Sędzia II","Sędzia III",null,"Sędzia I","Sędzia II","Sędzia III"]
[null,null,"1.","Start",null,null,{"$f":"K!$E$21","v":11},null,null,null,{"$f":"SUM(H16:J16)*$G16","v":0},null,null,null,{"$f":"SUM(L16:N16)*$G16","v":0},null,null,null,{"$f":"SUM(P16:R16)*$G16","v":0}]
[null,null,"2.","Pokaz dowolny",null,null,{"$f":"K!$E$22","v":7},null,null,null,{"$f":"SUM(H17:J17)*$G17","v":0},null,null,null,{"$f":"SUM(L17:N17)*$G17","v":0},null,null,null,{"$f":"SUM(P17:R17)*$G17","v":0}]
[null,null,"3.","Pokaz dowolny",null,null,{"$f":"K!$E$23","v":7},null,null,null,0,null,null,null,0,null,null,null,0]
[null,null,"4.","Pokaz dowolny",null,null,{"$f":"K!$E$24","v":7},null,null,null,0,null,null,null,0,null,null,null,0]
[null,null,"5.","Pokaz dowolny",null,null,{"$f":"K!$E$25","v":7},null,null,null,0,null,null,null,0,null,null,null,0,null,"WYNIKI"]
[null,null,"6.","Pokaz dowolny",null,null,{"$f":"K!$E$26","v":7},null,null,null,0,null,null,null,0,null,null,null,0]
[null,null,"7.","Pokaz dowolny",null,null,{"$f":"K!$E$27","v":7},null,null,null,0,null,null,null,0,null,null,null,0]
[null,null,"8.","Pokaz dowolny",null,null,{"$f":"K!$E$28","v":7},null,null,null,0,null,null,null,0,null,null,null,0]
[null,null,"9.","Pokaz dowolny",null,null,{"$f":"K!$E$29","v":7},null,null,null,0,null,null,null,0,null,null,null,0,null,"LISTA"]
[null,null,"10.","Podejscie do lądowania i lądowanie",null,null,{"$f":"K!$E$30","v":11},null,null,null,{"$f":"SUM(H25:J25)*G25","v":0},null,null,null,0,null,null,null,{"$f":"SUM(P25:R25)*G25","v":0}]
[null,"REALIZM LOTU"]
[null,null,"1.","Prezentacja lotu",null,null,{"$f":"K!$E$32","v":4},null,null,null,{"$f":"SUM(H27:J27)*$G27","v":0},null,null,null,{"$f":"SUM(L27:N27)*$G27","v":0},null,null,null,{"$f":"SUM(P27:R27)*$G27","v":0}]
[null,null,"2.","Prędkość lotu modelu",null,null,{"$f":"K!$E$33","v":9},null,null,null,{"$f":"SUM(H28:J28)*$G28","v":0},null,null,null,{"$f":"SUM(L28:N28)*$G28","v":0},null,null,null,{"$f":"SUM(P28:R28)*$G28","v":0},null,"REJESTR."]
[null,null,"3.","Płynność lotu",null,null,{"$f":"K!$E$34","v":9},null,null,null,{"$f":"SUM(H29:J29)*$G29","v":0},null,null,null,{"$f":"SUM(L29:N29)*$G29","v":0},null,null,null,{"$f":"SUM(P29:R29)*$G29","v":0}]
[null,null,null,null,null,null,null,"OCENA KOŃCOWA LOTU I:",null,null,{"$f":"SUM(K16:K25)+SUM(K27:K29)","v":0},"OCENA KOŃCOWA LOTU II:",null,null,{"$f":"SUM(O16:O25)+SUM(O27:O29)","v":0},"OCENA KOŃCOWA LOTU III:",null,null,{"$f":"SUM(S16:S25)+SUM(S27:S29)","v":0}]

{"sheet":"29","index":34,"n_rows":30,"n_cols":21,"rows_kept":30,"cut":false,"hidden":false,"merged":[[29,11,29,13],[29,15,29,17],[25,11,25,13],[25,15,25,17],[28,3,28,5],[29,0,29,6],[25,7,25,9],[25,2,25,5],[13,1,24,1],[13,0,28,0],[25,1,28,1],[27,3,27,5],[29,7,29,9],[20,3,20,5],[21,3,21,5],[22,3,22,5],[23,3,23,5],[24,3,24,5],[26,3,26,5],[19,3,19,5],[13,2,14,2],[13,18,14,18],[15,3,15,5],[16,3,16,5],[17,3,17,5],[18,3,18,5],[13,10,14,10],[13,11,13,13],[13,14,14,14],[13,15,13,17],[13,3,14,5],[13,6,14,6],[13,7,13,9],[4,14,5,16],[12,0,12,5],[12,14,12,17],[8,14,11,16],[9,3,9,5],[10,3,10,5],[11,7,11,9],[2,11,11,13],[2,14,3,16],[6,3,6,5],[6,14,7,16],[11,2,11,5],[0,0,1,6],[0,7,1,7],[0,8,0,10],[0,11,0,18],[1,8,1,10],[1,11,1,18],[19,20,20,20],[23,20,24,20],[27,20,28,20],[6,17,11,18],[2,0,11,1],[2,2,3,2],[2,3,3,5],[2,6,3,6],[2,7,2,9],[2,10,3,10],[7,3,7,5],[8,3,8,5],[2,17,3,18],[4,3,4,5],[4,17,5,18],[5,3,5,5]]}
["Karta oceny Zawodnika",null,null,null,null,null,null,{"$f":"REJESTRACJA!H36","v":33},"Nazwisko i Imię Zawodnika;",null,null,{"$f":"REJESTRACJA!D36","v":0}]
[null,null,null,null,null,null,null,null,"Model:",null,null,{"$f":"REJESTRACJA!E36","v":0}]
["OCENA STATYCZNA",null,"Lp.","Element oceniany",null,null,"K","OCENA ",null,null,"WYNIK",null,null,null,"WYNIK KOŃCOWY:",null,null,{"$f":"IF(S13>0,S13+K12,0)","v":0}]
[null,null,null,null,null,null,null,"Sędzia I","Sędzia II","Sędzia III"]
[null,null,"1.","Dokladność odwzorowania w skali:",null,null,null,null,null,null,null,null,null,null,"MIEJSCE:",null,null,{"$f":"IF($R$3>0,VLOOKUP($R$3,LISTA!$L$8:$M$37,2,FALSE),0)","v":0}]
[null,null,"1.1.","Widik z boku",null,null,{"$f":"K!$E$8","v":4},null,null,null,{"$f":"SUM(H6:J6)*G6","v":0}]
[null,null,"1.2.","Widok z góry",null,null,{"$f":"K!$E$9","v":4},null,null,null,{"$f":"SUM(H7:J7)*G7","v":0},null,null,null,"nr startowy w:",null,null,{"$f":"REJESTRACJA!H36","v":33}]
[null,null,"1.3.","Widok z przodu/tyłu",null,null,{"$f":"K!$E$10","v":4},null,null,null,0]
[null,null,"2.","Kolorystyka",null,null,{"$f":"K!$E$11","v":7},null,null,null,0,null,null,null,"F4H-P"]
[null,null,"3.","Oznakowanie",null,null,{"$f":"K!$E$12","v":4},null,null,null,0]
[null,null,"4.","Szczegóły",null,null,{"$f":"K!$E$13","v":2},null,null,null,{"$f":"SUM(H11:J11)*G11","v":0}]
[null,null,"BONUS:",null,null,null,{"$f":"IF(G13=\"x\",K!$E$15,0)","v":0},"OCENA KOŃCOWA:",null,null,{"$f":"IF(AND(K6>0,K7>0,K8>0),ROUND((SUM(K6:K11)*(1+G12)),2),0)","v":0}]
["MODEL WYKONANY OD PODSTAW:",null,null,null,null,null,null,null,null,null,null,null,null,null,"OCENA KOŃCOWA ZA LOTY:",null,null,null,{"$f":"ROUND(((K30+O30+S30)-MIN(K30,O30,S30))/2,2)","v":0}]
["OCENA LOTÓW","PROGRAM LOTU","Lp.","Manewr/figura",null,null,"K","OCENA I LOTU",null,null,"WYNIK","OCENA II LOTU",null,null,"WYNIK","OCENA III LOTU",null,null,"WYNIK"]
[null,null,null,null,null,null,null,"Sędzia I","Sędzia II","Sędzia III",null,"Sędzia I","Sędzia II","Sędzia III",null,"Sędzia I","Sędzia II","Sędzia III"]
[null,null,"1.","Start",null,null,{"$f":"K!$E$21","v":11},null,null,null,{"$f":"SUM(H16:J16)*$G16","v":0},null,null,null,{"$f":"SUM(L16:N16)*$G16","v":0},null,null,null,{"$f":"SUM(P16:R16)*$G16","v":0}]
[null,null,"2.","Pokaz dowolny",null,null,{"$f":"K!$E$22","v":7},null,null,null,{"$f":"SUM(H17:J17)*$G17","v":0},null,null,null,{"$f":"SUM(L17:N17)*$G17","v":0},null,null,null,{"$f":"SUM(P17:R17)*$G17","v":0}]
[null,null,"3.","Pokaz dowolny",null,null,{"$f":"K!$E$23","v":7},null,null,null,0,null,null,null,0,null,null,null,0]
[null,null,"4.","Pokaz dowolny",null,null,{"$f":"K!$E$24","v":7},null,null,null,0,null,null,null,0,null,null,null,0]
[null,null,"5.","Pokaz dowolny",null,null,{"$f":"K!$E$25","v":7},null,null,null,0,null,null,null,0,null,null,null,0,null,"WYNIKI"]
[null,null,"6.","Pokaz dowolny",null,null,{"$f":"K!$E$26","v":7},null,null,null,0,null,null,null,0,null,null,null,0]
[null,null,"7.","Pokaz dowolny",null,null,{"$f":"K!$E$27","v":7},null,null,null,0,null,null,null,0,null,null,null,0]
[null,null,"8.","Pokaz dowolny",null,null,{"$f":"K!$E$28","v":7},null,null,null,0,null,null,null,0,null,null,null,0]
[null,null,"9.","Pokaz dowolny",null,null,{"$f":"K!$E$29","v":7},null,null,null,0,null,null,null,0,null,null,null,0,null,"LISTA"]
[null,null,"10.","Podejscie do lądowania i lądowanie",null,null,{"$f":"K!$E$30","v":11},null,null,null,{"$f":"SUM(H25:J25)*G25","v":0},null,null,null,0,null,null,null,{"$f":"SUM(P25:R25)*G25","v":0}]
[null,"REALIZM LOTU"]
[null,null,"1.","Prezentacja lotu",null,null,{"$f":"K!$E$32","v":4},null,null,null,{"$f":"SUM(H27:J27)*$G27","v":0},null,null,null,{"$f":"SUM(L27:N27)*$G27","v":0},null,null,null,{"$f":"SUM(P27:R27)*$G27","v":0}]
[null,null,"2.","Prędkość lotu modelu",null,null,{"$f":"K!$E$33","v":9},null,null,null,{"$f":"SUM(H28:J28)*$G28","v":0},null,null,null,{"$f":"SUM(L28:N28)*$G28","v":0},null,null,null,{"$f":"SUM(P28:R28)*$G28","v":0},null,"REJESTR."]
[null,null,"3.","Płynność lotu",null,null,{"$f":"K!$E$34","v":9},null,null,null,{"$f":"SUM(H29:J29)*$G29","v":0},null,null,null,{"$f":"SUM(L29:N29)*$G29","v":0},null,null,null,{"$f":"SUM(P29:R29)*$G29","v":0}]
[null,null,null,null,null,null,null,"OCENA KOŃCOWA LOTU I:",null,null,{"$f":"SUM(K16:K25)+SUM(K27:K29)","v":0},"OCENA KOŃCOWA LOTU II:",null,null,{"$f":"SUM(O16:O25)+SUM(O27:O29)","v":0},"OCENA KOŃCOWA LOTU III:",null,null,{"$f":"SUM(S16:S25)+SUM(S27:S29)","v":0}]

{"sheet":"30","index":35,"n_rows":30,"n_cols":21,"rows_kept":30,"cut":false,"hidden":false,"merged":[[29,11,29,13],[29,15,29,17],[25,11,25,13],[25,15,25,17],[28,3,28,5],[29,0,29,6],[25,2,25,5],[25,7,25,9],[13,1,24,1],[13,0,28,0],[25,1,28,1],[27,3,27,5],[29,7,29,9],[20,3,20,5],[21,3,21,5],[22,3,22,5],[23,3,23,5],[24,3,24,5],[26,3,26,5],[19,3,19,5],[13,2,14,2],[13,18,14,18],[15,3,15,5],[16,3,16,5],[17,3,17,5],[18,3,18,5],[13,10,14,10],[13,11,13,13],[13,14,14,14],[13,15,13,17],[13,3,14,5],[13,6,14,6],[13,7,13,9],[4,14,5,16],[12,0,12,5],[12,14,12,17],[8,14,11,16],[9,3,9,5],[10,3,10,5],[11,7,11,9],[2,11,11,13],[2,14,3,16],[6,3,6,5],[6,14,7,16],[11,2,11,5],[0,0,1,6],[0,7,1,7],[0,8,0,10],[0,11,0,18],[1,8,1,10],[1,11,1,18],[19,20,20,20],[23,20,24,20],[27,20,28,20],[6,17,11,18],[2,0,11,1],[2,2,3,2],[2,3,3,5],[2,6,3,6],[2,7,2,9],[2,10,3,10],[7,3,7,5],[8,3,8,5],[2,17,3,18],[4,3,4,5],[4,17,5,18],[5,3,5,5]]}
["Karta oceny Zawodnika",null,null,null,null,null,null,{"$f":"REJESTRACJA!H37","v":33},"Nazwisko i Imię Zawodnika;",null,null,{"$f":"REJESTRACJA!D37","v":0}]
[null,null,null,null,null,null,null,null,"Model:",null,null,{"$f":"REJESTRACJA!E37","v":0}]
["OCENA STATYCZNA",null,"Lp.","Element oceniany",null,null,"K","OCENA ",null,null,"WYNIK",null,null,null,"WYNIK KOŃCOWY:",null,null,{"$f":"IF(S13>0,S13+K12,0)","v":0}]
[null,null,null,null,null,null,null,"Sędzia I","Sędzia II","Sędzia III"]
[null,null,"1.","Dokladność odwzorowania w skali:",null,null,null,null,null,null,null,null,null,null,"MIEJSCE:",null,null,{"$f":"IF($R$3>0,VLOOKUP($R$3,LISTA!$L$8:$M$37,2,FALSE),0)","v":0}]
[null,null,"1.1.","Widik z boku",null,null,{"$f":"K!$E$8","v":4},null,null,null,{"$f":"SUM(H6:J6)*G6","v":0}]
[null,null,"1.2.","Widok z góry",null,null,{"$f":"K!$E$9","v":4},null,null,null,{"$f":"SUM(H7:J7)*G7","v":0},null,null,null,"nr startowy w:",null,null,{"$f":"REJESTRACJA!H37","v":33}]
[null,null,"1.3.","Widok z przodu/tyłu",null,null,{"$f":"K!$E$10","v":4},null,null,null,0]
[null,null,"2.","Kolorystyka",null,null,{"$f":"K!$E$11","v":7},null,null,null,0,null,null,null,"F4H-P"]
[null,null,"3.","Oznakowanie",null,null,{"$f":"K!$E$12","v":4},null,null,null,0]
[null,null,"4.","Szczegóły",null,null,{"$f":"K!$E$13","v":2},null,null,null,{"$f":"SUM(H11:J11)*G11","v":0}]
[null,null,"BONUS:",null,null,null,{"$f":"IF(G13=\"x\",K!$E$15,0)","v":0},"OCENA KOŃCOWA:",null,null,{"$f":"IF(AND(K6>0,K7>0,K8>0),ROUND((SUM(K6:K11)*(1+G12)),2),0)","v":0}]
["MODEL WYKONANY OD PODSTAW:",null,null,null,null,null,null,null,null,null,null,null,null,null,"OCENA KOŃCOWA ZA LOTY:",null,null,null,{"$f":"ROUND(((K30+O30+S30)-MIN(K30,O30,S30))/2,2)","v":0}]
["OCENA LOTÓW","PROGRAM LOTU","Lp.","Manewr/figura",null,null,"K","OCENA I LOTU",null,null,"WYNIK","OCENA II LOTU",null,null,"WYNIK","OCENA III LOTU",null,null,"WYNIK"]
[null,null,null,null,null,null,null,"Sędzia I","Sędzia II","Sędzia III",null,"Sędzia I","Sędzia II","Sędzia III",null,"Sędzia I","Sędzia II","Sędzia III"]
[null,null,"1.","Start",null,null,{"$f":"K!$E$21","v":11},null,null,null,{"$f":"SUM(H16:J16)*$G16","v":0},null,null,null,{"$f":"SUM(L16:N16)*$G16","v":0},null,null,null,{"$f":"SUM(P16:R16)*$G16","v":0}]
[null,null,"2.","Pokaz dowolny",null,null,{"$f":"K!$E$22","v":7},null,null,null,{"$f":"SUM(H17:J17)*$G17","v":0},null,null,null,{"$f":"SUM(L17:N17)*$G17","v":0},null,null,null,{"$f":"SUM(P17:R17)*$G17","v":0}]
[null,null,"3.","Pokaz dowolny",null,null,{"$f":"K!$E$23","v":7},null,null,null,0,null,null,null,0,null,null,null,0]
[null,null,"4.","Pokaz dowolny",null,null,{"$f":"K!$E$24","v":7},null,null,null,0,null,null,null,0,null,null,null,0]
[null,null,"5.","Pokaz dowolny",null,null,{"$f":"K!$E$25","v":7},null,null,null,0,null,null,null,0,null,null,null,0,null,"WYNIKI"]
[null,null,"6.","Pokaz dowolny",null,null,{"$f":"K!$E$26","v":7},null,null,null,0,null,null,null,0,null,null,null,0]
[null,null,"7.","Pokaz dowolny",null,null,{"$f":"K!$E$27","v":7},null,null,null,0,null,null,null,0,null,null,null,0]
[null,null,"8.","Pokaz dowolny",null,null,{"$f":"K!$E$28","v":7},null,null,null,0,null,null,null,0,null,null,null,0]
[null,null,"9.","Pokaz dowolny",null,null,{"$f":"K!$E$29","v":7},null,null,null,0,null,null,null,0,null,null,null,0,null,"LISTA"]
[null,null,"10.","Podejscie do lądowania i lądowanie",null,null,{"$f":"K!$E$30","v":11},null,null,null,{"$f":"SUM(H25:J25)*G25","v":0},null,null,null,0,null,null,null,{"$f":"SUM(P25:R25)*G25","v":0}]
[null,"REALIZM LOTU"]
[null,null,"1.","Prezentacja lotu",null,null,{"$f":"K!$E$32","v":4},null,null,null,{"$f":"SUM(H27:J27)*$G27","v":0},null,null,null,{"$f":"SUM(L27:N27)*$G27","v":0},null,null,null,{"$f":"SUM(P27:R27)*$G27","v":0}]
[null,null,"2.","Prędkość lotu modelu",null,null,{"$f":"K!$E$33","v":9},null,null,null,{"$f":"SUM(H28:J28)*$G28","v":0},null,null,null,{"$f":"SUM(L28:N28)*$G28","v":0},null,null,null,{"$f":"SUM(P28:R28)*$G28","v":0},null,"REJESTR."]
[null,null,"3.","Płynność lotu",null,null,{"$f":"K!$E$34","v":9},null,null,null,{"$f":"SUM(H29:J29)*$G29","v":0},null,null,null,{"$f":"SUM(L29:N29)*$G29","v":0},null,null,null,{"$f":"SUM(P29:R29)*$G29","v":0}]
[null,null,null,null,null,null,null,"OCENA KOŃCOWA LOTU I:",null,null,{"$f":"SUM(K16:K25)+SUM(K27:K29)","v":0},"OCENA KOŃCOWA LOTU II:",null,null,{"$f":"SUM(O16:O25)+SUM(O27:O29)","v":0},"OCENA KOŃCOWA LOTU III:",null,null,{"$f":"SUM(S16:S25)+SUM(S27:S29)","v":0}]

{"sheet":"31","index":36,"n_rows":30,"n_cols":21,"rows_kept":30,"cut":false,"hidden":false,"merged":[[29,11,29,13],[29,15,29,17],[25,11,25,13],[25,15,25,17],[28,3,28,5],[29,0,29,6],[25,2,25,5],[25,7,25,9],[13,1,24,1],[13,0,28,0],[25,1,28,1],[27,3,27,5],[29,7,29,9],[20,3,20,5],[21,3,21,5],[22,3,22,5],[23,3,23,5],[24,3,24,5],[26,3,26,5],[19,3,19,5],[13,2,14,2],[13,18,14,18],[15,3,15,5],[16,3,16,5],[17,3,17,5],[18,3,18,5],[13,10,14,10],[13,11,13,13],[13,14,14,14],[13,15,13,17],[13,3,14,5],[13,6,14,6],[13,7,13,9],[4,14,5,16],[12,0,12,5],[12,14,12,17],[8,14,11,16],[9,3,9,5],[10,3,10,5],[11,7,11,9],[2,11,11,13],[2,14,3,16],[6,3,6,5],[6,14,7,16],[11,2,11,5],[0,0,1,6],[0,7,1,7],[0,8,0,10],[0,11,0,18],[1,8,1,10],[1,11,1,18],[19,20,20,20],[23,20,24,20],[27,20,28,20],[6,17,11,18],[2,0,11,1],[2,2,3,2],[2,3,3,5],[2,6,3,6],[2,7,2,9],[2,10,3,10],[7,3,7,5],[8,3,8,5],[2,17,3,18],[4,3,4,5],[4,17,5,18],[5,3,5,5]]}
["Karta oceny Zawodnika",null,null,null,null,null,null,{"$f":"REJESTRACJA!H8","v":33},"Nazwisko i Imię Zawodnika;",null,null,{"$f":"REJESTRACJA!D8","v":0}]
[null,null,null,null,null,null,null,null,"Model:",null,null,{"$f":"REJESTRACJA!E8","v":0}]
["OCENA STATYCZNA",null,"Lp.","Element oceniany",null,null,"K","OCENA ",null,null,"WYNIK",null,null,null,"WYNIK KOŃCOWY:",null,null,{"$f":"IF(S13>0,S13+K12,0)","v":0}]
[null,null,null,null,null,null,null,"Sędzia I","Sędzia II","Sędzia III"]
[null,null,"1.","Dokladność odwzorowania w skali:",null,null,null,null,null,null,null,null,null,null,"MIEJSCE:",null,null,{"$f":"IF($R$3>0,VLOOKUP($R$3,LISTA!$L$8:$M$37,2,FALSE),0)","v":0}]
[null,null,"1.1.","Widik z boku",null,null,{"$f":"K!$E$8","v":4},null,null,null,{"$f":"SUM(H6:J6)*G6","v":0}]
[null,null,"1.2.","Widok z góry",null,null,{"$f":"K!$E$9","v":4},null,null,null,{"$f":"SUM(H7:J7)*G7","v":0},null,null,null,"nr startowy w:",null,null,{"$f":"REJESTRACJA!H8","v":33}]
[null,null,"1.3.","Widok z przodu/tyłu",null,null,{"$f":"K!$E$10","v":4},null,null,null,0]
[null,null,"2.","Kolorystyka",null,null,{"$f":"K!$E$11","v":7},null,null,null,0,null,null,null,"F4H-P"]
[null,null,"3.","Oznakowanie",null,null,{"$f":"K!$E$12","v":4},null,null,null,0]
[null,null,"4.","Szczegóły",null,null,{"$f":"K!$E$13","v":2},null,null,null,{"$f":"SUM(H11:J11)*G11","v":0}]
[null,null,"BONUS:",null,null,null,{"$f":"IF(G13=\"x\",K!$E$15,0)","v":0},"OCENA KOŃCOWA:",null,null,{"$f":"IF(AND(K6>0,K7>0,K8>0),ROUND((SUM(K6:K11)*(1+G12)),2),0)","v":0}]
["MODEL WYKONANY OD PODSTAW:",null,null,null,null,null,null,null,null,null,null,null,null,null,"OCENA KOŃCOWA ZA LOTY:",null,null,null,{"$f":"ROUND(((K30+O30+S30)-MIN(K30,O30,S30))/2,2)","v":0}]
["OCENA LOTÓW","PROGRAM LOTU","Lp.","Manewr/figura",null,null,"K","OCENA I LOTU",null,null,"WYNIK","OCENA II LOTU",null,null,"WYNIK","OCENA III LOTU",null,null,"WYNIK"]
[null,null,null,null,null,null,null,"Sędzia I","Sędzia II","Sędzia III",null,"Sędzia I","Sędzia II","Sędzia III",null,"Sędzia I","Sędzia II","Sędzia III"]
[null,null,"1.","Start",null,null,{"$f":"K!$E$21","v":11},null,null,null,{"$f":"SUM(H16:J16)*$G16","v":0},null,null,null,{"$f":"SUM(L16:N16)*$G16","v":0},null,null,null,{"$f":"SUM(P16:R16)*$G16","v":0}]
[null,null,"2.","Pokaz dowolny",null,null,{"$f":"K!$E$22","v":7},null,null,null,{"$f":"SUM(H17:J17)*$G17","v":0},null,null,null,{"$f":"SUM(L17:N17)*$G17","v":0},null,null,null,0]
[null,null,"3.","Pokaz dowolny",null,null,{"$f":"K!$E$23","v":7},null,null,null,0,null,null,null,0,null,null,null,0]
[null,null,"4.","Pokaz dowolny",null,null,{"$f":"K!$E$24","v":7},null,null,null,0,null,null,null,0,null,null,null,0]
[null,null,"5.","Pokaz dowolny",null,null,{"$f":"K!$E$25","v":7},null,null,null,0,null,null,null,0,null,null,null,0,null,"WYNIKI"]
[null,null,"6.","Pokaz dowolny",null,null,{"$f":"K!$E$26","v":7},null,null,null,0,null,null,null,0,null,null,null,0]
[null,null,"7.","Pokaz dowolny",null,null,{"$f":"K!$E$27","v":7},null,null,null,0,null,null,null,0,null,null,null,0]
[null,null,"8.","Pokaz dowolny",null,null,{"$f":"K!$E$28","v":7},null,null,null,0,null,null,null,0,null,null,null,0]
[null,null,"9.","Pokaz dowolny",null,null,{"$f":"K!$E$29","v":7},null,null,null,0,null,null,null,0,null,null,null,0,null,"LISTA"]
[null,null,"10.","Podejscie do lądowania i lądowanie",null,null,{"$f":"K!$E$30","v":11},null,null,null,{"$f":"SUM(H25:J25)*G25","v":0},null,null,null,0,null,null,null,{"$f":"SUM(P25:R25)*G25","v":0}]
[null,"REALIZM LOTU"]
[null,null,"1.","Prezentacja lotu",null,null,{"$f":"K!$E$32","v":4},null,null,null,{"$f":"SUM(H27:J27)*$G27","v":0},null,null,null,{"$f":"SUM(L27:N27)*$G27","v":0},null,null,null,{"$f":"SUM(P27:R27)*$G27","v":0}]
[null,null,"2.","Prędkość lotu modelu",null,null,{"$f":"K!$E$33","v":9},null,null,null,{"$f":"SUM(H28:J28)*$G28","v":0},null,null,null,{"$f":"SUM(L28:N28)*$G28","v":0},null,null,null,{"$f":"SUM(P28:R28)*$G28","v":0},null,"REJESTR."]
[null,null,"3.","Płynność lotu",null,null,{"$f":"K!$E$34","v":9},null,null,null,{"$f":"SUM(H29:J29)*$G29","v":0},null,null,null,{"$f":"SUM(L29:N29)*$G29","v":0},null,null,null,{"$f":"SUM(P29:R29)*$G29","v":0}]
[null,null,null,null,null,null,null,"OCENA KOŃCOWA LOTU I:",null,null,{"$f":"SUM(K16:K25)+SUM(K27:K29)","v":0},"OCENA KOŃCOWA LOTU II:",null,null,{"$f":"SUM(O16:O25)+SUM(O27:O29)","v":0},"OCENA KOŃCOWA LOTU III:",null,null,{"$f":"SUM(S16:S25)+SUM(S27:S29)","v":0}]